Workbook
Name L_类别: 参数表!$B$12:$B$14
Name L_提出方: 参数表!$A$12:$A$13
Name L_状态: 参数表!$C$12:$C$15
Name L_资料: 参数表!$D$12:$D$14

Sheet 意见跟踪表
A1: 技术协议及图纸认可意见跟踪表（导出 2026-11-06 00:20，共 189 条） | G1: 统计（自动）： | H1: 意见总数 | I1: =COUNTA($G$5:$G$1004) | J1: 未关闭 | K1: =SUMPRODUCT(($M$5:$M$1004<>"已关闭")*($M$5:$M$1004<>"")) | L1: A类未关闭 | M1: =SUMPRODUCT(($H$5:$H$1004="A")*($M$5:$M$1004<>"已关闭")*($M$5:$M$1004<>"")) | N1: B类未关闭 | O1: =SUMPRODUCT(($H$5:$H$1004="B")*($M$5:$M$1004<>"已关闭")*($M$5:$M$1004<>"")) | P1: C类未关闭 | Q1: =SUMPRODUCT(($H$5:$H$1004="C")*($M$5:$M$1004<>"已关闭")*($M$5:$M$1004<>"")) | R1: 回复超期 | S1: =SUMPRODUCT(($K$5:$K$1004="")*ISNUMBER($J$5:$J$1004)*($J$5:$J$1004<TODAY())*($M$5:$M$1004<>"已关闭")*($M$5:$M$1004<>"")) | V1: 图例：红=回复超期/缺资料；黄=临期或未关闭；浅橙=迟复；灰底=公式
A2: 编号 | B2: 协议编号 | C2: 设备名称 | D2: 厂家名称 | E2: 技术协议认可阶段 | N2: TA 下发 | P2: 定标计划 | R2: 图纸认可阶段
E3: 意见提出方 | F3: 提出时间 | G3: 意见内容 | H3: 意见类别 | I3: 责任人 | J3: 要求回复时间 | K3: 实际回复时间 | L3: 回复意见 | M3: 关闭状态 | N3: 计划下发时间 | O3: 实际下发时间 | P3: 计划时间 | Q3: 实际时间 | R3: 认可资料 | V3: 备注 | W3: 认可函时间
R4: 外形图 | S4: 总装图 | T4: 管系接口资料 | U4: 电气接口资料
A5: TA-0001 | B5: DEMO-TA-A014-01 | C5: 救生筏 Life rafts | D5: 厂家A | E5: 船东 | F5: 46222 | G5: 救生筏及静水压力释放器须在船旗国主管机关和厂家认可的服务站检修 Please note that the inflatable liferafts should be serviced at servicing stations approved by the Flag State Administration and the manufacturer. Same applies to the Hydrostatic release units. | H5: C | J5: =IF(OR($H5="",NOT(ISNUMBER(IF(ISNUMBER($F5),$F5,IFERROR(--SUBSTITUTE($F5,".","/"),""))))),"",IF(AND($H5="A",ISNUMBER(IF(ISNUMBER($P5),$P5,IFERROR(--SUBSTITUTE($P5,".","/"),""))),IF(ISNUMBER($P5),$P5,IFERROR(--SUBSTITUTE($P5,".","/"),""))>=IF(ISNUMBER($F5),$F5,IFERROR(--SUBSTITUTE($F5,".","/"),""))),MIN(IF(ISNUMBER($F5),$F5,IFERROR(--SUBSTITUTE($F5,".","/"),""))+INDEX(参数表!$B$4:$B$6,MATCH($H5,参数表!$A$4:$A$6,0)),IF(ISNUMBER($P5),$P5,IFERROR(--SUBSTITUTE($P5,".","/"),""))),IF(ISNUMBER($F5),$F5,IFERROR(--SUBSTITUTE($F5,".","/"),""))+INDEX(参数表!$B$4:$B$6,MATCH($H5,参数表!$A$4:$A$6,0)))) | K5: 46225 | L5: 厂家A: Confirmed | M5: 已关闭 | N5: 46213 | O5: 46213 | P5: 46241 | Q5: 46244 | R5: √ | S5: √ | T5: √ | U5: √ | V5: 中标厂家 | W5: 46299
A6: TA-0002 | B6: DEMO-TA-A014-01 | C6: 救生筏 Life rafts | D6: 厂家A | E6: 船东 | F6: 46222 | G6: 按船旗国要求，救生筏筒体加标船名、船籍港及登记号（对比色字体） In addition to the markings required under LSA Code 4.2.6.3, the name, port and number of the registry of the ship should be marked on the container of the inflatable liferaft. Each letter should be of a color contrasting with that of the container. These markings are required of all ships of this flag. | H6: B | J6: =IF(OR($H6="",NOT(ISNUMBER(IF(ISNUMBER($F6),$F6,IFERROR(--SUBSTITUTE($F6,".","/"),""))))),"",IF(AND($H6="A",ISNUMBER(IF(ISNUMBER($P6),$P6,IFERROR(--SUBSTITUTE($P6,".","/"),""))),IF(ISNUMBER($P6),$P6,IFERROR(--SUBSTITUTE($P6,".","/"),""))>=IF(ISNUMBER($F6),$F6,IFERROR(--SUBSTITUTE($F6,".","/"),""))),MIN(IF(ISNUMBER($F6),$F6,IFERROR(--SUBSTITUTE($F6,".","/"),""))+INDEX(参数表!$B$4:$B$6,MATCH($H6,参数表!$A$4:$A$6,0)),IF(ISNUMBER($P6),$P6,IFERROR(--SUBSTITUTE($P6,".","/"),""))),IF(ISNUMBER($F6),$F6,IFERROR(--SUBSTITUTE($F6,".","/"),""))+INDEX(参数表!$B$4:$B$6,MATCH($H6,参数表!$A$4:$A$6,0)))) | K6: 46226 | L6: 厂家A: Confirmed | M6: 已关闭 | N6: 46213 | O6: 46213 | P6: 46241 | Q6: 46244 | R6: √ | S6: √ | T6: √ | U6: √ | V6: 中标厂家 | W6: 46299
A7: TA-0003 | B7: DEMO-TA-A014-01 | C7: 救生筏 Life rafts | D7: 厂家A | E7: 船东 | F7: 46223 | G7: 质保期须为交船后12个月，请确认 The warranty period shall be kept valid for twelve (12) months after the date of the Vessel Delivery. Please confirm | H7: A | J7: =IF(OR($H7="",NOT(ISNUMBER(IF(ISNUMBER($F7),$F7,IFERROR(--SUBSTITUTE($F7,".","/"),""))))),"",IF(AND($H7="A",ISNUMBER(IF(ISNUMBER($P7),$P7,IFERROR(--SUBSTITUTE($P7,".","/"),""))),IF(ISNUMBER($P7),$P7,IFERROR(--SUBSTITUTE($P7,".","/"),""))>=IF(ISNUMBER($F7),$F7,IFERROR(--SUBSTITUTE($F7,".","/"),""))),MIN(IF(ISNUMBER($F7),$F7,IFERROR(--SUBSTITUTE($F7,".","/"),""))+INDEX(参数表!$B$4:$B$6,MATCH($H7,参数表!$A$4:$A$6,0)),IF(ISNUMBER($P7),$P7,IFERROR(--SUBSTITUTE($P7,".","/"),""))),IF(ISNUMBER($F7),$F7,IFERROR(--SUBSTITUTE($F7,".","/"),""))+INDEX(参数表!$B$4:$B$6,MATCH($H7,参数表!$A$4:$A$6,0)))) | K7: 46224 | L7: 厂家A: Confirmed | M7: 已关闭 | N7: 46213 | O7: 46213 | P7: 46241 | Q7: 46244 | R7: √ | S7: √ | T7: √ | U7: √ | V7: 中标厂家 | W7: 46299
A8: TA-0004 | B8: DEMO-TA-A014-01 | C8: 救生筏 Life rafts | D8: 厂家A | E8: 船东 | F8: 46223 | G8: 核实是否持有 ABS 船级社证书 Page 11: Verify if you hold ABS Class certificate | H8: C | J8: =IF(OR($H8="",NOT(ISNUMBER(IF(ISNUMBER($F8),$F8,IFERROR(--SUBSTITUTE($F8,".","/"),""))))),"",IF(AND($H8="A",ISNUMBER(IF(ISNUMBER($P8),$P8,IFERROR(--SUBSTITUTE($P8,".","/"),""))),IF(ISNUMBER($P8),$P8,IFERROR(--SUBSTITUTE($P8,".","/"),""))>=IF(ISNUMBER($F8),$F8,IFERROR(--SUBSTITUTE($F8,".","/"),""))),MIN(IF(ISNUMBER($F8),$F8,IFERROR(--SUBSTITUTE($F8,".","/"),""))+INDEX(参数表!$B$4:$B$6,MATCH($H8,参数表!$A$4:$A$6,0)),IF(ISNUMBER($P8),$P8,IFERROR(--SUBSTITUTE($P8,".","/"),""))),IF(ISNUMBER($F8),$F8,IFERROR(--SUBSTITUTE($F8,".","/"),""))+INDEX(参数表!$B$4:$B$6,MATCH($H8,参数表!$A$4:$A$6,0)))) | K8: 46226 | L8: 厂家A: MED certificate is issued by DNV, but ABS will accpet it | M8: 已关闭 | N8: 46213 | O8: 46213 | P8: 46241 | Q8: 46244 | R8: √ | S8: √ | T8: √ | U8: √ | V8: 中标厂家 | W8: 46299
A9: TA-0005 | B9: DEMO-TA-A014-02 | C9: 救生筏 Life rafts | D9: 厂家B | E9: 船东 | F9: 46329 | G9: 明确静水压力释放器厂家及认证 Item 2: Hydrostatic releasing unit, maker and certification to be specified | H9: C | J9: =IF(OR($H9="",NOT(ISNUMBER(IF(ISNUMBER($F9),$F9,IFERROR(--SUBSTITUTE($F9,".","/"),""))))),"",IF(AND($H9="A",ISNUMBER(IF(ISNUMBER($P9),$P9,IFERROR(--SUBSTITUTE($P9,".","/"),""))),IF(ISNUMBER($P9),$P9,IFERROR(--SUBSTITUTE($P9,".","/"),""))>=IF(ISNUMBER($F9),$F9,IFERROR(--SUBSTITUTE($F9,".","/"),""))),MIN(IF(ISNUMBER($F9),$F9,IFERROR(--SUBSTITUTE($F9,".","/"),""))+INDEX(参数表!$B$4:$B$6,MATCH($H9,参数表!$A$4:$A$6,0)),IF(ISNUMBER($P9),$P9,IFERROR(--SUBSTITUTE($P9,".","/"),""))),IF(ISNUMBER($F9),$F9,IFERROR(--SUBSTITUTE($F9,".","/"),""))+INDEX(参数表!$B$4:$B$6,MATCH($H9,参数表!$A$4:$A$6,0)))) | M9: 待回复 | N9: 46303 | O9: 46306 | P9: 46336
A10: TA-0006 | B10: DEMO-TA-A014-02 | C10: 救生筏 Life rafts | D10: 厂家B | E10: 船东 | F10: 46323 | G10: 提供不锈钢收放操作说明牌（正常及应急） Item 5: Instruction signs (stainless steel) to be provided for the operation procedure of launch and recovery (normal and emergency) | H10: B | J10: =IF(OR($H10="",NOT(ISNUMBER(IF(ISNUMBER($F10),$F10,IFERROR(--SUBSTITUTE($F10,".","/"),""))))),"",IF(AND($H10="A",ISNUMBER(IF(ISNUMBER($P10),$P10,IFERROR(--SUBSTITUTE($P10,".","/"),""))),IF(ISNUMBER($P10),$P10,IFERROR(--SUBSTITUTE($P10,".","/"),""))>=IF(ISNUMBER($F10),$F10,IFERROR(--SUBSTITUTE($F10,".","/"),""))),MIN(IF(ISNUMBER($F10),$F10,IFERROR(--SUBSTITUTE($F10,".","/"),""))+INDEX(参数表!$B$4:$B$6,MATCH($H10,参数表!$A$4:$A$6,0)),IF(ISNUMBER($P10),$P10,IFERROR(--SUBSTITUTE($P10,".","/"),""))),IF(ISNUMBER($F10),$F10,IFERROR(--SUBSTITUTE($F10,".","/"),""))+INDEX(参数表!$B$4:$B$6,MATCH($H10,参数表!$A$4:$A$6,0)))) | M10: 待回复 | N10: 46303 | O10: 46306 | P10: 46336
A11: TA-0007 | B11: DEMO-TA-A014-02 | C11: 救生筏 Life rafts | D11: 厂家B | E11: 船东 | F11: 46320 | G11: 质保期须为交船后12个月，不接受到货后18个月 Item F: The warranty period shall be kept valid for twelve (12) months after the date of the Vessel Delivery. 18 months upon delivery of goods is not acceptable by the Owner. | H11: A | J11: =IF(OR($H11="",NOT(ISNUMBER(IF(ISNUMBER($F11),$F11,IFERROR(--SUBSTITUTE($F11,".","/"),""))))),"",IF(AND($H11="A",ISNUMBER(IF(ISNUMBER($P11),$P11,IFERROR(--SUBSTITUTE($P11,".","/"),""))),IF(ISNUMBER($P11),$P11,IFERROR(--SUBSTITUTE($P11,".","/"),""))>=IF(ISNUMBER($F11),$F11,IFERROR(--SUBSTITUTE($F11,".","/"),""))),MIN(IF(ISNUMBER($F11),$F11,IFERROR(--SUBSTITUTE($F11,".","/"),""))+INDEX(参数表!$B$4:$B$6,MATCH($H11,参数表!$A$4:$A$6,0)),IF(ISNUMBER($P11),$P11,IFERROR(--SUBSTITUTE($P11,".","/"),""))),IF(ISNUMBER($F11),$F11,IFERROR(--SUBSTITUTE($F11,".","/"),""))+INDEX(参数表!$B$4:$B$6,MATCH($H11,参数表!$A$4:$A$6,0)))) | K11: 46323 | L11: "We cannot accept just twelve (12) months after the date of the Vessel Delivery as this is an open clause and we don’t know when the vessel will be delivered, if the vessel delivery is postponed, such as postponed 3 years or even longer, we cannot afford the risk and extra cost. As a compromise, we propose ""The guarantee period shall be 12 months counting from the date on which the Buyer delivers the vessel to the Ship Owner, or 24 months after delivery of the contracted goods, whichever is earlier""" 【船东反馈】Noted. Aggre please revise | M11: 已关闭 | N11: 46303 | O11: 46306 | P11: 46336
A12: TA-0008 | B12: DEMO-TA-A014-02 | C12: 救生筏 Life rafts | D12: 厂家B | E12: 船东 | F12: 46321 | G12: 救生筏及静水压力释放器须在船旗国主管机关和厂家认可的服务站检修 Please note that the inflatable liferafts should be serviced at servicing stations approved by the Flag State Administration and the manufacturer. Same applies to the Hydrostatic release units. | H12: C | J12: =IF(OR($H12="",NOT(ISNUMBER(IF(ISNUMBER($F12),$F12,IFERROR(--SUBSTITUTE($F12,".","/"),""))))),"",IF(AND($H12="A",ISNUMBER(IF(ISNUMBER($P12),$P12,IFERROR(--SUBSTITUTE($P12,".","/"),""))),IF(ISNUMBER($P12),$P12,IFERROR(--SUBSTITUTE($P12,".","/"),""))>=IF(ISNUMBER($F12),$F12,IFERROR(--SUBSTITUTE($F12,".","/"),""))),MIN(IF(ISNUMBER($F12),$F12,IFERROR(--SUBSTITUTE($F12,".","/"),""))+INDEX(参数表!$B$4:$B$6,MATCH($H12,参数表!$A$4:$A$6,0)),IF(ISNUMBER($P12),$P12,IFERROR(--SUBSTITUTE($P12,".","/"),""))),IF(ISNUMBER($F12),$F12,IFERROR(--SUBSTITUTE($F12,".","/"),""))+INDEX(参数表!$B$4:$B$6,MATCH($H12,参数表!$A$4:$A$6,0)))) | K12: 46326 | L12: Confirm | M12: 已认可待落实 | N12: 46303 | O12: 46306 | P12: 46336
A13: TA-0009 | B13: DEMO-TA-A014-02 | C13: 救生筏 Life rafts | D13: 厂家B | E13: 船东 | F13: 46321 | G13: 按船旗国要求，救生筏筒体加标船名、船籍港及登记号（对比色字体） In addition to the markings required under LSA Code 4.2.6.3, the name, port and number of the registry of the ship should be marked on the container of the inflatable liferaft. Each letter should be of a color contrasting with that of the container. These markings are required of all ships of this flag. | H13: B | J13: =IF(OR($H13="",NOT(ISNUMBER(IF(ISNUMBER($F13),$F13,IFERROR(--SUBSTITUTE($F13,".","/"),""))))),"",IF(AND($H13="A",ISNUMBER(IF(ISNUMBER($P13),$P13,IFERROR(--SUBSTITUTE($P13,".","/"),""))),IF(ISNUMBER($P13),$P13,IFERROR(--SUBSTITUTE($P13,".","/"),""))>=IF(ISNUMBER($F13),$F13,IFERROR(--SUBSTITUTE($F13,".","/"),""))),MIN(IF(ISNUMBER($F13),$F13,IFERROR(--SUBSTITUTE($F13,".","/"),""))+INDEX(参数表!$B$4:$B$6,MATCH($H13,参数表!$A$4:$A$6,0)),IF(ISNUMBER($P13),$P13,IFERROR(--SUBSTITUTE($P13,".","/"),""))),IF(ISNUMBER($F13),$F13,IFERROR(--SUBSTITUTE($F13,".","/"),""))+INDEX(参数表!$B$4:$B$6,MATCH($H13,参数表!$A$4:$A$6,0)))) | K13: 46326 | L13: Confirm | M13: 已回复待确认 | N13: 46303 | O13: 46306 | P13: 46336
A14: TA-0010 | B14: DEMO-TA-A014-02 | C14: 救生筏 Life rafts | D14: 厂家B | E14: 船东 | F14: 46331 | G14: 核实是否持有 ABS 船级社证书 Verify if you hold ABS Class certificate | H14: C | J14: =IF(OR($H14="",NOT(ISNUMBER(IF(ISNUMBER($F14),$F14,IFERROR(--SUBSTITUTE($F14,".","/"),""))))),"",IF(AND($H14="A",ISNUMBER(IF(ISNUMBER($P14),$P14,IFERROR(--SUBSTITUTE($P14,".","/"),""))),IF(ISNUMBER($P14),$P14,IFERROR(--SUBSTITUTE($P14,".","/"),""))>=IF(ISNUMBER($F14),$F14,IFERROR(--SUBSTITUTE($F14,".","/"),""))),MIN(IF(ISNUMBER($F14),$F14,IFERROR(--SUBSTITUTE($F14,".","/"),""))+INDEX(参数表!$B$4:$B$6,MATCH($H14,参数表!$A$4:$A$6,0)),IF(ISNUMBER($P14),$P14,IFERROR(--SUBSTITUTE($P14,".","/"),""))),IF(ISNUMBER($F14),$F14,IFERROR(--SUBSTITUTE($F14,".","/"),""))+INDEX(参数表!$B$4:$B$6,MATCH($H14,参数表!$A$4:$A$6,0)))) | M14: 待回复 | N14: 46303 | O14: 46306 | P14: 46336
A15: TA-0011 | B15: DEMO-TA-A014-02 | C15: 救生筏 Life rafts | D15: 厂家B | E15: 船东 | F15: 46325 | G15: 救生筏架及释放臂材料未明确，应为镀锌，请确认 Page 17 / Liferaft Rack: Material of the liferaft rack and deployment arm is not specified. Should be galvanised, please confirm | H15: B | J15: =IF(OR($H15="",NOT(ISNUMBER(IF(ISNUMBER($F15),$F15,IFERROR(--SUBSTITUTE($F15,".","/"),""))))),"",IF(AND($H15="A",ISNUMBER(IF(ISNUMBER($P15),$P15,IFERROR(--SUBSTITUTE($P15,".","/"),""))),IF(ISNUMBER($P15),$P15,IFERROR(--SUBSTITUTE($P15,".","/"),""))>=IF(ISNUMBER($F15),$F15,IFERROR(--SUBSTITUTE($F15,".","/"),""))),MIN(IF(ISNUMBER($F15),$F15,IFERROR(--SUBSTITUTE($F15,".","/"),""))+INDEX(参数表!$B$4:$B$6,MATCH($H15,参数表!$A$4:$A$6,0)),IF(ISNUMBER($P15),$P15,IFERROR(--SUBSTITUTE($P15,".","/"),""))),IF(ISNUMBER($F15),$F15,IFERROR(--SUBSTITUTE($F15,".","/"),""))+INDEX(参数表!$B$4:$B$6,MATCH($H15,参数表!$A$4:$A$6,0)))) | M15: 待回复 | N15: 46303 | O15: 46306 | P15: 46336
A16: TA-0012 | B16: DEMO-TA-A015-01 | C16: 救生筏吊架 Liferaft Davits | D16: 厂家C | E16: 船东 | F16: 46189 | G16: 船旗国为船旗国，TA 须体现并满足船旗国要求 Vessel's flag state is specified by the Owner. Please capture this at the TA and comply with the prerequisites of the flag state, where necessary. | H16: B | J16: =IF(OR($H16="",NOT(ISNUMBER(IF(ISNUMBER($F16),$F16,IFERROR(--SUBSTITUTE($F16,".","/"),""))))),"",IF(AND($H16="A",ISNUMBER(IF(ISNUMBER($P16),$P16,IFERROR(--SUBSTITUTE($P16,".","/"),""))),IF(ISNUMBER($P16),$P16,IFERROR(--SUBSTITUTE($P16,".","/"),""))>=IF(ISNUMBER($F16),$F16,IFERROR(--SUBSTITUTE($F16,".","/"),""))),MIN(IF(ISNUMBER($F16),$F16,IFERROR(--SUBSTITUTE($F16,".","/"),""))+INDEX(参数表!$B$4:$B$6,MATCH($H16,参数表!$A$4:$A$6,0)),IF(ISNUMBER($P16),$P16,IFERROR(--SUBSTITUTE($P16,".","/"),""))),IF(ISNUMBER($F16),$F16,IFERROR(--SUBSTITUTE($F16,".","/"),""))+INDEX(参数表!$B$4:$B$6,MATCH($H16,参数表!$A$4:$A$6,0)))) | K16: 46194 | L16: The details pertaining to the flag state have been duly specified on the front page of the Technical Agreement. | M16: 已关闭 | N16: 46182 | O16: 46185 | P16: 46214 | Q16: 46214 | R16: √ | S16: √ | T16: √ | U16: √ | V16: 中标厂家 | W16: 46256
A17: TA-0013 | B17: DEMO-TA-A015-01 | C17: 救生筏吊架 Liferaft Davits | D17: 厂家C | E17: 船东 | F17: 46189 | G17: 核实是否持有 ABS 船级社证书 Please verify if you hold ABS Class certificate | H17: C | J17: =IF(OR($H17="",NOT(ISNUMBER(IF(ISNUMBER($F17),$F17,IFERROR(--SUBSTITUTE($F17,".","/"),""))))),"",IF(AND($H17="A",ISNUMBER(IF(ISNUMBER($P17),$P17,IFERROR(--SUBSTITUTE($P17,".","/"),""))),IF(ISNUMBER($P17),$P17,IFERROR(--SUBSTITUTE($P17,".","/"),""))>=IF(ISNUMBER($F17),$F17,IFERROR(--SUBSTITUTE($F17,".","/"),""))),MIN(IF(ISNUMBER($F17),$F17,IFERROR(--SUBSTITUTE($F17,".","/"),""))+INDEX(参数表!$B$4:$B$6,MATCH($H17,参数表!$A$4:$A$6,0)),IF(ISNUMBER($P17),$P17,IFERROR(--SUBSTITUTE($P17,".","/"),""))),IF(ISNUMBER($F17),$F17,IFERROR(--SUBSTITUTE($F17,".","/"),""))+INDEX(参数表!$B$4:$B$6,MATCH($H17,参数表!$A$4:$A$6,0)))) | K17: 46191 | L17: only MED certificate can be provided. | M17: 已关闭 | N17: 46182 | O17: 46185 | P17: 46214 | Q17: 46214 | R17: √ | S17: √ | T17: √ | U17: √ | V17: 中标厂家 | W17: 46256
A18: TA-0014 | B18: DEMO-TA-A015-01 | C18: 救生筏吊架 Liferaft Davits | D18: 厂家C | E18: 船东 | F18: 46189 | G18: 涂装仅含底漆，须明确完整涂层体系（各道涂层及类型） Page 12 / 2: Please clarify why the coating system includes primer only. Compete paint system (all coats and types) to be specified | H18: B | J18: =IF(OR($H18="",NOT(ISNUMBER(IF(ISNUMBER($F18),$F18,IFERROR(--SUBSTITUTE($F18,".","/"),""))))),"",IF(AND($H18="A",ISNUMBER(IF(ISNUMBER($P18),$P18,IFERROR(--SUBSTITUTE($P18,".","/"),""))),IF(ISNUMBER($P18),$P18,IFERROR(--SUBSTITUTE($P18,".","/"),""))>=IF(ISNUMBER($F18),$F18,IFERROR(--SUBSTITUTE($F18,".","/"),""))),MIN(IF(ISNUMBER($F18),$F18,IFERROR(--SUBSTITUTE($F18,".","/"),""))+INDEX(参数表!$B$4:$B$6,MATCH($H18,参数表!$A$4:$A$6,0)),IF(ISNUMBER($P18),$P18,IFERROR(--SUBSTITUTE($P18,".","/"),""))),IF(ISNUMBER($F18),$F18,IFERROR(--SUBSTITUTE($F18,".","/"),""))+INDEX(参数表!$B$4:$B$6,MATCH($H18,参数表!$A$4:$A$6,0)))) | K18: 46192 | L18: Will be provided for delivery of the topcoat. | M18: 已关闭 | N18: 46182 | O18: 46185 | P18: 46214 | Q18: 46214 | R18: √ | S18: √ | T18: √ | U18: √ | V18: 中标厂家 | W18: 46256
A19: TA-0015 | B19: DEMO-TA-A015-02 | C19: 救生筏吊架 Liferaft Davits | D19: 厂家D | E19: 船东 | F19: 46186 | G19: TA 须明确质保期起算日期 TA to specify the warranty starting date | H19: A | J19: =IF(OR($H19="",NOT(ISNUMBER(IF(ISNUMBER($F19),$F19,IFERROR(--SUBSTITUTE($F19,".","/"),""))))),"",IF(AND($H19="A",ISNUMBER(IF(ISNUMBER($P19),$P19,IFERROR(--SUBSTITUTE($P19,".","/"),""))),IF(ISNUMBER($P19),$P19,IFERROR(--SUBSTITUTE($P19,".","/"),""))>=IF(ISNUMBER($F19),$F19,IFERROR(--SUBSTITUTE($F19,".","/"),""))),MIN(IF(ISNUMBER($F19),$F19,IFERROR(--SUBSTITUTE($F19,".","/"),""))+INDEX(参数表!$B$4:$B$6,MATCH($H19,参数表!$A$4:$A$6,0)),IF(ISNUMBER($P19),$P19,IFERROR(--SUBSTITUTE($P19,".","/"),""))),IF(ISNUMBER($F19),$F19,IFERROR(--SUBSTITUTE($F19,".","/"),""))+INDEX(参数表!$B$4:$B$6,MATCH($H19,参数表!$A$4:$A$6,0)))) | K19: 46189 | L19: The warranty period shall commence on the date of the vessel’s delivery and remain valid for a period of twelve (12) months. | M19: 已关闭 | N19: 46173 | O19: 46177 | P19: 46203 | Q19: 46202 | V19: 未中标厂家（定标前澄清意见）
A20: TA-0016 | B20: DEMO-TA-A015-02 | C20: 救生筏吊架 Liferaft Davits | D20: 厂家D | E20: 船东 | F20: 46186 | G20: 船旗国为船旗国（目前为中文），TA 须体现并满足船旗国要求 Vessel's flag state is specified by the Owner (currently in Chinese). Please capture this at the TA and comply with the prerequisites of the flag state, where necessary. | H20: B | J20: =IF(OR($H20="",NOT(ISNUMBER(IF(ISNUMBER($F20),$F20,IFERROR(--SUBSTITUTE($F20,".","/"),""))))),"",IF(AND($H20="A",ISNUMBER(IF(ISNUMBER($P20),$P20,IFERROR(--SUBSTITUTE($P20,".","/"),""))),IF(ISNUMBER($P20),$P20,IFERROR(--SUBSTITUTE($P20,".","/"),""))>=IF(ISNUMBER($F20),$F20,IFERROR(--SUBSTITUTE($F20,".","/"),""))),MIN(IF(ISNUMBER($F20),$F20,IFERROR(--SUBSTITUTE($F20,".","/"),""))+INDEX(参数表!$B$4:$B$6,MATCH($H20,参数表!$A$4:$A$6,0)),IF(ISNUMBER($P20),$P20,IFERROR(--SUBSTITUTE($P20,".","/"),""))),IF(ISNUMBER($F20),$F20,IFERROR(--SUBSTITUTE($F20,".","/"),""))+INDEX(参数表!$B$4:$B$6,MATCH($H20,参数表!$A$4:$A$6,0)))) | K20: 46189 | L20: The details pertaining to the flag state have been duly specified on the front page of the Technical Agreement. | M20: 已关闭 | N20: 46173 | O20: 46177 | P20: 46203 | Q20: 46202 | V20: 未中标厂家（定标前澄清意见）
A21: TA-0017 | B21: DEMO-TA-A015-02 | C21: 救生筏吊架 Liferaft Davits | D21: 厂家D | E21: 船东 | F21: 46187 | G21: 核实是否持有 ABS 船级社证书 Please verify if you hold ABS Class certificate | H21: C | J21: =IF(OR($H21="",NOT(ISNUMBER(IF(ISNUMBER($F21),$F21,IFERROR(--SUBSTITUTE($F21,".","/"),""))))),"",IF(AND($H21="A",ISNUMBER(IF(ISNUMBER($P21),$P21,IFERROR(--SUBSTITUTE($P21,".","/"),""))),IF(ISNUMBER($P21),$P21,IFERROR(--SUBSTITUTE($P21,".","/"),""))>=IF(ISNUMBER($F21),$F21,IFERROR(--SUBSTITUTE($F21,".","/"),""))),MIN(IF(ISNUMBER($F21),$F21,IFERROR(--SUBSTITUTE($F21,".","/"),""))+INDEX(参数表!$B$4:$B$6,MATCH($H21,参数表!$A$4:$A$6,0)),IF(ISNUMBER($P21),$P21,IFERROR(--SUBSTITUTE($P21,".","/"),""))),IF(ISNUMBER($F21),$F21,IFERROR(--SUBSTITUTE($F21,".","/"),""))+INDEX(参数表!$B$4:$B$6,MATCH($H21,参数表!$A$4:$A$6,0)))) | K21: 46188 | L21: The American Bureau of Shipping (ABS) acknowledges the validity of the European Union Marine Equipment Directive (MED) Certificate for statutory compliance purposes, whereas such certification does not constitute an ABS-classed product approval. | M21: 已关闭 | N21: 46173 | O21: 46177 | P21: 46203 | Q21: 46202 | V21: 未中标厂家（定标前澄清意见）
A22: TA-0018 | B22: DEMO-TA-C001-01 | C22: 涂料 Paint | D22: 厂家E | E22: 船东 | F22: 46189 | G22: 防污漆方案是否考虑了船舶营运工况 Kindly advise if the vessel's operational profile is considered for the antifouling paint scheme. | H22: A | J22: =IF(OR($H22="",NOT(ISNUMBER(IF(ISNUMBER($F22),$F22,IFERROR(--SUBSTITUTE($F22,".","/"),""))))),"",IF(AND($H22="A",ISNUMBER(IF(ISNUMBER($P22),$P22,IFERROR(--SUBSTITUTE($P22,".","/"),""))),IF(ISNUMBER($P22),$P22,IFERROR(--SUBSTITUTE($P22,".","/"),""))>=IF(ISNUMBER($F22),$F22,IFERROR(--SUBSTITUTE($F22,".","/"),""))),MIN(IF(ISNUMBER($F22),$F22,IFERROR(--SUBSTITUTE($F22,".","/"),""))+INDEX(参数表!$B$4:$B$6,MATCH($H22,参数表!$A$4:$A$6,0)),IF(ISNUMBER($P22),$P22,IFERROR(--SUBSTITUTE($P22,".","/"),""))),IF(ISNUMBER($F22),$F22,IFERROR(--SUBSTITUTE($F22,".","/"),""))+INDEX(参数表!$B$4:$B$6,MATCH($H22,参数表!$A$4:$A$6,0)))) | K22: 46190 | L22: The paint system (including the antifouling paint) has been formulated in strict accordance with the requirements of your specification. 【船东反馈】Not clear reply. Please Review 【第2轮回复】At present, the service speed I know is 11.5 knots, and the highest seawater temperature is 32 degrees Celsius and the lowest is 0 degrees Celsius. We need to know the average seawater temperature. In addition, we also need to know the operating rate of your vessel in order to provide the supplier with more suitable matching. | M22: 已关闭 | N22: 46181 | O22: 46182 | P22: 46209 | Q22: 46207 | V22: 未中标厂家（定标前澄清意见）
A23: TA-0019 | B23: DEMO-TA-C001-01 | C23: 涂料 Paint | D23: 厂家E | E23: 船东 | F23: 46189 | G23: 说明防污漆自抛光所需的最低航速 Please advise the minimum vessel speed for the antifouling paint to self-polish itshelf | H23: A | J23: =IF(OR($H23="",NOT(ISNUMBER(IF(ISNUMBER($F23),$F23,IFERROR(--SUBSTITUTE($F23,".","/"),""))))),"",IF(AND($H23="A",ISNUMBER(IF(ISNUMBER($P23),$P23,IFERROR(--SUBSTITUTE($P23,".","/"),""))),IF(ISNUMBER($P23),$P23,IFERROR(--SUBSTITUTE($P23,".","/"),""))>=IF(ISNUMBER($F23),$F23,IFERROR(--SUBSTITUTE($F23,".","/"),""))),MIN(IF(ISNUMBER($F23),$F23,IFERROR(--SUBSTITUTE($F23,".","/"),""))+INDEX(参数表!$B$4:$B$6,MATCH($H23,参数表!$A$4:$A$6,0)),IF(ISNUMBER($P23),$P23,IFERROR(--SUBSTITUTE($P23,".","/"),""))),IF(ISNUMBER($F23),$F23,IFERROR(--SUBSTITUTE($F23,".","/"),""))+INDEX(参数表!$B$4:$B$6,MATCH($H23,参数表!$A$4:$A$6,0)))) | K23: 46191 | L23: The minimum ship speed required by 厂家F is above 6 knots, 厂家H requires above 10 knots, 厂家G requires above 3 knots, and 厂家E requires above 9 knots. Please be informed. 【船东反馈】According to the reply and the vessel's type, all Antifouling paints from the makers, does not meet requirments. Due to very low speeds the AF paint should be capable for long lay off periods. | M23: 已关闭 | N23: 46181 | O23: 46182 | P23: 46209 | Q23: 46207 | V23: 未中标厂家（定标前澄清意见）
A24: TA-0020 | B24: DEMO-TA-C001-02 | C24: 涂料 Paint | D24: 厂家F | E24: 船东 | F24: 46321 | G24: 防污漆方案是否考虑了船舶营运工况 Kindly advise if the vessel's operational profile is considered for the antifouling paint scheme. | H24: A | J24: =IF(OR($H24="",NOT(ISNUMBER(IF(ISNUMBER($F24),$F24,IFERROR(--SUBSTITUTE($F24,".","/"),""))))),"",IF(AND($H24="A",ISNUMBER(IF(ISNUMBER($P24),$P24,IFERROR(--SUBSTITUTE($P24,".","/"),""))),IF(ISNUMBER($P24),$P24,IFERROR(--SUBSTITUTE($P24,".","/"),""))>=IF(ISNUMBER($F24),$F24,IFERROR(--SUBSTITUTE($F24,".","/"),""))),MIN(IF(ISNUMBER($F24),$F24,IFERROR(--SUBSTITUTE($F24,".","/"),""))+INDEX(参数表!$B$4:$B$6,MATCH($H24,参数表!$A$4:$A$6,0)),IF(ISNUMBER($P24),$P24,IFERROR(--SUBSTITUTE($P24,".","/"),""))),IF(ISNUMBER($F24),$F24,IFERROR(--SUBSTITUTE($F24,".","/"),""))+INDEX(参数表!$B$4:$B$6,MATCH($H24,参数表!$A$4:$A$6,0)))) | K24: 46322 | L24: The paint system (including the antifouling paint) has been formulated in strict accordance with the requirements of your specification. 【船东反馈】Not clear reply. Please Review 【第2轮回复】厂家E considers the matching of anti fouling paint based on a 50% operating rate and a speed of 9-10 knots. 厂家F suggests considering a minimum speed of 6 knots. 厂家G requires a minimum of 3 anti fouling paint matching requirements. The minimum requirement for 厂家H is 10 or more sections. | M24: 已关闭 | N24: 46298 | O24: 46299 | P24: 46347 | R24: NA | S24: NA | T24: NA | U24: NA | V24: 中标厂家
A25: TA-0021 | B25: DEMO-TA-C001-02 | C25: 涂料 Paint | D25: 厂家F | E25: 船东 | F25: 46331 | G25: 说明防污漆自抛光所需的最低航速 Please advise the minimum vessel speed for the antifouling paint to self-polish itshelf | H25: A | J25: =IF(OR($H25="",NOT(ISNUMBER(IF(ISNUMBER($F25),$F25,IFERROR(--SUBSTITUTE($F25,".","/"),""))))),"",IF(AND($H25="A",ISNUMBER(IF(ISNUMBER($P25),$P25,IFERROR(--SUBSTITUTE($P25,".","/"),""))),IF(ISNUMBER($P25),$P25,IFERROR(--SUBSTITUTE($P25,".","/"),""))>=IF(ISNUMBER($F25),$F25,IFERROR(--SUBSTITUTE($F25,".","/"),""))),MIN(IF(ISNUMBER($F25),$F25,IFERROR(--SUBSTITUTE($F25,".","/"),""))+INDEX(参数表!$B$4:$B$6,MATCH($H25,参数表!$A$4:$A$6,0)),IF(ISNUMBER($P25),$P25,IFERROR(--SUBSTITUTE($P25,".","/"),""))),IF(ISNUMBER($F25),$F25,IFERROR(--SUBSTITUTE($F25,".","/"),""))+INDEX(参数表!$B$4:$B$6,MATCH($H25,参数表!$A$4:$A$6,0)))) | M25: 待回复 | N25: 46298 | O25: 46299 | P25: 46347 | R25: NA | S25: NA | T25: NA | U25: NA | V25: 中标厂家
A26: TA-0022 | B26: DEMO-TA-C001-03 | C26: 涂料 Paint | D26: 厂家G | E26: 船东 | F26: 46233 | G26: 防污漆方案是否考虑了船舶营运工况 Kindly advise if the vessel's operational profile is considered for the antifouling paint scheme. | H26: A | J26: =IF(OR($H26="",NOT(ISNUMBER(IF(ISNUMBER($F26),$F26,IFERROR(--SUBSTITUTE($F26,".","/"),""))))),"",IF(AND($H26="A",ISNUMBER(IF(ISNUMBER($P26),$P26,IFERROR(--SUBSTITUTE($P26,".","/"),""))),IF(ISNUMBER($P26),$P26,IFERROR(--SUBSTITUTE($P26,".","/"),""))>=IF(ISNUMBER($F26),$F26,IFERROR(--SUBSTITUTE($F26,".","/"),""))),MIN(IF(ISNUMBER($F26),$F26,IFERROR(--SUBSTITUTE($F26,".","/"),""))+INDEX(参数表!$B$4:$B$6,MATCH($H26,参数表!$A$4:$A$6,0)),IF(ISNUMBER($P26),$P26,IFERROR(--SUBSTITUTE($P26,".","/"),""))),IF(ISNUMBER($F26),$F26,IFERROR(--SUBSTITUTE($F26,".","/"),""))+INDEX(参数表!$B$4:$B$6,MATCH($H26,参数表!$A$4:$A$6,0)))) | K26: 46235 | L26: The paint system (including the antifouling paint) has been formulated in strict accordance with the requirements of your specification. 【船东反馈】Not clear reply. Please Review 【第2轮回复】At present, the service speed I know is 11.5 knots, and the highest seawater temperature is 32 degrees Celsius and the lowest is 0 degrees Celsius. We need to know the average seawater temperature. In addition, we also need to know the operating rate of your vessel in order to provide the supplier with more suitable matching. | M26: 已关闭 | N26: 46219 | O26: 46223 | P26: 46248 | Q26: 46250 | V26: 未中标厂家（定标前澄清意见）
A27: TA-0023 | B27: DEMO-TA-C001-03 | C27: 涂料 Paint | D27: 厂家G | E27: 船东 | F27: 46230 | G27: 说明防污漆自抛光所需的最低航速 Please advise the minimum vessel speed for the antifouling paint to self-polish itshelf | H27: A | J27: =IF(OR($H27="",NOT(ISNUMBER(IF(ISNUMBER($F27),$F27,IFERROR(--SUBSTITUTE($F27,".","/"),""))))),"",IF(AND($H27="A",ISNUMBER(IF(ISNUMBER($P27),$P27,IFERROR(--SUBSTITUTE($P27,".","/"),""))),IF(ISNUMBER($P27),$P27,IFERROR(--SUBSTITUTE($P27,".","/"),""))>=IF(ISNUMBER($F27),$F27,IFERROR(--SUBSTITUTE($F27,".","/"),""))),MIN(IF(ISNUMBER($F27),$F27,IFERROR(--SUBSTITUTE($F27,".","/"),""))+INDEX(参数表!$B$4:$B$6,MATCH($H27,参数表!$A$4:$A$6,0)),IF(ISNUMBER($P27),$P27,IFERROR(--SUBSTITUTE($P27,".","/"),""))),IF(ISNUMBER($F27),$F27,IFERROR(--SUBSTITUTE($F27,".","/"),""))+INDEX(参数表!$B$4:$B$6,MATCH($H27,参数表!$A$4:$A$6,0)))) | K27: 46233 | L27: The minimum ship speed required by 厂家F is above 6 knots, 厂家H requires above 10 knots, 厂家G requires above 3 knots, and 厂家E requires above 9 knots. Please be informed. 【船东反馈】According to the reply and the vessel's type, all Antifouling paints from the makers, does not meet requirments. Due to very low speeds the AF paint should be capable for long lay off periods. 【第2轮回复】At present, the service speed I know is 11.5 knots, and the highest sea temperature is 32 degrees Celsius and the lowest is 0 degrees Celsius. We need to know the average temperature of seawater. In addition, we also need to understand the operating rate of your vessel in order to provide suppliers with more suitable parameters for you to consider more suitable matching. | M27: 已关闭 | N27: 46219 | O27: 46223 | P27: 46248 | Q27: 46250 | V27: 未中标厂家（定标前澄清意见）
A28: TA-0024 | B28: DEMO-TA-C001-04 | C28: 涂料 Paint | D28: 厂家H | E28: 船东 | F28: 46215 | G28: 防污漆方案是否考虑了船舶营运工况 Kindly advise if the vessel's operational profile is considered for the antifouling paint scheme. | H28: A | J28: =IF(OR($H28="",NOT(ISNUMBER(IF(ISNUMBER($F28),$F28,IFERROR(--SUBSTITUTE($F28,".","/"),""))))),"",IF(AND($H28="A",ISNUMBER(IF(ISNUMBER($P28),$P28,IFERROR(--SUBSTITUTE($P28,".","/"),""))),IF(ISNUMBER($P28),$P28,IFERROR(--SUBSTITUTE($P28,".","/"),""))>=IF(ISNUMBER($F28),$F28,IFERROR(--SUBSTITUTE($F28,".","/"),""))),MIN(IF(ISNUMBER($F28),$F28,IFERROR(--SUBSTITUTE($F28,".","/"),""))+INDEX(参数表!$B$4:$B$6,MATCH($H28,参数表!$A$4:$A$6,0)),IF(ISNUMBER($P28),$P28,IFERROR(--SUBSTITUTE($P28,".","/"),""))),IF(ISNUMBER($F28),$F28,IFERROR(--SUBSTITUTE($F28,".","/"),""))+INDEX(参数表!$B$4:$B$6,MATCH($H28,参数表!$A$4:$A$6,0)))) | K28: 46218 | L28: The paint system (including the antifouling paint) has been formulated in strict accordance with the requirements of your specification. 【船东反馈】Not clear reply. Please Review 【第2轮回复】At present, the service speed I know is 11.5 knots, and the highest sea temperature is 32 degrees Celsius and the lowest is 0 degrees Celsius. We need to know the average temperature of seawater. In addition, we also need to understand the operating rate of your vessel in order to provide suppliers with more suitable parameters for you to consider more suitable matching. | M28: 已关闭 | N28: 46206 | O28: 46211 | P28: 46248 | Q28: 46254 | V28: 未中标厂家（定标前澄清意见）
A29: TA-0025 | B29: DEMO-TA-C001-04 | C29: 涂料 Paint | D29: 厂家H | E29: 船东 | F29: 46217 | G29: 说明防污漆自抛光所需的最低航速 Please advise the minimum vessel speed for the antifouling paint to self-polish itshelf | H29: A | J29: =IF(OR($H29="",NOT(ISNUMBER(IF(ISNUMBER($F29),$F29,IFERROR(--SUBSTITUTE($F29,".","/"),""))))),"",IF(AND($H29="A",ISNUMBER(IF(ISNUMBER($P29),$P29,IFERROR(--SUBSTITUTE($P29,".","/"),""))),IF(ISNUMBER($P29),$P29,IFERROR(--SUBSTITUTE($P29,".","/"),""))>=IF(ISNUMBER($F29),$F29,IFERROR(--SUBSTITUTE($F29,".","/"),""))),MIN(IF(ISNUMBER($F29),$F29,IFERROR(--SUBSTITUTE($F29,".","/"),""))+INDEX(参数表!$B$4:$B$6,MATCH($H29,参数表!$A$4:$A$6,0)),IF(ISNUMBER($P29),$P29,IFERROR(--SUBSTITUTE($P29,".","/"),""))),IF(ISNUMBER($F29),$F29,IFERROR(--SUBSTITUTE($F29,".","/"),""))+INDEX(参数表!$B$4:$B$6,MATCH($H29,参数表!$A$4:$A$6,0)))) | K29: 46218 | L29: The minimum ship speed required by 厂家F is above 6 knots, 厂家H requires above 10 knots, 厂家G requires above 3 knots, and 厂家E requires above 9 knots. Please be informed. 【船东反馈】According to the reply and the vessel's type, all Antifouling paints from the makers, does not meet requirments. Due to very low speeds the AF paint should be capable for long lay off periods. 【第2轮回复】I did not understand the actual operating parameters of the ship in the early stage. Please provide me with the minimum sailing speed, operating rate, and average seawater temperature. I will consider asking the supplier to reconsider the matching of anti fouling paint. | M29: 已关闭 | N29: 46206 | O29: 46211 | P29: 46248 | Q29: 46254 | V29: 未中标厂家（定标前澄清意见）
A30: TA-0026 | B30: DEMO-TA-E010-01 | C30: 操纵台/主控制台 Manoeuvre Console / Main Console | D30: 厂家I | E30: 船东 | F30: 46183 | G30: 质保期需澄清 Warranty period to be clarified | H30: A | J30: =IF(OR($H30="",NOT(ISNUMBER(IF(ISNUMBER($F30),$F30,IFERROR(--SUBSTITUTE($F30,".","/"),""))))),"",IF(AND($H30="A",ISNUMBER(IF(ISNUMBER($P30),$P30,IFERROR(--SUBSTITUTE($P30,".","/"),""))),IF(ISNUMBER($P30),$P30,IFERROR(--SUBSTITUTE($P30,".","/"),""))>=IF(ISNUMBER($F30),$F30,IFERROR(--SUBSTITUTE($F30,".","/"),""))),MIN(IF(ISNUMBER($F30),$F30,IFERROR(--SUBSTITUTE($F30,".","/"),""))+INDEX(参数表!$B$4:$B$6,MATCH($H30,参数表!$A$4:$A$6,0)),IF(ISNUMBER($P30),$P30,IFERROR(--SUBSTITUTE($P30,".","/"),""))),IF(ISNUMBER($F30),$F30,IFERROR(--SUBSTITUTE($F30,".","/"),""))+INDEX(参数表!$B$4:$B$6,MATCH($H30,参数表!$A$4:$A$6,0)))) | K30: 46185 | L30: Warranty period will be determined in commercial contract. normally,One year after delivery or 24 months after delivery, whichever is due earlier | M30: 已关闭 | N30: 46167 | O30: 46172 | P30: 46206 | Q30: 46211 | V30: 未中标厂家（定标前澄清意见）
A31: TA-0027 | B31: DEMO-TA-E010-01 | C31: 操纵台/主控制台 Manoeuvre Console / Main Console | D31: 厂家I | E31: 船东 | F31: 46184 | G31: 提供技术服务站（网点）位置 0-18: Please provide details of the technical service station location | H31: C | J31: =IF(OR($H31="",NOT(ISNUMBER(IF(ISNUMBER($F31),$F31,IFERROR(--SUBSTITUTE($F31,".","/"),""))))),"",IF(AND($H31="A",ISNUMBER(IF(ISNUMBER($P31),$P31,IFERROR(--SUBSTITUTE($P31,".","/"),""))),IF(ISNUMBER($P31),$P31,IFERROR(--SUBSTITUTE($P31,".","/"),""))>=IF(ISNUMBER($F31),$F31,IFERROR(--SUBSTITUTE($F31,".","/"),""))),MIN(IF(ISNUMBER($F31),$F31,IFERROR(--SUBSTITUTE($F31,".","/"),""))+INDEX(参数表!$B$4:$B$6,MATCH($H31,参数表!$A$4:$A$6,0)),IF(ISNUMBER($P31),$P31,IFERROR(--SUBSTITUTE($P31,".","/"),""))),IF(ISNUMBER($F31),$F31,IFERROR(--SUBSTITUTE($F31,".","/"),""))+INDEX(参数表!$B$4:$B$6,MATCH($H31,参数表!$A$4:$A$6,0)))) | K31: 46186 | L31: Please refer to the attached file. | M31: 已关闭 | N31: 46167 | O31: 46172 | P31: 46206 | Q31: 46211 | V31: 未中标厂家（定标前澄清意见）
A32: TA-0028 | B32: DEMO-TA-E010-01 | C32: 操纵台/主控制台 Manoeuvre Console / Main Console | D32: 厂家I | E32: 船东 | F32: 46183 | G32: 明确各回路（1-2、2-2、3-2、4-2、5-2）断路器品牌 1-2, 2-2, 3-2, 4-2, 5-2: Please specify the maker of the breakers | H32: C | J32: =IF(OR($H32="",NOT(ISNUMBER(IF(ISNUMBER($F32),$F32,IFERROR(--SUBSTITUTE($F32,".","/"),""))))),"",IF(AND($H32="A",ISNUMBER(IF(ISNUMBER($P32),$P32,IFERROR(--SUBSTITUTE($P32,".","/"),""))),IF(ISNUMBER($P32),$P32,IFERROR(--SUBSTITUTE($P32,".","/"),""))>=IF(ISNUMBER($F32),$F32,IFERROR(--SUBSTITUTE($F32,".","/"),""))),MIN(IF(ISNUMBER($F32),$F32,IFERROR(--SUBSTITUTE($F32,".","/"),""))+INDEX(参数表!$B$4:$B$6,MATCH($H32,参数表!$A$4:$A$6,0)),IF(ISNUMBER($P32),$P32,IFERROR(--SUBSTITUTE($P32,".","/"),""))),IF(ISNUMBER($F32),$F32,IFERROR(--SUBSTITUTE($F32,".","/"),""))+INDEX(参数表!$B$4:$B$6,MATCH($H32,参数表!$A$4:$A$6,0)))) | K32: 46184 | L32: The breaker is of ABB brand. | M32: 已关闭 | N32: 46167 | O32: 46172 | P32: 46206 | Q32: 46211 | V32: 未中标厂家（定标前澄清意见）
A33: TA-0029 | B33: DEMO-TA-E010-01 | C33: 操纵台/主控制台 Manoeuvre Console / Main Console | D33: 厂家I | E33: 船东 | F33: 46181 | G33: 主回路电缆颜色能否与本船标准一致 Please advise is it possible arrange cable color coding for main circuits same with vessel standard | H33: B | J33: =IF(OR($H33="",NOT(ISNUMBER(IF(ISNUMBER($F33),$F33,IFERROR(--SUBSTITUTE($F33,".","/"),""))))),"",IF(AND($H33="A",ISNUMBER(IF(ISNUMBER($P33),$P33,IFERROR(--SUBSTITUTE($P33,".","/"),""))),IF(ISNUMBER($P33),$P33,IFERROR(--SUBSTITUTE($P33,".","/"),""))>=IF(ISNUMBER($F33),$F33,IFERROR(--SUBSTITUTE($F33,".","/"),""))),MIN(IF(ISNUMBER($F33),$F33,IFERROR(--SUBSTITUTE($F33,".","/"),""))+INDEX(参数表!$B$4:$B$6,MATCH($H33,参数表!$A$4:$A$6,0)),IF(ISNUMBER($P33),$P33,IFERROR(--SUBSTITUTE($P33,".","/"),""))),IF(ISNUMBER($F33),$F33,IFERROR(--SUBSTITUTE($F33,".","/"),""))+INDEX(参数表!$B$4:$B$6,MATCH($H33,参数表!$A$4:$A$6,0)))) | K33: 46188 | L33: Yes, it's possible. | M33: 已关闭 | N33: 46167 | O33: 46172 | P33: 46206 | Q33: 46211 | V33: 未中标厂家（定标前澄清意见）
A34: TA-0030 | B34: DEMO-TA-E010-01 | C34: 操纵台/主控制台 Manoeuvre Console / Main Console | D34: 厂家I | E34: 船东 | F34: 46184 | G34: 提供各控制台外形布置图 Please provide layout (outline view) dwg for each control console | H34: B | J34: =IF(OR($H34="",NOT(ISNUMBER(IF(ISNUMBER($F34),$F34,IFERROR(--SUBSTITUTE($F34,".","/"),""))))),"",IF(AND($H34="A",ISNUMBER(IF(ISNUMBER($P34),$P34,IFERROR(--SUBSTITUTE($P34,".","/"),""))),IF(ISNUMBER($P34),$P34,IFERROR(--SUBSTITUTE($P34,".","/"),""))>=IF(ISNUMBER($F34),$F34,IFERROR(--SUBSTITUTE($F34,".","/"),""))),MIN(IF(ISNUMBER($F34),$F34,IFERROR(--SUBSTITUTE($F34,".","/"),""))+INDEX(参数表!$B$4:$B$6,MATCH($H34,参数表!$A$4:$A$6,0)),IF(ISNUMBER($P34),$P34,IFERROR(--SUBSTITUTE($P34,".","/"),""))),IF(ISNUMBER($F34),$F34,IFERROR(--SUBSTITUTE($F34,".","/"),""))+INDEX(参数表!$B$4:$B$6,MATCH($H34,参数表!$A$4:$A$6,0)))) | K34: 46189 | L34: We'll provide them in approval drawing stage. | M34: 已关闭 | N34: 46167 | O34: 46172 | P34: 46206 | Q34: 46211 | V34: 未中标厂家（定标前澄清意见）
A35: TA-0031 | B35: DEMO-TA-E010-01 | C35: 操纵台/主控制台 Manoeuvre Console / Main Console | D35: 厂家I | E35: 船东 | F35: 46183 | G35: 确认台内接线电缆截面 Please confirm Internal wiring cable size information | H35: C | J35: =IF(OR($H35="",NOT(ISNUMBER(IF(ISNUMBER($F35),$F35,IFERROR(--SUBSTITUTE($F35,".","/"),""))))),"",IF(AND($H35="A",ISNUMBER(IF(ISNUMBER($P35),$P35,IFERROR(--SUBSTITUTE($P35,".","/"),""))),IF(ISNUMBER($P35),$P35,IFERROR(--SUBSTITUTE($P35,".","/"),""))>=IF(ISNUMBER($F35),$F35,IFERROR(--SUBSTITUTE($F35,".","/"),""))),MIN(IF(ISNUMBER($F35),$F35,IFERROR(--SUBSTITUTE($F35,".","/"),""))+INDEX(参数表!$B$4:$B$6,MATCH($H35,参数表!$A$4:$A$6,0)),IF(ISNUMBER($P35),$P35,IFERROR(--SUBSTITUTE($P35,".","/"),""))),IF(ISNUMBER($F35),$F35,IFERROR(--SUBSTITUTE($F35,".","/"),""))+INDEX(参数表!$B$4:$B$6,MATCH($H35,参数表!$A$4:$A$6,0)))) | K35: 46187 | L35: Power circuit：Minimum 2.5mm2 Control circuit：Minimum 0.75mm2 | M35: 已关闭 | N35: 46167 | O35: 46172 | P35: 46206 | Q35: 46211 | V35: 未中标厂家（定标前澄清意见）
A36: TA-0032 | B36: DEMO-TA-E010-02 | C36: 操纵台/主控制台 Manoeuvre Console / Main Console | D36: 厂家J | E36: 船东 | F36: 46317 | G36: 驾驶台控制台方案须满足 ABS NBLES 附加标志要求 For Wheelhouse control console, please confirm that the suggested solution will be according to ABS NBLES notation | H36: A | J36: =IF(OR($H36="",NOT(ISNUMBER(IF(ISNUMBER($F36),$F36,IFERROR(--SUBSTITUTE($F36,".","/"),""))))),"",IF(AND($H36="A",ISNUMBER(IF(ISNUMBER($P36),$P36,IFERROR(--SUBSTITUTE($P36,".","/"),""))),IF(ISNUMBER($P36),$P36,IFERROR(--SUBSTITUTE($P36,".","/"),""))>=IF(ISNUMBER($F36),$F36,IFERROR(--SUBSTITUTE($F36,".","/"),""))),MIN(IF(ISNUMBER($F36),$F36,IFERROR(--SUBSTITUTE($F36,".","/"),""))+INDEX(参数表!$B$4:$B$6,MATCH($H36,参数表!$A$4:$A$6,0)),IF(ISNUMBER($P36),$P36,IFERROR(--SUBSTITUTE($P36,".","/"),""))),IF(ISNUMBER($F36),$F36,IFERROR(--SUBSTITUTE($F36,".","/"),""))+INDEX(参数表!$B$4:$B$6,MATCH($H36,参数表!$A$4:$A$6,0)))) | K36: 46320 | L36: Agreed. Submit approval drawing of WCC to ABS for approval before manufacture | M36: 已关闭 | N36: 46291 | O36: 46295 | P36: 46348 | R36: √ | S36: 缺 | T36: √ | V36: 中标厂家
A37: TA-0033 | B37: DEMO-TA-E010-02 | C37: 操纵台/主控制台 Manoeuvre Console / Main Console | D37: 厂家J | E37: 船东 | F37: 46323 | G37: 图纸仅使用英文 Drawings to be provided ONLY in English | H37: C | J37: =IF(OR($H37="",NOT(ISNUMBER(IF(ISNUMBER($F37),$F37,IFERROR(--SUBSTITUTE($F37,".","/"),""))))),"",IF(AND($H37="A",ISNUMBER(IF(ISNUMBER($P37),$P37,IFERROR(--SUBSTITUTE($P37,".","/"),""))),IF(ISNUMBER($P37),$P37,IFERROR(--SUBSTITUTE($P37,".","/"),""))>=IF(ISNUMBER($F37),$F37,IFERROR(--SUBSTITUTE($F37,".","/"),""))),MIN(IF(ISNUMBER($F37),$F37,IFERROR(--SUBSTITUTE($F37,".","/"),""))+INDEX(参数表!$B$4:$B$6,MATCH($H37,参数表!$A$4:$A$6,0)),IF(ISNUMBER($P37),$P37,IFERROR(--SUBSTITUTE($P37,".","/"),""))),IF(ISNUMBER($F37),$F37,IFERROR(--SUBSTITUTE($F37,".","/"),""))+INDEX(参数表!$B$4:$B$6,MATCH($H37,参数表!$A$4:$A$6,0)))) | M37: 待回复 | N37: 46291 | O37: 46295 | P37: 46348 | R37: √ | S37: 缺 | T37: √ | V37: 中标厂家
A38: TA-0034 | B38: DEMO-TA-E010-02 | C38: 操纵台/主控制台 Manoeuvre Console / Main Console | D38: 厂家J | E38: 船东 | F38: 46317 | G38: 提供技术服务站（网点）位置 0-22: Please provide details of the technical service station location | H38: C | J38: =IF(OR($H38="",NOT(ISNUMBER(IF(ISNUMBER($F38),$F38,IFERROR(--SUBSTITUTE($F38,".","/"),""))))),"",IF(AND($H38="A",ISNUMBER(IF(ISNUMBER($P38),$P38,IFERROR(--SUBSTITUTE($P38,".","/"),""))),IF(ISNUMBER($P38),$P38,IFERROR(--SUBSTITUTE($P38,".","/"),""))>=IF(ISNUMBER($F38),$F38,IFERROR(--SUBSTITUTE($F38,".","/"),""))),MIN(IF(ISNUMBER($F38),$F38,IFERROR(--SUBSTITUTE($F38,".","/"),""))+INDEX(参数表!$B$4:$B$6,MATCH($H38,参数表!$A$4:$A$6,0)),IF(ISNUMBER($P38),$P38,IFERROR(--SUBSTITUTE($P38,".","/"),""))),IF(ISNUMBER($F38),$F38,IFERROR(--SUBSTITUTE($F38,".","/"),""))+INDEX(参数表!$B$4:$B$6,MATCH($H38,参数表!$A$4:$A$6,0)))) | K38: 46319 | L38: Please refer to the attached file. | M38: 已关闭 | N38: 46291 | O38: 46295 | P38: 46348 | R38: √ | S38: 缺 | T38: √ | V38: 中标厂家
A39: TA-0035 | B39: DEMO-TA-E010-02 | C39: 操纵台/主控制台 Manoeuvre Console / Main Console | D39: 厂家J | E39: 船东 | F39: 46318 | G39: 明确控制台断路器品牌 Please confirm the maker of the brakers for console | H39: C | J39: =IF(OR($H39="",NOT(ISNUMBER(IF(ISNUMBER($F39),$F39,IFERROR(--SUBSTITUTE($F39,".","/"),""))))),"",IF(AND($H39="A",ISNUMBER(IF(ISNUMBER($P39),$P39,IFERROR(--SUBSTITUTE($P39,".","/"),""))),IF(ISNUMBER($P39),$P39,IFERROR(--SUBSTITUTE($P39,".","/"),""))>=IF(ISNUMBER($F39),$F39,IFERROR(--SUBSTITUTE($F39,".","/"),""))),MIN(IF(ISNUMBER($F39),$F39,IFERROR(--SUBSTITUTE($F39,".","/"),""))+INDEX(参数表!$B$4:$B$6,MATCH($H39,参数表!$A$4:$A$6,0)),IF(ISNUMBER($P39),$P39,IFERROR(--SUBSTITUTE($P39,".","/"),""))),IF(ISNUMBER($F39),$F39,IFERROR(--SUBSTITUTE($F39,".","/"),""))+INDEX(参数表!$B$4:$B$6,MATCH($H39,参数表!$A$4:$A$6,0)))) | K39: 46320 | L39: ABB or SIEMENS | M39: 已关闭 | N39: 46291 | O39: 46295 | P39: 46348 | R39: √ | S39: 缺 | T39: √ | V39: 中标厂家
A40: TA-0036 | B40: DEMO-TA-E010-02 | C40: 操纵台/主控制台 Manoeuvre Console / Main Console | D40: 厂家J | E40: 船东 | F40: 46322 | G40: 铭牌能否采用白底黑字 Please confirm possibility install nameplates background white with black latters | H40: B | J40: =IF(OR($H40="",NOT(ISNUMBER(IF(ISNUMBER($F40),$F40,IFERROR(--SUBSTITUTE($F40,".","/"),""))))),"",IF(AND($H40="A",ISNUMBER(IF(ISNUMBER($P40),$P40,IFERROR(--SUBSTITUTE($P40,".","/"),""))),IF(ISNUMBER($P40),$P40,IFERROR(--SUBSTITUTE($P40,".","/"),""))>=IF(ISNUMBER($F40),$F40,IFERROR(--SUBSTITUTE($F40,".","/"),""))),MIN(IF(ISNUMBER($F40),$F40,IFERROR(--SUBSTITUTE($F40,".","/"),""))+INDEX(参数表!$B$4:$B$6,MATCH($H40,参数表!$A$4:$A$6,0)),IF(ISNUMBER($P40),$P40,IFERROR(--SUBSTITUTE($P40,".","/"),""))),IF(ISNUMBER($F40),$F40,IFERROR(--SUBSTITUTE($F40,".","/"),""))+INDEX(参数表!$B$4:$B$6,MATCH($H40,参数表!$A$4:$A$6,0)))) | M40: 待回复 | N40: 46291 | O40: 46295 | P40: 46348 | R40: √ | S40: 缺 | T40: √ | V40: 中标厂家
A41: TA-0037 | B41: DEMO-TA-E010-02 | C41: 操纵台/主控制台 Manoeuvre Console / Main Console | D41: 厂家J | E41: 船东 | F41: 46318 | G41: 确认指示灯为 LED 型 Please confirm indication lamps LED type | H41: C | J41: =IF(OR($H41="",NOT(ISNUMBER(IF(ISNUMBER($F41),$F41,IFERROR(--SUBSTITUTE($F41,".","/"),""))))),"",IF(AND($H41="A",ISNUMBER(IF(ISNUMBER($P41),$P41,IFERROR(--SUBSTITUTE($P41,".","/"),""))),IF(ISNUMBER($P41),$P41,IFERROR(--SUBSTITUTE($P41,".","/"),""))>=IF(ISNUMBER($F41),$F41,IFERROR(--SUBSTITUTE($F41,".","/"),""))),MIN(IF(ISNUMBER($F41),$F41,IFERROR(--SUBSTITUTE($F41,".","/"),""))+INDEX(参数表!$B$4:$B$6,MATCH($H41,参数表!$A$4:$A$6,0)),IF(ISNUMBER($P41),$P41,IFERROR(--SUBSTITUTE($P41,".","/"),""))),IF(ISNUMBER($F41),$F41,IFERROR(--SUBSTITUTE($F41,".","/"),""))+INDEX(参数表!$B$4:$B$6,MATCH($H41,参数表!$A$4:$A$6,0)))) | K41: 46319 | L41: The indicator is LED type | M41: 已认可待落实 | N41: 46291 | O41: 46295 | P41: 46348 | R41: √ | S41: 缺 | T41: √ | V41: 中标厂家
A42: TA-0038 | B42: DEMO-TA-E010-02 | C42: 操纵台/主控制台 Manoeuvre Console / Main Console | D42: 厂家J | E42: 船东 | F42: 46319 | G42: 提供各控制台外形布置图 Please provide layout (outline view) dwg for each control console | H42: B | J42: =IF(OR($H42="",NOT(ISNUMBER(IF(ISNUMBER($F42),$F42,IFERROR(--SUBSTITUTE($F42,".","/"),""))))),"",IF(AND($H42="A",ISNUMBER(IF(ISNUMBER($P42),$P42,IFERROR(--SUBSTITUTE($P42,".","/"),""))),IF(ISNUMBER($P42),$P42,IFERROR(--SUBSTITUTE($P42,".","/"),""))>=IF(ISNUMBER($F42),$F42,IFERROR(--SUBSTITUTE($F42,".","/"),""))),MIN(IF(ISNUMBER($F42),$F42,IFERROR(--SUBSTITUTE($F42,".","/"),""))+INDEX(参数表!$B$4:$B$6,MATCH($H42,参数表!$A$4:$A$6,0)),IF(ISNUMBER($P42),$P42,IFERROR(--SUBSTITUTE($P42,".","/"),""))),IF(ISNUMBER($F42),$F42,IFERROR(--SUBSTITUTE($F42,".","/"),""))+INDEX(参数表!$B$4:$B$6,MATCH($H42,参数表!$A$4:$A$6,0)))) | K42: 46321 | L42: We'll provide them in approval drawing stage. | M42: 已认可待落实 | N42: 46291 | O42: 46295 | P42: 46348 | R42: √ | S42: 缺 | T42: √ | V42: 中标厂家
A43: TA-0039 | B43: DEMO-TA-E010-02 | C43: 操纵台/主控制台 Manoeuvre Console / Main Console | D43: 厂家J | E43: 船东 | F43: 46319 | G43: 确认台内接线电缆截面 Please confirm Internal wiring cable size information | H43: C | J43: =IF(OR($H43="",NOT(ISNUMBER(IF(ISNUMBER($F43),$F43,IFERROR(--SUBSTITUTE($F43,".","/"),""))))),"",IF(AND($H43="A",ISNUMBER(IF(ISNUMBER($P43),$P43,IFERROR(--SUBSTITUTE($P43,".","/"),""))),IF(ISNUMBER($P43),$P43,IFERROR(--SUBSTITUTE($P43,".","/"),""))>=IF(ISNUMBER($F43),$F43,IFERROR(--SUBSTITUTE($F43,".","/"),""))),MIN(IF(ISNUMBER($F43),$F43,IFERROR(--SUBSTITUTE($F43,".","/"),""))+INDEX(参数表!$B$4:$B$6,MATCH($H43,参数表!$A$4:$A$6,0)),IF(ISNUMBER($P43),$P43,IFERROR(--SUBSTITUTE($P43,".","/"),""))),IF(ISNUMBER($F43),$F43,IFERROR(--SUBSTITUTE($F43,".","/"),""))+INDEX(参数表!$B$4:$B$6,MATCH($H43,参数表!$A$4:$A$6,0)))) | K43: 46324 | L43: Power circuit：Minimum 2.5mm2 Control circuit：Minimum 1mm2 | M43: 已关闭 | N43: 46291 | O43: 46295 | P43: 46348 | R43: √ | S43: 缺 | T43: √ | V43: 中标厂家
A44: TA-0040 | B44: DEMO-TA-E010-03 | C44: 操纵台/主控制台 Manoeuvre Console / Main Console | D44: 厂家K | E44: 船东 | F44: 46214 | G44: 提供台内外标签及标识标准 Please provide labels and marking standards inside and outside consoles | H44: C | J44: =IF(OR($H44="",NOT(ISNUMBER(IF(ISNUMBER($F44),$F44,IFERROR(--SUBSTITUTE($F44,".","/"),""))))),"",IF(AND($H44="A",ISNUMBER(IF(ISNUMBER($P44),$P44,IFERROR(--SUBSTITUTE($P44,".","/"),""))),IF(ISNUMBER($P44),$P44,IFERROR(--SUBSTITUTE($P44,".","/"),""))>=IF(ISNUMBER($F44),$F44,IFERROR(--SUBSTITUTE($F44,".","/"),""))),MIN(IF(ISNUMBER($F44),$F44,IFERROR(--SUBSTITUTE($F44,".","/"),""))+INDEX(参数表!$B$4:$B$6,MATCH($H44,参数表!$A$4:$A$6,0)),IF(ISNUMBER($P44),$P44,IFERROR(--SUBSTITUTE($P44,".","/"),""))),IF(ISNUMBER($F44),$F44,IFERROR(--SUBSTITUTE($F44,".","/"),""))+INDEX(参数表!$B$4:$B$6,MATCH($H44,参数表!$A$4:$A$6,0)))) | K44: 46217 | L44: Please refer to the attached file. | M44: 已关闭 | N44: 46206 | O44: 46206 | P44: 46241 | Q44: 46243 | V44: 未中标厂家（定标前澄清意见）
A45: TA-0041 | B45: DEMO-TA-E010-03 | C45: 操纵台/主控制台 Manoeuvre Console / Main Console | D45: 厂家K | E45: 船东 | F45: 46214 | G45: 图纸仅使用英文 Drawings to be provided ONLY in English | H45: C | J45: =IF(OR($H45="",NOT(ISNUMBER(IF(ISNUMBER($F45),$F45,IFERROR(--SUBSTITUTE($F45,".","/"),""))))),"",IF(AND($H45="A",ISNUMBER(IF(ISNUMBER($P45),$P45,IFERROR(--SUBSTITUTE($P45,".","/"),""))),IF(ISNUMBER($P45),$P45,IFERROR(--SUBSTITUTE($P45,".","/"),""))>=IF(ISNUMBER($F45),$F45,IFERROR(--SUBSTITUTE($F45,".","/"),""))),MIN(IF(ISNUMBER($F45),$F45,IFERROR(--SUBSTITUTE($F45,".","/"),""))+INDEX(参数表!$B$4:$B$6,MATCH($H45,参数表!$A$4:$A$6,0)),IF(ISNUMBER($P45),$P45,IFERROR(--SUBSTITUTE($P45,".","/"),""))),IF(ISNUMBER($F45),$F45,IFERROR(--SUBSTITUTE($F45,".","/"),""))+INDEX(参数表!$B$4:$B$6,MATCH($H45,参数表!$A$4:$A$6,0)))) | K45: 46218 | L45: Drawings are in English only | M45: 已关闭 | N45: 46206 | O45: 46206 | P45: 46241 | Q45: 46243 | V45: 未中标厂家（定标前澄清意见）
A46: TA-0042 | B46: DEMO-TA-E010-04 | C46: 操纵台/主控制台 Manoeuvre Console / Main Console | D46: 厂家L | E46: 船东 | F46: 46228 | G46: 驾驶台控制台方案须满足 ABS NBLES 附加标志要求 For Wheelhouse control console, please confirm that the suggested solution will be according to ABS NBLES notation | H46: A | J46: =IF(OR($H46="",NOT(ISNUMBER(IF(ISNUMBER($F46),$F46,IFERROR(--SUBSTITUTE($F46,".","/"),""))))),"",IF(AND($H46="A",ISNUMBER(IF(ISNUMBER($P46),$P46,IFERROR(--SUBSTITUTE($P46,".","/"),""))),IF(ISNUMBER($P46),$P46,IFERROR(--SUBSTITUTE($P46,".","/"),""))>=IF(ISNUMBER($F46),$F46,IFERROR(--SUBSTITUTE($F46,".","/"),""))),MIN(IF(ISNUMBER($F46),$F46,IFERROR(--SUBSTITUTE($F46,".","/"),""))+INDEX(参数表!$B$4:$B$6,MATCH($H46,参数表!$A$4:$A$6,0)),IF(ISNUMBER($P46),$P46,IFERROR(--SUBSTITUTE($P46,".","/"),""))),IF(ISNUMBER($F46),$F46,IFERROR(--SUBSTITUTE($F46,".","/"),""))+INDEX(参数表!$B$4:$B$6,MATCH($H46,参数表!$A$4:$A$6,0)))) | K46: 46230 | L46: Submit approval drawing of WCC to ABS for approval before manufacture | M46: 已关闭 | N46: 46216 | O46: 46218 | P46: 46247 | Q46: 46248 | V46: 未中标厂家（定标前澄清意见）
A47: TA-0043 | B47: DEMO-TA-E010-04 | C47: 操纵台/主控制台 Manoeuvre Console / Main Console | D47: 厂家L | E47: 船东 | F47: 46227 | G47: 图纸仅使用英文 Drawings to be provided ONLY in English | H47: C | J47: =IF(OR($H47="",NOT(ISNUMBER(IF(ISNUMBER($F47),$F47,IFERROR(--SUBSTITUTE($F47,".","/"),""))))),"",IF(AND($H47="A",ISNUMBER(IF(ISNUMBER($P47),$P47,IFERROR(--SUBSTITUTE($P47,".","/"),""))),IF(ISNUMBER($P47),$P47,IFERROR(--SUBSTITUTE($P47,".","/"),""))>=IF(ISNUMBER($F47),$F47,IFERROR(--SUBSTITUTE($F47,".","/"),""))),MIN(IF(ISNUMBER($F47),$F47,IFERROR(--SUBSTITUTE($F47,".","/"),""))+INDEX(参数表!$B$4:$B$6,MATCH($H47,参数表!$A$4:$A$6,0)),IF(ISNUMBER($P47),$P47,IFERROR(--SUBSTITUTE($P47,".","/"),""))),IF(ISNUMBER($F47),$F47,IFERROR(--SUBSTITUTE($F47,".","/"),""))+INDEX(参数表!$B$4:$B$6,MATCH($H47,参数表!$A$4:$A$6,0)))) | K47: 46228 | L47: Agree | M47: 已关闭 | N47: 46216 | O47: 46218 | P47: 46247 | Q47: 46248 | V47: 未中标厂家（定标前澄清意见）
A48: TA-0044 | B48: DEMO-TA-E010-04 | C48: 操纵台/主控制台 Manoeuvre Console / Main Console | D48: 厂家L | E48: 船东 | F48: 46229 | G48: 提供技术服务站（网点）位置 Please provide details of the technical service station location | H48: C | J48: =IF(OR($H48="",NOT(ISNUMBER(IF(ISNUMBER($F48),$F48,IFERROR(--SUBSTITUTE($F48,".","/"),""))))),"",IF(AND($H48="A",ISNUMBER(IF(ISNUMBER($P48),$P48,IFERROR(--SUBSTITUTE($P48,".","/"),""))),IF(ISNUMBER($P48),$P48,IFERROR(--SUBSTITUTE($P48,".","/"),""))>=IF(ISNUMBER($F48),$F48,IFERROR(--SUBSTITUTE($F48,".","/"),""))),MIN(IF(ISNUMBER($F48),$F48,IFERROR(--SUBSTITUTE($F48,".","/"),""))+INDEX(参数表!$B$4:$B$6,MATCH($H48,参数表!$A$4:$A$6,0)),IF(ISNUMBER($P48),$P48,IFERROR(--SUBSTITUTE($P48,".","/"),""))),IF(ISNUMBER($F48),$F48,IFERROR(--SUBSTITUTE($F48,".","/"),""))+INDEX(参数表!$B$4:$B$6,MATCH($H48,参数表!$A$4:$A$6,0)))) | K48: 46234 | L48: Submit approval drawing of WCC to ABS for approval before manufacture | M48: 已关闭 | N48: 46216 | O48: 46218 | P48: 46247 | Q48: 46248 | V48: 未中标厂家（定标前澄清意见）
A49: TA-0045 | B49: DEMO-TA-E010-04 | C49: 操纵台/主控制台 Manoeuvre Console / Main Console | D49: 厂家L | E49: 船东 | F49: 46227 | G49: 明确控制台断路器品牌 Please confirm the maker of the brakers for console | H49: C | J49: =IF(OR($H49="",NOT(ISNUMBER(IF(ISNUMBER($F49),$F49,IFERROR(--SUBSTITUTE($F49,".","/"),""))))),"",IF(AND($H49="A",ISNUMBER(IF(ISNUMBER($P49),$P49,IFERROR(--SUBSTITUTE($P49,".","/"),""))),IF(ISNUMBER($P49),$P49,IFERROR(--SUBSTITUTE($P49,".","/"),""))>=IF(ISNUMBER($F49),$F49,IFERROR(--SUBSTITUTE($F49,".","/"),""))),MIN(IF(ISNUMBER($F49),$F49,IFERROR(--SUBSTITUTE($F49,".","/"),""))+INDEX(参数表!$B$4:$B$6,MATCH($H49,参数表!$A$4:$A$6,0)),IF(ISNUMBER($P49),$P49,IFERROR(--SUBSTITUTE($P49,".","/"),""))),IF(ISNUMBER($F49),$F49,IFERROR(--SUBSTITUTE($F49,".","/"),""))+INDEX(参数表!$B$4:$B$6,MATCH($H49,参数表!$A$4:$A$6,0)))) | K49: 46232 | L49: ABB or SIEMENS | M49: 已关闭 | N49: 46216 | O49: 46218 | P49: 46247 | Q49: 46248 | V49: 未中标厂家（定标前澄清意见）
A50: TA-0046 | B50: DEMO-TA-E010-04 | C50: 操纵台/主控制台 Manoeuvre Console / Main Console | D50: 厂家L | E50: 船东 | F50: 46228 | G50: 质保期需澄清 Warranty period to be clarified | H50: A | J50: =IF(OR($H50="",NOT(ISNUMBER(IF(ISNUMBER($F50),$F50,IFERROR(--SUBSTITUTE($F50,".","/"),""))))),"",IF(AND($H50="A",ISNUMBER(IF(ISNUMBER($P50),$P50,IFERROR(--SUBSTITUTE($P50,".","/"),""))),IF(ISNUMBER($P50),$P50,IFERROR(--SUBSTITUTE($P50,".","/"),""))>=IF(ISNUMBER($F50),$F50,IFERROR(--SUBSTITUTE($F50,".","/"),""))),MIN(IF(ISNUMBER($F50),$F50,IFERROR(--SUBSTITUTE($F50,".","/"),""))+INDEX(参数表!$B$4:$B$6,MATCH($H50,参数表!$A$4:$A$6,0)),IF(ISNUMBER($P50),$P50,IFERROR(--SUBSTITUTE($P50,".","/"),""))),IF(ISNUMBER($F50),$F50,IFERROR(--SUBSTITUTE($F50,".","/"),""))+INDEX(参数表!$B$4:$B$6,MATCH($H50,参数表!$A$4:$A$6,0)))) | K50: 46230 | L50: The warranty period shall be kept valid for twelve (12) months after the date of the Vessel Delivery. | M50: 已关闭 | N50: 46216 | O50: 46218 | P50: 46247 | Q50: 46248 | V50: 未中标厂家（定标前澄清意见）
A51: TA-0047 | B51: DEMO-TA-E010-04 | C51: 操纵台/主控制台 Manoeuvre Console / Main Console | D51: 厂家L | E51: 船东 | F51: 46229 | G51: 确认 UPS 电源（是否在供货范围内） Please confirm UPS power | H51: A | J51: =IF(OR($H51="",NOT(ISNUMBER(IF(ISNUMBER($F51),$F51,IFERROR(--SUBSTITUTE($F51,".","/"),""))))),"",IF(AND($H51="A",ISNUMBER(IF(ISNUMBER($P51),$P51,IFERROR(--SUBSTITUTE($P51,".","/"),""))),IF(ISNUMBER($P51),$P51,IFERROR(--SUBSTITUTE($P51,".","/"),""))>=IF(ISNUMBER($F51),$F51,IFERROR(--SUBSTITUTE($F51,".","/"),""))),MIN(IF(ISNUMBER($F51),$F51,IFERROR(--SUBSTITUTE($F51,".","/"),""))+INDEX(参数表!$B$4:$B$6,MATCH($H51,参数表!$A$4:$A$6,0)),IF(ISNUMBER($P51),$P51,IFERROR(--SUBSTITUTE($P51,".","/"),""))),IF(ISNUMBER($F51),$F51,IFERROR(--SUBSTITUTE($F51,".","/"),""))+INDEX(参数表!$B$4:$B$6,MATCH($H51,参数表!$A$4:$A$6,0)))) | K51: 46231 | L51: The console not include the UPS, which is provided by the third party | M51: 已关闭 | N51: 46216 | O51: 46218 | P51: 46247 | Q51: 46248 | V51: 未中标厂家（定标前澄清意见）
A52: TA-0048 | B52: DEMO-TA-E010-04 | C52: 操纵台/主控制台 Manoeuvre Console / Main Console | D52: 厂家L | E52: 船东 | F52: 46229 | G52: 确认台内接线电缆截面 Please confirm Internal wiring cable size information | H52: C | J52: =IF(OR($H52="",NOT(ISNUMBER(IF(ISNUMBER($F52),$F52,IFERROR(--SUBSTITUTE($F52,".","/"),""))))),"",IF(AND($H52="A",ISNUMBER(IF(ISNUMBER($P52),$P52,IFERROR(--SUBSTITUTE($P52,".","/"),""))),IF(ISNUMBER($P52),$P52,IFERROR(--SUBSTITUTE($P52,".","/"),""))>=IF(ISNUMBER($F52),$F52,IFERROR(--SUBSTITUTE($F52,".","/"),""))),MIN(IF(ISNUMBER($F52),$F52,IFERROR(--SUBSTITUTE($F52,".","/"),""))+INDEX(参数表!$B$4:$B$6,MATCH($H52,参数表!$A$4:$A$6,0)),IF(ISNUMBER($P52),$P52,IFERROR(--SUBSTITUTE($P52,".","/"),""))),IF(ISNUMBER($F52),$F52,IFERROR(--SUBSTITUTE($F52,".","/"),""))+INDEX(参数表!$B$4:$B$6,MATCH($H52,参数表!$A$4:$A$6,0)))) | K52: 46237 | L52: Min. 0.75mm2 for control circuit, Min. 1.5mm2 for power circuit | M52: 已关闭 | N52: 46216 | O52: 46218 | P52: 46247 | Q52: 46248 | V52: 未中标厂家（定标前澄清意见）
A53: TA-0049 | B53: DEMO-TA-E010-04 | C53: 操纵台/主控制台 Manoeuvre Console / Main Console | D53: 厂家L | E53: 船东 | F53: 46228 | G53: 提供各控制台外形布置图 Please provide layout (outline view) dwg for each control console | H53: B | J53: =IF(OR($H53="",NOT(ISNUMBER(IF(ISNUMBER($F53),$F53,IFERROR(--SUBSTITUTE($F53,".","/"),""))))),"",IF(AND($H53="A",ISNUMBER(IF(ISNUMBER($P53),$P53,IFERROR(--SUBSTITUTE($P53,".","/"),""))),IF(ISNUMBER($P53),$P53,IFERROR(--SUBSTITUTE($P53,".","/"),""))>=IF(ISNUMBER($F53),$F53,IFERROR(--SUBSTITUTE($F53,".","/"),""))),MIN(IF(ISNUMBER($F53),$F53,IFERROR(--SUBSTITUTE($F53,".","/"),""))+INDEX(参数表!$B$4:$B$6,MATCH($H53,参数表!$A$4:$A$6,0)),IF(ISNUMBER($P53),$P53,IFERROR(--SUBSTITUTE($P53,".","/"),""))),IF(ISNUMBER($F53),$F53,IFERROR(--SUBSTITUTE($F53,".","/"),""))+INDEX(参数表!$B$4:$B$6,MATCH($H53,参数表!$A$4:$A$6,0)))) | K53: 46230 | L53: We will provide approval drawing to yard after the business contract is awarded | M53: 已关闭 | N53: 46216 | O53: 46218 | P53: 46247 | Q53: 46248 | V53: 未中标厂家（定标前澄清意见）
A54: TA-0050 | B54: DEMO-TA-E018-01 | C54: 低压配电板及分电箱 LV Switchboard and Power Panel | D54: 厂家I | E54: 船东 | F54: 46322 | G54: 本船电制为 60Hz 而非 50Hz，须修改 0-4:Vessel is 60Hz and not 50Hz please amend | H54: A | J54: =IF(OR($H54="",NOT(ISNUMBER(IF(ISNUMBER($F54),$F54,IFERROR(--SUBSTITUTE($F54,".","/"),""))))),"",IF(AND($H54="A",ISNUMBER(IF(ISNUMBER($P54),$P54,IFERROR(--SUBSTITUTE($P54,".","/"),""))),IF(ISNUMBER($P54),$P54,IFERROR(--SUBSTITUTE($P54,".","/"),""))>=IF(ISNUMBER($F54),$F54,IFERROR(--SUBSTITUTE($F54,".","/"),""))),MIN(IF(ISNUMBER($F54),$F54,IFERROR(--SUBSTITUTE($F54,".","/"),""))+INDEX(参数表!$B$4:$B$6,MATCH($H54,参数表!$A$4:$A$6,0)),IF(ISNUMBER($P54),$P54,IFERROR(--SUBSTITUTE($P54,".","/"),""))),IF(ISNUMBER($F54),$F54,IFERROR(--SUBSTITUTE($F54,".","/"),""))+INDEX(参数表!$B$4:$B$6,MATCH($H54,参数表!$A$4:$A$6,0)))) | K54: 46323 | L54: Agree. We'll update it. | M54: 已回复待确认 | N54: 46293 | O54: 46297 | P54: 46340 | R54: √ | S54: 缺 | T54: √ | V54: 中标厂家
A55: TA-0051 | B55: DEMO-TA-E018-01 | C55: 低压配电板及分电箱 LV Switchboard and Power Panel | D55: 厂家I | E55: 船东 | F55: 46322 | G55: 所有配电板、分电箱、开关箱、母排等布置图（含仪表、设备、尺寸、标识、原理图）须送审 All switchboards, panels, switch boxes, bus bars etc. layouts with its respective instrumentation, equipment, dimensions, marking and diagrams etc to be be submitted for verification | H55: B | J55: =IF(OR($H55="",NOT(ISNUMBER(IF(ISNUMBER($F55),$F55,IFERROR(--SUBSTITUTE($F55,".","/"),""))))),"",IF(AND($H55="A",ISNUMBER(IF(ISNUMBER($P55),$P55,IFERROR(--SUBSTITUTE($P55,".","/"),""))),IF(ISNUMBER($P55),$P55,IFERROR(--SUBSTITUTE($P55,".","/"),""))>=IF(ISNUMBER($F55),$F55,IFERROR(--SUBSTITUTE($F55,".","/"),""))),MIN(IF(ISNUMBER($F55),$F55,IFERROR(--SUBSTITUTE($F55,".","/"),""))+INDEX(参数表!$B$4:$B$6,MATCH($H55,参数表!$A$4:$A$6,0)),IF(ISNUMBER($P55),$P55,IFERROR(--SUBSTITUTE($P55,".","/"),""))),IF(ISNUMBER($F55),$F55,IFERROR(--SUBSTITUTE($F55,".","/"),""))+INDEX(参数表!$B$4:$B$6,MATCH($H55,参数表!$A$4:$A$6,0)))) | K55: 46327 | L55: Agree. We'll submit it in approval drawing stage. | M55: 已认可待落实 | N55: 46293 | O55: 46297 | P55: 46340 | R55: √ | S55: 缺 | T55: √ | V55: 中标厂家
A56: TA-0052 | B56: DEMO-TA-E018-01 | C56: 低压配电板及分电箱 LV Switchboard and Power Panel | D56: 厂家I | E56: 船东 | F56: 46322 | G56: 直流电缆颜色：正极红、负极黑 0-6: DC cable: Positive:Red. Negative: Black. | H56: B | J56: =IF(OR($H56="",NOT(ISNUMBER(IF(ISNUMBER($F56),$F56,IFERROR(--SUBSTITUTE($F56,".","/"),""))))),"",IF(AND($H56="A",ISNUMBER(IF(ISNUMBER($P56),$P56,IFERROR(--SUBSTITUTE($P56,".","/"),""))),IF(ISNUMBER($P56),$P56,IFERROR(--SUBSTITUTE($P56,".","/"),""))>=IF(ISNUMBER($F56),$F56,IFERROR(--SUBSTITUTE($F56,".","/"),""))),MIN(IF(ISNUMBER($F56),$F56,IFERROR(--SUBSTITUTE($F56,".","/"),""))+INDEX(参数表!$B$4:$B$6,MATCH($H56,参数表!$A$4:$A$6,0)),IF(ISNUMBER($P56),$P56,IFERROR(--SUBSTITUTE($P56,".","/"),""))),IF(ISNUMBER($F56),$F56,IFERROR(--SUBSTITUTE($F56,".","/"),""))+INDEX(参数表!$B$4:$B$6,MATCH($H56,参数表!$A$4:$A$6,0)))) | K56: 46327 | L56: Agree. We'll update it. | M56: 已关闭 | N56: 46293 | O56: 46297 | P56: 46340 | R56: √ | S56: 缺 | T56: √ | V56: 中标厂家
A57: TA-0053 | B57: DEMO-TA-E018-01 | C57: 低压配电板及分电箱 LV Switchboard and Power Panel | D57: 厂家I | E57: 船东 | F57: 46323 | G57: 不接受记号/热印线号，须采用可打印热缩管或标签 0-9: Wire identification with hot marker is not acceptable. Printable shrinkable tube, or tags are accepted. | H57: B | J57: =IF(OR($H57="",NOT(ISNUMBER(IF(ISNUMBER($F57),$F57,IFERROR(--SUBSTITUTE($F57,".","/"),""))))),"",IF(AND($H57="A",ISNUMBER(IF(ISNUMBER($P57),$P57,IFERROR(--SUBSTITUTE($P57,".","/"),""))),IF(ISNUMBER($P57),$P57,IFERROR(--SUBSTITUTE($P57,".","/"),""))>=IF(ISNUMBER($F57),$F57,IFERROR(--SUBSTITUTE($F57,".","/"),""))),MIN(IF(ISNUMBER($F57),$F57,IFERROR(--SUBSTITUTE($F57,".","/"),""))+INDEX(参数表!$B$4:$B$6,MATCH($H57,参数表!$A$4:$A$6,0)),IF(ISNUMBER($P57),$P57,IFERROR(--SUBSTITUTE($P57,".","/"),""))),IF(ISNUMBER($F57),$F57,IFERROR(--SUBSTITUTE($F57,".","/"),""))+INDEX(参数表!$B$4:$B$6,MATCH($H57,参数表!$A$4:$A$6,0)))) | K57: 46325 | L57: Agree. We'll update it. | M57: 已认可待落实 | N57: 46293 | O57: 46297 | P57: 46340 | R57: √ | S57: 缺 | T57: √ | V57: 中标厂家
A58: TA-0054 | B58: DEMO-TA-E018-01 | C58: 低压配电板及分电箱 LV Switchboard and Power Panel | D58: 厂家I | E58: 船东 | F58: 46323 | G58: 所有配电板/箱外壳颜色须为 RAL 9001（奶白色） All switcboard/panels etc external colour to be equivalent to RAL 9001 (cream) | H58: B | J58: =IF(OR($H58="",NOT(ISNUMBER(IF(ISNUMBER($F58),$F58,IFERROR(--SUBSTITUTE($F58,".","/"),""))))),"",IF(AND($H58="A",ISNUMBER(IF(ISNUMBER($P58),$P58,IFERROR(--SUBSTITUTE($P58,".","/"),""))),IF(ISNUMBER($P58),$P58,IFERROR(--SUBSTITUTE($P58,".","/"),""))>=IF(ISNUMBER($F58),$F58,IFERROR(--SUBSTITUTE($F58,".","/"),""))),MIN(IF(ISNUMBER($F58),$F58,IFERROR(--SUBSTITUTE($F58,".","/"),""))+INDEX(参数表!$B$4:$B$6,MATCH($H58,参数表!$A$4:$A$6,0)),IF(ISNUMBER($P58),$P58,IFERROR(--SUBSTITUTE($P58,".","/"),""))),IF(ISNUMBER($F58),$F58,IFERROR(--SUBSTITUTE($F58,".","/"),""))+INDEX(参数表!$B$4:$B$6,MATCH($H58,参数表!$A$4:$A$6,0)))) | K58: 46324 | L58: Agree. We'll update it. | M58: 已回复待确认 | N58: 46293 | O58: 46297 | P58: 46340 | R58: √ | S58: 缺 | T58: √ | V58: 中标厂家
A59: TA-0055 | B59: DEMO-TA-E018-01 | C59: 低压配电板及分电箱 LV Switchboard and Power Panel | D59: 厂家I | E59: 船东 | F59: 46323 | G59: 应急/停泊发电机：确认主配电板恢复供电后应急发电机自动停机 Emergency/Harbor Generator: Kindly confirm that the em/cy gen will stop automaticaly once power from the main swbd will be restored. | H59: B | J59: =IF(OR($H59="",NOT(ISNUMBER(IF(ISNUMBER($F59),$F59,IFERROR(--SUBSTITUTE($F59,".","/"),""))))),"",IF(AND($H59="A",ISNUMBER(IF(ISNUMBER($P59),$P59,IFERROR(--SUBSTITUTE($P59,".","/"),""))),IF(ISNUMBER($P59),$P59,IFERROR(--SUBSTITUTE($P59,".","/"),""))>=IF(ISNUMBER($F59),$F59,IFERROR(--SUBSTITUTE($F59,".","/"),""))),MIN(IF(ISNUMBER($F59),$F59,IFERROR(--SUBSTITUTE($F59,".","/"),""))+INDEX(参数表!$B$4:$B$6,MATCH($H59,参数表!$A$4:$A$6,0)),IF(ISNUMBER($P59),$P59,IFERROR(--SUBSTITUTE($P59,".","/"),""))),IF(ISNUMBER($F59),$F59,IFERROR(--SUBSTITUTE($F59,".","/"),""))+INDEX(参数表!$B$4:$B$6,MATCH($H59,参数表!$A$4:$A$6,0)))) | K59: 46327 | L59: Confirm. | M59: 已关闭 | N59: 46293 | O59: 46297 | P59: 46340 | R59: √ | S59: 缺 | T59: √ | V59: 中标厂家
A60: TA-0056 | B60: DEMO-TA-E018-01 | C60: 低压配电板及分电箱 LV Switchboard and Power Panel | D60: 厂家I | E60: 船东 | F60: 46324 | G60: 应急/停泊发电机：说明停泊模式操作程序，澄清短时并车持续时长 Emergency/Harbor Generator: Kindly advise operation sequence on harbor mode.Kindly clarify the short-time synchronous parallel mode. How many seconds will this last? | H60: B | J60: =IF(OR($H60="",NOT(ISNUMBER(IF(ISNUMBER($F60),$F60,IFERROR(--SUBSTITUTE($F60,".","/"),""))))),"",IF(AND($H60="A",ISNUMBER(IF(ISNUMBER($P60),$P60,IFERROR(--SUBSTITUTE($P60,".","/"),""))),IF(ISNUMBER($P60),$P60,IFERROR(--SUBSTITUTE($P60,".","/"),""))>=IF(ISNUMBER($F60),$F60,IFERROR(--SUBSTITUTE($F60,".","/"),""))),MIN(IF(ISNUMBER($F60),$F60,IFERROR(--SUBSTITUTE($F60,".","/"),""))+INDEX(参数表!$B$4:$B$6,MATCH($H60,参数表!$A$4:$A$6,0)),IF(ISNUMBER($P60),$P60,IFERROR(--SUBSTITUTE($P60,".","/"),""))),IF(ISNUMBER($F60),$F60,IFERROR(--SUBSTITUTE($F60,".","/"),""))+INDEX(参数表!$B$4:$B$6,MATCH($H60,参数表!$A$4:$A$6,0)))) | K60: 46330 | L60: operation sequence on harbor mode： 1.Put the EG Operating Mode switch in harbor position； 2.Press the start button for the harbor generator； 3.Put the Synchroscope Switch in EG position； 4.Adjust the speed of the harbor generator to make its frequency slightly higher than the busbar； 5.Observe the Synchroscope and press the harbor generator closing button when the LED light rotates to 12 o'clock; 6.Adjust the speed of the harbor generator to transfer the load to the harbor generator, and then press the remote control open button of the transformer circuit breaker on the 440V ASB. Short-time synchronous parallel mode will last about 60 seconds. | M60: 已关闭 | N60: 46293 | O60: 46297 | P60: 46340 | R60: √ | S60: 缺 | T60: √ | V60: 中标厂家
A61: TA-0057 | B61: DEMO-TA-E018-01 | C61: 低压配电板及分电箱 LV Switchboard and Power Panel | D61: 厂家I | E61: 船东 | F61: 46324 | G61: 提供各配电板断路器、继电器、接触器、仪表、保护元件等品牌 Kindly provide maker of: Breaker/relays/ contactors/instuments/safety etc for all switchboards | H61: C | J61: =IF(OR($H61="",NOT(ISNUMBER(IF(ISNUMBER($F61),$F61,IFERROR(--SUBSTITUTE($F61,".","/"),""))))),"",IF(AND($H61="A",ISNUMBER(IF(ISNUMBER($P61),$P61,IFERROR(--SUBSTITUTE($P61,".","/"),""))),IF(ISNUMBER($P61),$P61,IFERROR(--SUBSTITUTE($P61,".","/"),""))>=IF(ISNUMBER($F61),$F61,IFERROR(--SUBSTITUTE($F61,".","/"),""))),MIN(IF(ISNUMBER($F61),$F61,IFERROR(--SUBSTITUTE($F61,".","/"),""))+INDEX(参数表!$B$4:$B$6,MATCH($H61,参数表!$A$4:$A$6,0)),IF(ISNUMBER($P61),$P61,IFERROR(--SUBSTITUTE($P61,".","/"),""))),IF(ISNUMBER($F61),$F61,IFERROR(--SUBSTITUTE($F61,".","/"),""))+INDEX(参数表!$B$4:$B$6,MATCH($H61,参数表!$A$4:$A$6,0)))) | K61: 46326 | L61: Breaker , Contactor to be ABB brand, relay to be of Weidmuller brand and instrument to be of Wuhan Xiangyi brand. | M61: 已关闭 | N61: 46293 | O61: 46297 | P61: 46340 | R61: √ | S61: 缺 | T61: √ | V61: 中标厂家
A62: TA-0058 | B62: DEMO-TA-E018-01 | C62: 低压配电板及分电箱 LV Switchboard and Power Panel | D62: 厂家I | E62: 船东 | F62: 46324 | G62: 提供主要配电板示意图/草图 Kindly provide indicative drawing/sketch from all the major switchboards. | H62: B | J62: =IF(OR($H62="",NOT(ISNUMBER(IF(ISNUMBER($F62),$F62,IFERROR(--SUBSTITUTE($F62,".","/"),""))))),"",IF(AND($H62="A",ISNUMBER(IF(ISNUMBER($P62),$P62,IFERROR(--SUBSTITUTE($P62,".","/"),""))),IF(ISNUMBER($P62),$P62,IFERROR(--SUBSTITUTE($P62,".","/"),""))>=IF(ISNUMBER($F62),$F62,IFERROR(--SUBSTITUTE($F62,".","/"),""))),MIN(IF(ISNUMBER($F62),$F62,IFERROR(--SUBSTITUTE($F62,".","/"),""))+INDEX(参数表!$B$4:$B$6,MATCH($H62,参数表!$A$4:$A$6,0)),IF(ISNUMBER($P62),$P62,IFERROR(--SUBSTITUTE($P62,".","/"),""))),IF(ISNUMBER($F62),$F62,IFERROR(--SUBSTITUTE($F62,".","/"),""))+INDEX(参数表!$B$4:$B$6,MATCH($H62,参数表!$A$4:$A$6,0)))) | K62: 46329 | L62: We'll provide them in approval drawing stage. | M62: 已认可待落实 | N62: 46293 | O62: 46297 | P62: 46340 | R62: √ | S62: 缺 | T62: √ | V62: 中标厂家
A63: TA-0059 | B63: DEMO-TA-E018-01 | C63: 低压配电板及分电箱 LV Switchboard and Power Panel | D63: 厂家I | E63: 船东 | F63: 46324 | G63: 提供以往项目参考照片 Please provide Indicative photos from past projects | H63: C | J63: =IF(OR($H63="",NOT(ISNUMBER(IF(ISNUMBER($F63),$F63,IFERROR(--SUBSTITUTE($F63,".","/"),""))))),"",IF(AND($H63="A",ISNUMBER(IF(ISNUMBER($P63),$P63,IFERROR(--SUBSTITUTE($P63,".","/"),""))),IF(ISNUMBER($P63),$P63,IFERROR(--SUBSTITUTE($P63,".","/"),""))>=IF(ISNUMBER($F63),$F63,IFERROR(--SUBSTITUTE($F63,".","/"),""))),MIN(IF(ISNUMBER($F63),$F63,IFERROR(--SUBSTITUTE($F63,".","/"),""))+INDEX(参数表!$B$4:$B$6,MATCH($H63,参数表!$A$4:$A$6,0)),IF(ISNUMBER($P63),$P63,IFERROR(--SUBSTITUTE($P63,".","/"),""))),IF(ISNUMBER($F63),$F63,IFERROR(--SUBSTITUTE($F63,".","/"),""))+INDEX(参数表!$B$4:$B$6,MATCH($H63,参数表!$A$4:$A$6,0)))) | M63: 待回复 | N63: 46293 | O63: 46297 | P63: 46340 | R63: √ | S63: 缺 | T63: √ | V63: 中标厂家
A64: TA-0060 | B64: DEMO-TA-E018-01 | C64: 低压配电板及分电箱 LV Switchboard and Power Panel | D64: 厂家I | E64: 船东 | F64: 46325 | G64: 确认试验板 24VDC 电源 9-3.: Please confirm 24 VDC supply for test panel | H64: C | J64: =IF(OR($H64="",NOT(ISNUMBER(IF(ISNUMBER($F64),$F64,IFERROR(--SUBSTITUTE($F64,".","/"),""))))),"",IF(AND($H64="A",ISNUMBER(IF(ISNUMBER($P64),$P64,IFERROR(--SUBSTITUTE($P64,".","/"),""))),IF(ISNUMBER($P64),$P64,IFERROR(--SUBSTITUTE($P64,".","/"),""))>=IF(ISNUMBER($F64),$F64,IFERROR(--SUBSTITUTE($F64,".","/"),""))),MIN(IF(ISNUMBER($F64),$F64,IFERROR(--SUBSTITUTE($F64,".","/"),""))+INDEX(参数表!$B$4:$B$6,MATCH($H64,参数表!$A$4:$A$6,0)),IF(ISNUMBER($P64),$P64,IFERROR(--SUBSTITUTE($P64,".","/"),""))),IF(ISNUMBER($F64),$F64,IFERROR(--SUBSTITUTE($F64,".","/"),""))+INDEX(参数表!$B$4:$B$6,MATCH($H64,参数表!$A$4:$A$6,0)))) | K64: 46327 | L64: Confirm. The DC24V comes from the inner DC power module. | M64: 已关闭 | N64: 46293 | O64: 46297 | P64: 46340 | R64: √ | S64: 缺 | T64: √ | V64: 中标厂家
A65: TA-0061 | B65: DEMO-TA-E018-01 | C65: 低压配电板及分电箱 LV Switchboard and Power Panel | D65: 厂家I | E65: 船东 | F65: 46325 | G65: 确认试验板按规格书提供 0–24VDC 及 0–440VAC 可调电源 9-5.: Please confirm for test panel 0-24 VDC and 0-440 VAC variable voltage supply according specification | H65: B | J65: =IF(OR($H65="",NOT(ISNUMBER(IF(ISNUMBER($F65),$F65,IFERROR(--SUBSTITUTE($F65,".","/"),""))))),"",IF(AND($H65="A",ISNUMBER(IF(ISNUMBER($P65),$P65,IFERROR(--SUBSTITUTE($P65,".","/"),""))),IF(ISNUMBER($P65),$P65,IFERROR(--SUBSTITUTE($P65,".","/"),""))>=IF(ISNUMBER($F65),$F65,IFERROR(--SUBSTITUTE($F65,".","/"),""))),MIN(IF(ISNUMBER($F65),$F65,IFERROR(--SUBSTITUTE($F65,".","/"),""))+INDEX(参数表!$B$4:$B$6,MATCH($H65,参数表!$A$4:$A$6,0)),IF(ISNUMBER($P65),$P65,IFERROR(--SUBSTITUTE($P65,".","/"),""))),IF(ISNUMBER($F65),$F65,IFERROR(--SUBSTITUTE($F65,".","/"),""))+INDEX(参数表!$B$4:$B$6,MATCH($H65,参数表!$A$4:$A$6,0)))) | K65: 46330 | L65: Agree. We'll update it. | M65: 已回复待确认 | N65: 46293 | O65: 46297 | P65: 46340 | R65: √ | S65: 缺 | T65: √ | V65: 中标厂家
A66: TA-0062 | B66: DEMO-TA-E018-01 | C66: 低压配电板及分电箱 LV Switchboard and Power Panel | D66: 厂家I | E66: 船东 | F66: 46326 | G66: 提供电缆截面清单（内部及外部接线） please provide list for cable size (internal and external wiring) | H66: C | J66: =IF(OR($H66="",NOT(ISNUMBER(IF(ISNUMBER($F66),$F66,IFERROR(--SUBSTITUTE($F66,".","/"),""))))),"",IF(AND($H66="A",ISNUMBER(IF(ISNUMBER($P66),$P66,IFERROR(--SUBSTITUTE($P66,".","/"),""))),IF(ISNUMBER($P66),$P66,IFERROR(--SUBSTITUTE($P66,".","/"),""))>=IF(ISNUMBER($F66),$F66,IFERROR(--SUBSTITUTE($F66,".","/"),""))),MIN(IF(ISNUMBER($F66),$F66,IFERROR(--SUBSTITUTE($F66,".","/"),""))+INDEX(参数表!$B$4:$B$6,MATCH($H66,参数表!$A$4:$A$6,0)),IF(ISNUMBER($P66),$P66,IFERROR(--SUBSTITUTE($P66,".","/"),""))),IF(ISNUMBER($F66),$F66,IFERROR(--SUBSTITUTE($F66,".","/"),""))+INDEX(参数表!$B$4:$B$6,MATCH($H66,参数表!$A$4:$A$6,0)))) | K66: 46330 | L66: Internal:Power circuit：Minimum 2.5mm2,Control circuit：Minimum 0.75mm2 external:The approved drawing stage will estimate the required cable size and length according to the detailed design. | M66: 已关闭 | N66: 46293 | O66: 46297 | P66: 46340 | R66: √ | S66: 缺 | T66: √ | V66: 中标厂家
A67: TA-0063 | B67: DEMO-TA-E018-02 | C67: 低压配电板及分电箱 LV Switchboard and Power Panel | D67: 厂家J | E67: 船东 | F67: 46191 | G67: 所有配电板、分电箱、开关箱、母排等布置图（含仪表、设备、尺寸、标识、原理图）须送审 All switchboards, panels, switch boxes, bus bars etc. layouts with its respective instrumentation, equipment, dimensions, marking and diagrams etc to be be submitted for verification | H67: B | J67: =IF(OR($H67="",NOT(ISNUMBER(IF(ISNUMBER($F67),$F67,IFERROR(--SUBSTITUTE($F67,".","/"),""))))),"",IF(AND($H67="A",ISNUMBER(IF(ISNUMBER($P67),$P67,IFERROR(--SUBSTITUTE($P67,".","/"),""))),IF(ISNUMBER($P67),$P67,IFERROR(--SUBSTITUTE($P67,".","/"),""))>=IF(ISNUMBER($F67),$F67,IFERROR(--SUBSTITUTE($F67,".","/"),""))),MIN(IF(ISNUMBER($F67),$F67,IFERROR(--SUBSTITUTE($F67,".","/"),""))+INDEX(参数表!$B$4:$B$6,MATCH($H67,参数表!$A$4:$A$6,0)),IF(ISNUMBER($P67),$P67,IFERROR(--SUBSTITUTE($P67,".","/"),""))),IF(ISNUMBER($F67),$F67,IFERROR(--SUBSTITUTE($F67,".","/"),""))+INDEX(参数表!$B$4:$B$6,MATCH($H67,参数表!$A$4:$A$6,0)))) | K67: 46195 | L67: Agree. We'll submit it in approval drawing stage. | M67: 已关闭 | N67: 46178 | O67: 46180 | P67: 46216 | Q67: 46219 | V67: 未中标厂家（定标前澄清意见）
A68: TA-0064 | B68: DEMO-TA-E018-02 | C68: 低压配电板及分电箱 LV Switchboard and Power Panel | D68: 厂家J | E68: 船东 | F68: 46191 | G68: 不接受记号/热印线号，须采用可打印热缩管或标签 0-9: Wire identification with marker is not acceptable. Printable shrinkable tube, or tags are accepted. | H68: B | J68: =IF(OR($H68="",NOT(ISNUMBER(IF(ISNUMBER($F68),$F68,IFERROR(--SUBSTITUTE($F68,".","/"),""))))),"",IF(AND($H68="A",ISNUMBER(IF(ISNUMBER($P68),$P68,IFERROR(--SUBSTITUTE($P68,".","/"),""))),IF(ISNUMBER($P68),$P68,IFERROR(--SUBSTITUTE($P68,".","/"),""))>=IF(ISNUMBER($F68),$F68,IFERROR(--SUBSTITUTE($F68,".","/"),""))),MIN(IF(ISNUMBER($F68),$F68,IFERROR(--SUBSTITUTE($F68,".","/"),""))+INDEX(参数表!$B$4:$B$6,MATCH($H68,参数表!$A$4:$A$6,0)),IF(ISNUMBER($P68),$P68,IFERROR(--SUBSTITUTE($P68,".","/"),""))),IF(ISNUMBER($F68),$F68,IFERROR(--SUBSTITUTE($F68,".","/"),""))+INDEX(参数表!$B$4:$B$6,MATCH($H68,参数表!$A$4:$A$6,0)))) | K68: 46194 | L68: Cable numbers are printed using heat shrink tubes | M68: 已关闭 | N68: 46178 | O68: 46180 | P68: 46216 | Q68: 46219 | V68: 未中标厂家（定标前澄清意见）
A69: TA-0065 | B69: DEMO-TA-E018-02 | C69: 低压配电板及分电箱 LV Switchboard and Power Panel | D69: 厂家J | E69: 船东 | F69: 46191 | G69: 图纸仅使用英文 0-12: Language of the drawings to be only in English | H69: C | J69: =IF(OR($H69="",NOT(ISNUMBER(IF(ISNUMBER($F69),$F69,IFERROR(--SUBSTITUTE($F69,".","/"),""))))),"",IF(AND($H69="A",ISNUMBER(IF(ISNUMBER($P69),$P69,IFERROR(--SUBSTITUTE($P69,".","/"),""))),IF(ISNUMBER($P69),$P69,IFERROR(--SUBSTITUTE($P69,".","/"),""))>=IF(ISNUMBER($F69),$F69,IFERROR(--SUBSTITUTE($F69,".","/"),""))),MIN(IF(ISNUMBER($F69),$F69,IFERROR(--SUBSTITUTE($F69,".","/"),""))+INDEX(参数表!$B$4:$B$6,MATCH($H69,参数表!$A$4:$A$6,0)),IF(ISNUMBER($P69),$P69,IFERROR(--SUBSTITUTE($P69,".","/"),""))),IF(ISNUMBER($F69),$F69,IFERROR(--SUBSTITUTE($F69,".","/"),""))+INDEX(参数表!$B$4:$B$6,MATCH($H69,参数表!$A$4:$A$6,0)))) | K69: 46196 | L69: Agree | M69: 已关闭 | N69: 46178 | O69: 46180 | P69: 46216 | Q69: 46219 | V69: 未中标厂家（定标前澄清意见）
A70: TA-0066 | B70: DEMO-TA-E018-02 | C70: 低压配电板及分电箱 LV Switchboard and Power Panel | D70: 厂家J | E70: 船东 | F70: 46190 | G70: 接触器、热继电器须与断路器同品牌（ABB/西门子），不接受国产品牌 0-23: The contactor,thermal overload relay to be same as the Breakers(ABB/Siemens) for uniformity.No Chinese maker is accepted. | H70: A | J70: =IF(OR($H70="",NOT(ISNUMBER(IF(ISNUMBER($F70),$F70,IFERROR(--SUBSTITUTE($F70,".","/"),""))))),"",IF(AND($H70="A",ISNUMBER(IF(ISNUMBER($P70),$P70,IFERROR(--SUBSTITUTE($P70,".","/"),""))),IF(ISNUMBER($P70),$P70,IFERROR(--SUBSTITUTE($P70,".","/"),""))>=IF(ISNUMBER($F70),$F70,IFERROR(--SUBSTITUTE($F70,".","/"),""))),MIN(IF(ISNUMBER($F70),$F70,IFERROR(--SUBSTITUTE($F70,".","/"),""))+INDEX(参数表!$B$4:$B$6,MATCH($H70,参数表!$A$4:$A$6,0)),IF(ISNUMBER($P70),$P70,IFERROR(--SUBSTITUTE($P70,".","/"),""))),IF(ISNUMBER($F70),$F70,IFERROR(--SUBSTITUTE($F70,".","/"),""))+INDEX(参数表!$B$4:$B$6,MATCH($H70,参数表!$A$4:$A$6,0)))) | K70: 46192 | L70: Agreed. The breaker to be of ABB or siemens brand | M70: 已关闭 | N70: 46178 | O70: 46180 | P70: 46216 | Q70: 46219 | V70: 未中标厂家（定标前澄清意见）
A71: TA-0067 | B71: DEMO-TA-E018-02 | C71: 低压配电板及分电箱 LV Switchboard and Power Panel | D71: 厂家J | E71: 船东 | F71: 46191 | G71: 所有配电板/箱外壳颜色须为 RAL 9001（奶白色） All switcboard/panels etc external colour to be equivalent to RAL 9001 (cream) | H71: B | J71: =IF(OR($H71="",NOT(ISNUMBER(IF(ISNUMBER($F71),$F71,IFERROR(--SUBSTITUTE($F71,".","/"),""))))),"",IF(AND($H71="A",ISNUMBER(IF(ISNUMBER($P71),$P71,IFERROR(--SUBSTITUTE($P71,".","/"),""))),IF(ISNUMBER($P71),$P71,IFERROR(--SUBSTITUTE($P71,".","/"),""))>=IF(ISNUMBER($F71),$F71,IFERROR(--SUBSTITUTE($F71,".","/"),""))),MIN(IF(ISNUMBER($F71),$F71,IFERROR(--SUBSTITUTE($F71,".","/"),""))+INDEX(参数表!$B$4:$B$6,MATCH($H71,参数表!$A$4:$A$6,0)),IF(ISNUMBER($P71),$P71,IFERROR(--SUBSTITUTE($P71,".","/"),""))),IF(ISNUMBER($F71),$F71,IFERROR(--SUBSTITUTE($F71,".","/"),""))+INDEX(参数表!$B$4:$B$6,MATCH($H71,参数表!$A$4:$A$6,0)))) | K71: 46193 | L71: Agreed. | M71: 已关闭 | N71: 46178 | O71: 46180 | P71: 46216 | Q71: 46219 | V71: 未中标厂家（定标前澄清意见）
A72: TA-0068 | B72: DEMO-TA-E018-02 | C72: 低压配电板及分电箱 LV Switchboard and Power Panel | D72: 厂家J | E72: 船东 | F72: 46191 | G72: 应急/停泊发电机：确认主配电板恢复供电后应急发电机自动停机 Emergency/Harbor Generator: Kindly confirm that the em/cy gen will stop automaticaly once power from the main swbd will be restored. | H72: B | J72: =IF(OR($H72="",NOT(ISNUMBER(IF(ISNUMBER($F72),$F72,IFERROR(--SUBSTITUTE($F72,".","/"),""))))),"",IF(AND($H72="A",ISNUMBER(IF(ISNUMBER($P72),$P72,IFERROR(--SUBSTITUTE($P72,".","/"),""))),IF(ISNUMBER($P72),$P72,IFERROR(--SUBSTITUTE($P72,".","/"),""))>=IF(ISNUMBER($F72),$F72,IFERROR(--SUBSTITUTE($F72,".","/"),""))),MIN(IF(ISNUMBER($F72),$F72,IFERROR(--SUBSTITUTE($F72,".","/"),""))+INDEX(参数表!$B$4:$B$6,MATCH($H72,参数表!$A$4:$A$6,0)),IF(ISNUMBER($P72),$P72,IFERROR(--SUBSTITUTE($P72,".","/"),""))),IF(ISNUMBER($F72),$F72,IFERROR(--SUBSTITUTE($F72,".","/"),""))+INDEX(参数表!$B$4:$B$6,MATCH($H72,参数表!$A$4:$A$6,0)))) | K72: 46195 | L72: Confirm，Technical Protocols 3-4 have been described | M72: 已关闭 | N72: 46178 | O72: 46180 | P72: 46216 | Q72: 46219 | V72: 未中标厂家（定标前澄清意见）
A73: TA-0069 | B73: DEMO-TA-E018-02 | C73: 低压配电板及分电箱 LV Switchboard and Power Panel | D73: 厂家J | E73: 船东 | F73: 46193 | G73: 提供各配电板断路器、继电器、接触器、仪表、保护元件等品牌 Kindly provide maker of: Breaker/relays/ contactors/instuments/safety etc for all switchboards | H73: C | J73: =IF(OR($H73="",NOT(ISNUMBER(IF(ISNUMBER($F73),$F73,IFERROR(--SUBSTITUTE($F73,".","/"),""))))),"",IF(AND($H73="A",ISNUMBER(IF(ISNUMBER($P73),$P73,IFERROR(--SUBSTITUTE($P73,".","/"),""))),IF(ISNUMBER($P73),$P73,IFERROR(--SUBSTITUTE($P73,".","/"),""))>=IF(ISNUMBER($F73),$F73,IFERROR(--SUBSTITUTE($F73,".","/"),""))),MIN(IF(ISNUMBER($F73),$F73,IFERROR(--SUBSTITUTE($F73,".","/"),""))+INDEX(参数表!$B$4:$B$6,MATCH($H73,参数表!$A$4:$A$6,0)),IF(ISNUMBER($P73),$P73,IFERROR(--SUBSTITUTE($P73,".","/"),""))),IF(ISNUMBER($F73),$F73,IFERROR(--SUBSTITUTE($F73,".","/"),""))+INDEX(参数表!$B$4:$B$6,MATCH($H73,参数表!$A$4:$A$6,0)))) | K73: 46199 | L73: The brand of breaker/relays/ contactors is ABB or siemens,the brand of instrument is Shanghai ziyi | M73: 已关闭 | N73: 46178 | O73: 46180 | P73: 46216 | Q73: 46219 | V73: 未中标厂家（定标前澄清意见）
A74: TA-0070 | B74: DEMO-TA-E018-02 | C74: 低压配电板及分电箱 LV Switchboard and Power Panel | D74: 厂家J | E74: 船东 | F74: 46192 | G74: 提供主要配电板示意图/草图 Kindly provide indicative drawing/sketch from all the major switchboards. | H74: B | J74: =IF(OR($H74="",NOT(ISNUMBER(IF(ISNUMBER($F74),$F74,IFERROR(--SUBSTITUTE($F74,".","/"),""))))),"",IF(AND($H74="A",ISNUMBER(IF(ISNUMBER($P74),$P74,IFERROR(--SUBSTITUTE($P74,".","/"),""))),IF(ISNUMBER($P74),$P74,IFERROR(--SUBSTITUTE($P74,".","/"),""))>=IF(ISNUMBER($F74),$F74,IFERROR(--SUBSTITUTE($F74,".","/"),""))),MIN(IF(ISNUMBER($F74),$F74,IFERROR(--SUBSTITUTE($F74,".","/"),""))+INDEX(参数表!$B$4:$B$6,MATCH($H74,参数表!$A$4:$A$6,0)),IF(ISNUMBER($P74),$P74,IFERROR(--SUBSTITUTE($P74,".","/"),""))),IF(ISNUMBER($F74),$F74,IFERROR(--SUBSTITUTE($F74,".","/"),""))+INDEX(参数表!$B$4:$B$6,MATCH($H74,参数表!$A$4:$A$6,0)))) | K74: 46195 | L74: We'll submit it in approval drawing stage. | M74: 已关闭 | N74: 46178 | O74: 46180 | P74: 46216 | Q74: 46219 | V74: 未中标厂家（定标前澄清意见）
A75: TA-0071 | B75: DEMO-TA-E018-02 | C75: 低压配电板及分电箱 LV Switchboard and Power Panel | D75: 厂家J | E75: 船东 | F75: 46190 | G75: 提供以往项目参考照片 Please provide Indicative photos from past projects | H75: C | J75: =IF(OR($H75="",NOT(ISNUMBER(IF(ISNUMBER($F75),$F75,IFERROR(--SUBSTITUTE($F75,".","/"),""))))),"",IF(AND($H75="A",ISNUMBER(IF(ISNUMBER($P75),$P75,IFERROR(--SUBSTITUTE($P75,".","/"),""))),IF(ISNUMBER($P75),$P75,IFERROR(--SUBSTITUTE($P75,".","/"),""))>=IF(ISNUMBER($F75),$F75,IFERROR(--SUBSTITUTE($F75,".","/"),""))),MIN(IF(ISNUMBER($F75),$F75,IFERROR(--SUBSTITUTE($F75,".","/"),""))+INDEX(参数表!$B$4:$B$6,MATCH($H75,参数表!$A$4:$A$6,0)),IF(ISNUMBER($P75),$P75,IFERROR(--SUBSTITUTE($P75,".","/"),""))),IF(ISNUMBER($F75),$F75,IFERROR(--SUBSTITUTE($F75,".","/"),""))+INDEX(参数表!$B$4:$B$6,MATCH($H75,参数表!$A$4:$A$6,0)))) | K75: 46192 | L75: Please refer to the attached file. | M75: 已关闭 | N75: 46178 | O75: 46180 | P75: 46216 | Q75: 46219 | V75: 未中标厂家（定标前澄清意见）
A76: TA-0072 | B76: DEMO-TA-E018-02 | C76: 低压配电板及分电箱 LV Switchboard and Power Panel | D76: 厂家J | E76: 船东 | F76: 46191 | G76: 直流电缆颜色：正极红、负极黑 0-6: DC cable: Positive:Red. Negative: Black. | H76: B | J76: =IF(OR($H76="",NOT(ISNUMBER(IF(ISNUMBER($F76),$F76,IFERROR(--SUBSTITUTE($F76,".","/"),""))))),"",IF(AND($H76="A",ISNUMBER(IF(ISNUMBER($P76),$P76,IFERROR(--SUBSTITUTE($P76,".","/"),""))),IF(ISNUMBER($P76),$P76,IFERROR(--SUBSTITUTE($P76,".","/"),""))>=IF(ISNUMBER($F76),$F76,IFERROR(--SUBSTITUTE($F76,".","/"),""))),MIN(IF(ISNUMBER($F76),$F76,IFERROR(--SUBSTITUTE($F76,".","/"),""))+INDEX(参数表!$B$4:$B$6,MATCH($H76,参数表!$A$4:$A$6,0)),IF(ISNUMBER($P76),$P76,IFERROR(--SUBSTITUTE($P76,".","/"),""))),IF(ISNUMBER($F76),$F76,IFERROR(--SUBSTITUTE($F76,".","/"),""))+INDEX(参数表!$B$4:$B$6,MATCH($H76,参数表!$A$4:$A$6,0)))) | K76: 46196 | L76: Agree | M76: 已关闭 | N76: 46178 | O76: 46180 | P76: 46216 | Q76: 46219 | V76: 未中标厂家（定标前澄清意见）
A77: TA-0073 | B77: DEMO-TA-E018-02 | C77: 低压配电板及分电箱 LV Switchboard and Power Panel | D77: 厂家J | E77: 船东 | F77: 46190 | G77: 确认试验板 24VDC 电源 10-3.: Please confirm 24 VDC supply for test panel | H77: C | J77: =IF(OR($H77="",NOT(ISNUMBER(IF(ISNUMBER($F77),$F77,IFERROR(--SUBSTITUTE($F77,".","/"),""))))),"",IF(AND($H77="A",ISNUMBER(IF(ISNUMBER($P77),$P77,IFERROR(--SUBSTITUTE($P77,".","/"),""))),IF(ISNUMBER($P77),$P77,IFERROR(--SUBSTITUTE($P77,".","/"),""))>=IF(ISNUMBER($F77),$F77,IFERROR(--SUBSTITUTE($F77,".","/"),""))),MIN(IF(ISNUMBER($F77),$F77,IFERROR(--SUBSTITUTE($F77,".","/"),""))+INDEX(参数表!$B$4:$B$6,MATCH($H77,参数表!$A$4:$A$6,0)),IF(ISNUMBER($P77),$P77,IFERROR(--SUBSTITUTE($P77,".","/"),""))),IF(ISNUMBER($F77),$F77,IFERROR(--SUBSTITUTE($F77,".","/"),""))+INDEX(参数表!$B$4:$B$6,MATCH($H77,参数表!$A$4:$A$6,0)))) | K77: 46193 | L77: confirm, The DC24V comes from the inner DC power module. | M77: 已关闭 | N77: 46178 | O77: 46180 | P77: 46216 | Q77: 46219 | V77: 未中标厂家（定标前澄清意见）
A78: TA-0074 | B78: DEMO-TA-E018-02 | C78: 低压配电板及分电箱 LV Switchboard and Power Panel | D78: 厂家J | E78: 船东 | F78: 46193 | G78: 提供电缆截面清单（内部及外部接线） please provide list for cable size (internal and external wiring) | H78: C | J78: =IF(OR($H78="",NOT(ISNUMBER(IF(ISNUMBER($F78),$F78,IFERROR(--SUBSTITUTE($F78,".","/"),""))))),"",IF(AND($H78="A",ISNUMBER(IF(ISNUMBER($P78),$P78,IFERROR(--SUBSTITUTE($P78,".","/"),""))),IF(ISNUMBER($P78),$P78,IFERROR(--SUBSTITUTE($P78,".","/"),""))>=IF(ISNUMBER($F78),$F78,IFERROR(--SUBSTITUTE($F78,".","/"),""))),MIN(IF(ISNUMBER($F78),$F78,IFERROR(--SUBSTITUTE($F78,".","/"),""))+INDEX(参数表!$B$4:$B$6,MATCH($H78,参数表!$A$4:$A$6,0)),IF(ISNUMBER($P78),$P78,IFERROR(--SUBSTITUTE($P78,".","/"),""))),IF(ISNUMBER($F78),$F78,IFERROR(--SUBSTITUTE($F78,".","/"),""))+INDEX(参数表!$B$4:$B$6,MATCH($H78,参数表!$A$4:$A$6,0)))) | K78: 46194 | L78: Flame retardant and halogen free ,Low Smoke.Control line at least 1mm², PLC and other special devices according to equipment requirements, current transformer with not less than 2.5mm². | M78: 已关闭 | N78: 46178 | O78: 46180 | P78: 46216 | Q78: 46219 | V78: 未中标厂家（定标前澄清意见）
... A94: TA-0090 | B94: DEMO-TA-E018-05 | C94: 低压配电板及分电箱 LV Switchboard and Power Panel | D94: 厂家K | E94: 船东 | F94: 46195 | G94: 提供以往项目参考照片 Please provide Indicative photos from past projects | H94: C | J94: =IF(OR($H94="",NOT(ISNUMBER(IF(ISNUMBER($F94),$F94,IFERROR(--SUBSTITUTE($F94,".","/"),""))))),"",IF(AND($H94="A",ISNUMBER(IF(ISNUMBER($P94),$P94,IFERROR(--SUBSTITUTE($P94,".","/"),""))),IF(ISNUMBER($P94),$P94,IFERROR(--SUBSTITUTE($P94,".","/"),""))>=IF(ISNUMBER($F94),$F94,IFERROR(--SUBSTITUTE($F94,".","/"),""))),MIN(IF(ISNUMBER($F94),$F94,IFERROR(--SUBSTITUTE($F94,".","/"),""))+INDEX(参数表!$B$4:$B$6,MATCH($H94,参数表!$A$4:$A$6,0)),IF(ISNUMBER($P94),$P94,IFERROR(--SUBSTITUTE($P94,".","/"),""))),IF(ISNUMBER($F94),$F94,IFERROR(--SUBSTITUTE($F94,".","/"),""))+INDEX(参数表!$B$4:$B$6,MATCH($H94,参数表!$A$4:$A$6,0)))) | K94: 46198 | L94: Please refer to the attached file. | M94: 已关闭 | N94: 46189 | O94: 46188 | P94: 46217 | Q94: 46223 | V94: 未中标厂家（定标前澄清意见）
A95: TA-0091 | B95: DEMO-TA-M019-01 | C95: 局部水雾灭火系统 Local Water Mist Fire Fighting System | D95: 厂家N | E95: 船东 | F95: 46173 | G95: TA 须纳入质保条款 Warranty terms to be included in the Technical agreement | H95: A | J95: =IF(OR($H95="",NOT(ISNUMBER(IF(ISNUMBER($F95),$F95,IFERROR(--SUBSTITUTE($F95,".","/"),""))))),"",IF(AND($H95="A",ISNUMBER(IF(ISNUMBER($P95),$P95,IFERROR(--SUBSTITUTE($P95,".","/"),""))),IF(ISNUMBER($P95),$P95,IFERROR(--SUBSTITUTE($P95,".","/"),""))>=IF(ISNUMBER($F95),$F95,IFERROR(--SUBSTITUTE($F95,".","/"),""))),MIN(IF(ISNUMBER($F95),$F95,IFERROR(--SUBSTITUTE($F95,".","/"),""))+INDEX(参数表!$B$4:$B$6,MATCH($H95,参数表!$A$4:$A$6,0)),IF(ISNUMBER($P95),$P95,IFERROR(--SUBSTITUTE($P95,".","/"),""))),IF(ISNUMBER($F95),$F95,IFERROR(--SUBSTITUTE($F95,".","/"),""))+INDEX(参数表!$B$4:$B$6,MATCH($H95,参数表!$A$4:$A$6,0)))) | K95: 46174 | L95: Vendor reply: Meet the requirements | M95: 已关闭 | N95: 46163 | O95: 46161 | P95: 46187 | Q95: 46192 | R95: √ | S95: √ | T95: √ | U95: √ | V95: 中标厂家 | W95: 46248
A96: TA-0092 | B96: DEMO-TA-M019-01 | C96: 局部水雾灭火系统 Local Water Mist Fire Fighting System | D96: 厂家N | E96: 船东 | F96: 46171 | G96: 提供全球认可的服务站 Global approved service station to be provided | H96: C | J96: =IF(OR($H96="",NOT(ISNUMBER(IF(ISNUMBER($F96),$F96,IFERROR(--SUBSTITUTE($F96,".","/"),""))))),"",IF(AND($H96="A",ISNUMBER(IF(ISNUMBER($P96),$P96,IFERROR(--SUBSTITUTE($P96,".","/"),""))),IF(ISNUMBER($P96),$P96,IFERROR(--SUBSTITUTE($P96,".","/"),""))>=IF(ISNUMBER($F96),$F96,IFERROR(--SUBSTITUTE($F96,".","/"),""))),MIN(IF(ISNUMBER($F96),$F96,IFERROR(--SUBSTITUTE($F96,".","/"),""))+INDEX(参数表!$B$4:$B$6,MATCH($H96,参数表!$A$4:$A$6,0)),IF(ISNUMBER($P96),$P96,IFERROR(--SUBSTITUTE($P96,".","/"),""))),IF(ISNUMBER($F96),$F96,IFERROR(--SUBSTITUTE($F96,".","/"),""))+INDEX(参数表!$B$4:$B$6,MATCH($H96,参数表!$A$4:$A$6,0)))) | K96: 46173 | L96: Vendor reply: Meet the requirements | M96: 已关闭 | N96: 46163 | O96: 46161 | P96: 46187 | Q96: 46192 | R96: √ | S96: √ | T96: √ | U96: √ | V96: 中标厂家 | W96: 46248
A97: TA-0093 | B97: DEMO-TA-M019-01 | C97: 局部水雾灭火系统 Local Water Mist Fire Fighting System | D97: 厂家N | E97: 船东 | F97: 46170 | G97: 说明消防泵站所用材料 Please provide more details on fire pump station regarding materials used | H97: C | J97: =IF(OR($H97="",NOT(ISNUMBER(IF(ISNUMBER($F97),$F97,IFERROR(--SUBSTITUTE($F97,".","/"),""))))),"",IF(AND($H97="A",ISNUMBER(IF(ISNUMBER($P97),$P97,IFERROR(--SUBSTITUTE($P97,".","/"),""))),IF(ISNUMBER($P97),$P97,IFERROR(--SUBSTITUTE($P97,".","/"),""))>=IF(ISNUMBER($F97),$F97,IFERROR(--SUBSTITUTE($F97,".","/"),""))),MIN(IF(ISNUMBER($F97),$F97,IFERROR(--SUBSTITUTE($F97,".","/"),""))+INDEX(参数表!$B$4:$B$6,MATCH($H97,参数表!$A$4:$A$6,0)),IF(ISNUMBER($P97),$P97,IFERROR(--SUBSTITUTE($P97,".","/"),""))),IF(ISNUMBER($F97),$F97,IFERROR(--SUBSTITUTE($F97,".","/"),""))+INDEX(参数表!$B$4:$B$6,MATCH($H97,参数表!$A$4:$A$6,0)))) | K97: 46173 | L97: Vendor reply: Pipeline material ：304, Frame material：Q235 | M97: 已关闭 | N97: 46163 | O97: 46161 | P97: 46187 | Q97: 46192 | R97: √ | S97: √ | T97: √ | U97: √ | V97: 中标厂家 | W97: 46248
A98: TA-0094 | B98: DEMO-TA-M019-01 | C98: 局部水雾灭火系统 Local Water Mist Fire Fighting System | D98: 厂家N | E98: 船东 | F98: 46171 | G98: 提供含安装及检修尺寸、隔离阀、止回阀、滤器等的图纸/草图 In addition to the above. Drawign / sketch with Installation and mainteneance / service dimensions, isolation valves, not-return valves, strainers and so on | H98: B | J98: =IF(OR($H98="",NOT(ISNUMBER(IF(ISNUMBER($F98),$F98,IFERROR(--SUBSTITUTE($F98,".","/"),""))))),"",IF(AND($H98="A",ISNUMBER(IF(ISNUMBER($P98),$P98,IFERROR(--SUBSTITUTE($P98,".","/"),""))),IF(ISNUMBER($P98),$P98,IFERROR(--SUBSTITUTE($P98,".","/"),""))>=IF(ISNUMBER($F98),$F98,IFERROR(--SUBSTITUTE($F98,".","/"),""))),MIN(IF(ISNUMBER($F98),$F98,IFERROR(--SUBSTITUTE($F98,".","/"),""))+INDEX(参数表!$B$4:$B$6,MATCH($H98,参数表!$A$4:$A$6,0)),IF(ISNUMBER($P98),$P98,IFERROR(--SUBSTITUTE($P98,".","/"),""))),IF(ISNUMBER($F98),$F98,IFERROR(--SUBSTITUTE($F98,".","/"),""))+INDEX(参数表!$B$4:$B$6,MATCH($H98,参数表!$A$4:$A$6,0)))) | K98: 46179 | L98: Vendor reply: There are currently no relevant drawings available | M98: 已关闭 | N98: 46163 | O98: 46161 | P98: 46187 | Q98: 46192 | R98: √ | S98: √ | T98: √ | U98: √ | V98: 中标厂家 | W98: 46248
A99: TA-0095 | B99: DEMO-TA-M019-01 | C99: 局部水雾灭火系统 Local Water Mist Fire Fighting System | D99: 厂家N | E99: 船东 | F99: 46173 | G99: 是否与火灾报警监控系统接口并带地址 1.5 / Page 10: Is there interface with Faire Alarm Monitoring System and have address? | H99: B | J99: =IF(OR($H99="",NOT(ISNUMBER(IF(ISNUMBER($F99),$F99,IFERROR(--SUBSTITUTE($F99,".","/"),""))))),"",IF(AND($H99="A",ISNUMBER(IF(ISNUMBER($P99),$P99,IFERROR(--SUBSTITUTE($P99,".","/"),""))),IF(ISNUMBER($P99),$P99,IFERROR(--SUBSTITUTE($P99,".","/"),""))>=IF(ISNUMBER($F99),$F99,IFERROR(--SUBSTITUTE($F99,".","/"),""))),MIN(IF(ISNUMBER($F99),$F99,IFERROR(--SUBSTITUTE($F99,".","/"),""))+INDEX(参数表!$B$4:$B$6,MATCH($H99,参数表!$A$4:$A$6,0)),IF(ISNUMBER($P99),$P99,IFERROR(--SUBSTITUTE($P99,".","/"),""))),IF(ISNUMBER($F99),$F99,IFERROR(--SUBSTITUTE($F99,".","/"),""))+INDEX(参数表!$B$4:$B$6,MATCH($H99,参数表!$A$4:$A$6,0)))) | K99: 46179 | L99: Vendor reply: yes | M99: 已关闭 | N99: 46163 | O99: 46161 | P99: 46187 | Q99: 46192 | R99: √ | S99: √ | T99: √ | U99: √ | V99: 中标厂家 | W99: 46248
A100: TA-0096 | B100: DEMO-TA-M019-01 | C100: 局部水雾灭火系统 Local Water Mist Fire Fighting System | D100: 厂家N | E100: 船东 | F100: 46172 | G100: 保护区域及喷头数量在设计和安装阶段核实调整 2 / Page 10: Protected area and quantity of nozzle is subject to verification and adjustment during design and installation stage | H100: B | J100: =IF(OR($H100="",NOT(ISNUMBER(IF(ISNUMBER($F100),$F100,IFERROR(--SUBSTITUTE($F100,".","/"),""))))),"",IF(AND($H100="A",ISNUMBER(IF(ISNUMBER($P100),$P100,IFERROR(--SUBSTITUTE($P100,".","/"),""))),IF(ISNUMBER($P100),$P100,IFERROR(--SUBSTITUTE($P100,".","/"),""))>=IF(ISNUMBER($F100),$F100,IFERROR(--SUBSTITUTE($F100,".","/"),""))),MIN(IF(ISNUMBER($F100),$F100,IFERROR(--SUBSTITUTE($F100,".","/"),""))+INDEX(参数表!$B$4:$B$6,MATCH($H100,参数表!$A$4:$A$6,0)),IF(ISNUMBER($P100),$P100,IFERROR(--SUBSTITUTE($P100,".","/"),""))),IF(ISNUMBER($F100),$F100,IFERROR(--SUBSTITUTE($F100,".","/"),""))+INDEX(参数表!$B$4:$B$6,MATCH($H100,参数表!$A$4:$A$6,0)))) | K100: 46176 | L100: Vendor reply: ok | M100: 已关闭 | N100: 46163 | O100: 46161 | P100: 46187 | Q100: 46192 | R100: √ | S100: √ | T100: √ | U100: √ | V100: 中标厂家 | W100: 46248
A101: TA-0097 | B101: DEMO-TA-M019-01 | C101: 局部水雾灭火系统 Local Water Mist Fire Fighting System | D101: 厂家N | E101: 船东 | F101: 46170 | G101: 蓄电池间内的探测器、接线箱、警报器等须为防爆（Ex）型 3 / Page 12 / 6, 7, 8: All the detectors, junction boxes, alarm sirens, whatever installed in the battery space to be Ex Type | H101: A | J101: =IF(OR($H101="",NOT(ISNUMBER(IF(ISNUMBER($F101),$F101,IFERROR(--SUBSTITUTE($F101,".","/"),""))))),"",IF(AND($H101="A",ISNUMBER(IF(ISNUMBER($P101),$P101,IFERROR(--SUBSTITUTE($P101,".","/"),""))),IF(ISNUMBER($P101),$P101,IFERROR(--SUBSTITUTE($P101,".","/"),""))>=IF(ISNUMBER($F101),$F101,IFERROR(--SUBSTITUTE($F101,".","/"),""))),MIN(IF(ISNUMBER($F101),$F101,IFERROR(--SUBSTITUTE($F101,".","/"),""))+INDEX(参数表!$B$4:$B$6,MATCH($H101,参数表!$A$4:$A$6,0)),IF(ISNUMBER($P101),$P101,IFERROR(--SUBSTITUTE($P101,".","/"),""))),IF(ISNUMBER($F101),$F101,IFERROR(--SUBSTITUTE($F101,".","/"),""))+INDEX(参数表!$B$4:$B$6,MATCH($H101,参数表!$A$4:$A$6,0)))) | K101: 46172 | L101: Vendor reply: Meet the requirements | M101: 已关闭 | N101: 46163 | O101: 46161 | P101: 46187 | Q101: 46192 | R101: √ | S101: √ | T101: √ | U101: √ | V101: 中标厂家 | W101: 46248
A102: TA-0098 | B102: DEMO-TA-M019-01 | C102: 局部水雾灭火系统 Local Water Mist Fire Fighting System | D102: 厂家N | E102: 船东 | F102: 46170 | G102: 提供探测器供应商信息 3 / Page 12 / 6, 7, 8: Provide information of the detectors supplier | H102: C | J102: =IF(OR($H102="",NOT(ISNUMBER(IF(ISNUMBER($F102),$F102,IFERROR(--SUBSTITUTE($F102,".","/"),""))))),"",IF(AND($H102="A",ISNUMBER(IF(ISNUMBER($P102),$P102,IFERROR(--SUBSTITUTE($P102,".","/"),""))),IF(ISNUMBER($P102),$P102,IFERROR(--SUBSTITUTE($P102,".","/"),""))>=IF(ISNUMBER($F102),$F102,IFERROR(--SUBSTITUTE($F102,".","/"),""))),MIN(IF(ISNUMBER($F102),$F102,IFERROR(--SUBSTITUTE($F102,".","/"),""))+INDEX(参数表!$B$4:$B$6,MATCH($H102,参数表!$A$4:$A$6,0)),IF(ISNUMBER($P102),$P102,IFERROR(--SUBSTITUTE($P102,".","/"),""))),IF(ISNUMBER($F102),$F102,IFERROR(--SUBSTITUTE($F102,".","/"),""))+INDEX(参数表!$B$4:$B$6,MATCH($H102,参数表!$A$4:$A$6,0)))) | K102: 46171 | L102: Vendor reply: System sensor | M102: 已关闭 | N102: 46163 | O102: 46161 | P102: 46187 | Q102: 46192 | R102: √ | S102: √ | T102: √ | U102: √ | V102: 中标厂家 | W102: 46248
A103: TA-0099 | B103: DEMO-TA-M019-01 | C103: 局部水雾灭火系统 Local Water Mist Fire Fighting System | D103: 厂家N | E103: 船东 | F103: 46172 | G103: 喷头是否带滤网及防污染外保护盖 3 / Page 13 / 11: Clarify if the nozzles are fitted with strainers (mesh) and outside protection cover against contamination | H103: B | J103: =IF(OR($H103="",NOT(ISNUMBER(IF(ISNUMBER($F103),$F103,IFERROR(--SUBSTITUTE($F103,".","/"),""))))),"",IF(AND($H103="A",ISNUMBER(IF(ISNUMBER($P103),$P103,IFERROR(--SUBSTITUTE($P103,".","/"),""))),IF(ISNUMBER($P103),$P103,IFERROR(--SUBSTITUTE($P103,".","/"),""))>=IF(ISNUMBER($F103),$F103,IFERROR(--SUBSTITUTE($F103,".","/"),""))),MIN(IF(ISNUMBER($F103),$F103,IFERROR(--SUBSTITUTE($F103,".","/"),""))+INDEX(参数表!$B$4:$B$6,MATCH($H103,参数表!$A$4:$A$6,0)),IF(ISNUMBER($P103),$P103,IFERROR(--SUBSTITUTE($P103,".","/"),""))),IF(ISNUMBER($F103),$F103,IFERROR(--SUBSTITUTE($F103,".","/"),""))+INDEX(参数表!$B$4:$B$6,MATCH($H103,参数表!$A$4:$A$6,0)))) | K103: 46176 | L103: Vendor reply: Without strainers | M103: 已关闭 | N103: 46163 | O103: 46161 | P103: 46187 | Q103: 46192 | R103: √ | S103: √ | T103: √ | U103: √ | V103: 中标厂家 | W103: 46248
A104: TA-0100 | B104: DEMO-TA-M019-01 | C104: 局部水雾灭火系统 Local Water Mist Fire Fighting System | D104: 厂家N | E104: 船东 | F104: 46173 | G104: 备注栏文字译成英文 3 / Page 14 / 12:Text in Remark column. Translate into English | H104: C | J104: =IF(OR($H104="",NOT(ISNUMBER(IF(ISNUMBER($F104),$F104,IFERROR(--SUBSTITUTE($F104,".","/"),""))))),"",IF(AND($H104="A",ISNUMBER(IF(ISNUMBER($P104),$P104,IFERROR(--SUBSTITUTE($P104,".","/"),""))),IF(ISNUMBER($P104),$P104,IFERROR(--SUBSTITUTE($P104,".","/"),""))>=IF(ISNUMBER($F104),$F104,IFERROR(--SUBSTITUTE($F104,".","/"),""))),MIN(IF(ISNUMBER($F104),$F104,IFERROR(--SUBSTITUTE($F104,".","/"),""))+INDEX(参数表!$B$4:$B$6,MATCH($H104,参数表!$A$4:$A$6,0)),IF(ISNUMBER($P104),$P104,IFERROR(--SUBSTITUTE($P104,".","/"),""))),IF(ISNUMBER($F104),$F104,IFERROR(--SUBSTITUTE($F104,".","/"),""))+INDEX(参数表!$B$4:$B$6,MATCH($H104,参数表!$A$4:$A$6,0)))) | K104: 46181 | L104: Vendor reply: ok | M104: 已关闭 | N104: 46163 | O104: 46161 | P104: 46187 | Q104: 46192 | R104: √ | S104: √ | T104: √ | U104: √ | V104: 中标厂家 | W104: 46248
A105: TA-0101 | B105: DEMO-TA-M019-02 | C105: 局部水雾灭火系统 Local Water Mist Fire Fighting System | D105: 厂家O | E105: 船东 | F105: 46331 | G105: 水雾喷头材质应为 SUS316 而非 304 Water mist nozzles to be of SUS316 instead of 304 | H105: A | J105: =IF(OR($H105="",NOT(ISNUMBER(IF(ISNUMBER($F105),$F105,IFERROR(--SUBSTITUTE($F105,".","/"),""))))),"",IF(AND($H105="A",ISNUMBER(IF(ISNUMBER($P105),$P105,IFERROR(--SUBSTITUTE($P105,".","/"),""))),IF(ISNUMBER($P105),$P105,IFERROR(--SUBSTITUTE($P105,".","/"),""))>=IF(ISNUMBER($F105),$F105,IFERROR(--SUBSTITUTE($F105,".","/"),""))),MIN(IF(ISNUMBER($F105),$F105,IFERROR(--SUBSTITUTE($F105,".","/"),""))+INDEX(参数表!$B$4:$B$6,MATCH($H105,参数表!$A$4:$A$6,0)),IF(ISNUMBER($P105),$P105,IFERROR(--SUBSTITUTE($P105,".","/"),""))),IF(ISNUMBER($F105),$F105,IFERROR(--SUBSTITUTE($F105,".","/"),""))+INDEX(参数表!$B$4:$B$6,MATCH($H105,参数表!$A$4:$A$6,0)))) | M105: 待回复 | N105: 46301 | O105: 46302 | P105: 46346
A106: TA-0102 | B106: DEMO-TA-M019-02 | C106: 局部水雾灭火系统 Local Water Mist Fire Fighting System | D106: 厂家O | E106: 船东 | F106: 46322 | G106: 提供泵组草图/图纸（含尺寸、检修空间及附件） 3.1.1 / Page 12: Provide sketch / drawing of the pump unit with dimensions (including service and maitenance) and fittings | H106: B | J106: =IF(OR($H106="",NOT(ISNUMBER(IF(ISNUMBER($F106),$F106,IFERROR(--SUBSTITUTE($F106,".","/"),""))))),"",IF(AND($H106="A",ISNUMBER(IF(ISNUMBER($P106),$P106,IFERROR(--SUBSTITUTE($P106,".","/"),""))),IF(ISNUMBER($P106),$P106,IFERROR(--SUBSTITUTE($P106,".","/"),""))>=IF(ISNUMBER($F106),$F106,IFERROR(--SUBSTITUTE($F106,".","/"),""))),MIN(IF(ISNUMBER($F106),$F106,IFERROR(--SUBSTITUTE($F106,".","/"),""))+INDEX(参数表!$B$4:$B$6,MATCH($H106,参数表!$A$4:$A$6,0)),IF(ISNUMBER($P106),$P106,IFERROR(--SUBSTITUTE($P106,".","/"),""))),IF(ISNUMBER($F106),$F106,IFERROR(--SUBSTITUTE($F106,".","/"),""))+INDEX(参数表!$B$4:$B$6,MATCH($H106,参数表!$A$4:$A$6,0)))) | K106: 46327 | L106: Vendor reply: If it is reflected in our company's winning bid drawings in the future | M106: 已关闭 | N106: 46301 | O106: 46302 | P106: 46346
A107: TA-0103 | B107: DEMO-TA-M019-02 | C107: 局部水雾灭火系统 Local Water Mist Fire Fighting System | D107: 厂家O | E107: 船东 | F107: 46330 | G107: 流程图中文字译成英文 3.1.1 / Page 12: Translate texts in the diaram into English | H107: C | J107: =IF(OR($H107="",NOT(ISNUMBER(IF(ISNUMBER($F107),$F107,IFERROR(--SUBSTITUTE($F107,".","/"),""))))),"",IF(AND($H107="A",ISNUMBER(IF(ISNUMBER($P107),$P107,IFERROR(--SUBSTITUTE($P107,".","/"),""))),IF(ISNUMBER($P107),$P107,IFERROR(--SUBSTITUTE($P107,".","/"),""))>=IF(ISNUMBER($F107),$F107,IFERROR(--SUBSTITUTE($F107,".","/"),""))),MIN(IF(ISNUMBER($F107),$F107,IFERROR(--SUBSTITUTE($F107,".","/"),""))+INDEX(参数表!$B$4:$B$6,MATCH($H107,参数表!$A$4:$A$6,0)),IF(ISNUMBER($P107),$P107,IFERROR(--SUBSTITUTE($P107,".","/"),""))),IF(ISNUMBER($F107),$F107,IFERROR(--SUBSTITUTE($F107,".","/"),""))+INDEX(参数表!$B$4:$B$6,MATCH($H107,参数表!$A$4:$A$6,0)))) | M107: 待回复 | N107: 46301 | O107: 46302 | P107: 46346
A108: TA-0104 | B108: DEMO-TA-M019-02 | C108: 局部水雾灭火系统 Local Water Mist Fire Fighting System | D108: 厂家O | E108: 船东 | F108: 46323 | G108: 电气接口无图，提供与火灾报警监控、IAS、VDR 等系统的接口信息 3.2.1 / Electrical Interface / Page 14: there is no diagram. Please provide information on interface with other systems: Fire Alarm an Monitoring, IAS, VDR etc. | H108: B | J108: =IF(OR($H108="",NOT(ISNUMBER(IF(ISNUMBER($F108),$F108,IFERROR(--SUBSTITUTE($F108,".","/"),""))))),"",IF(AND($H108="A",ISNUMBER(IF(ISNUMBER($P108),$P108,IFERROR(--SUBSTITUTE($P108,".","/"),""))),IF(ISNUMBER($P108),$P108,IFERROR(--SUBSTITUTE($P108,".","/"),""))>=IF(ISNUMBER($F108),$F108,IFERROR(--SUBSTITUTE($F108,".","/"),""))),MIN(IF(ISNUMBER($F108),$F108,IFERROR(--SUBSTITUTE($F108,".","/"),""))+INDEX(参数表!$B$4:$B$6,MATCH($H108,参数表!$A$4:$A$6,0)),IF(ISNUMBER($P108),$P108,IFERROR(--SUBSTITUTE($P108,".","/"),""))),IF(ISNUMBER($F108),$F108,IFERROR(--SUBSTITUTE($F108,".","/"),""))+INDEX(参数表!$B$4:$B$6,MATCH($H108,参数表!$A$4:$A$6,0)))) | K108: 46327 | L108: Vendor reply: If our company confirms in the winning bid drawings in the future | M108: 已关闭 | N108: 46301 | O108: 46302 | P108: 46346
A109: TA-0105 | B109: DEMO-TA-M019-02 | C109: 局部水雾灭火系统 Local Water Mist Fire Fighting System | D109: 厂家O | E109: 船东 | F109: 46323 | G109: 试验及吹扫接口应设止回阀 Scope of Supply / Page 15 / 3-11: There should be non-return valve for testing and blowing connection | H109: B | J109: =IF(OR($H109="",NOT(ISNUMBER(IF(ISNUMBER($F109),$F109,IFERROR(--SUBSTITUTE($F109,".","/"),""))))),"",IF(AND($H109="A",ISNUMBER(IF(ISNUMBER($P109),$P109,IFERROR(--SUBSTITUTE($P109,".","/"),""))),IF(ISNUMBER($P109),$P109,IFERROR(--SUBSTITUTE($P109,".","/"),""))>=IF(ISNUMBER($F109),$F109,IFERROR(--SUBSTITUTE($F109,".","/"),""))),MIN(IF(ISNUMBER($F109),$F109,IFERROR(--SUBSTITUTE($F109,".","/"),""))+INDEX(参数表!$B$4:$B$6,MATCH($H109,参数表!$A$4:$A$6,0)),IF(ISNUMBER($P109),$P109,IFERROR(--SUBSTITUTE($P109,".","/"),""))),IF(ISNUMBER($F109),$F109,IFERROR(--SUBSTITUTE($F109,".","/"),""))+INDEX(参数表!$B$4:$B$6,MATCH($H109,参数表!$A$4:$A$6,0)))) | K109: 46327 | L109: Vendor reply: This valve also serves as a testing and blowing function | M109: 已认可待落实 | N109: 46301 | O109: 46302 | P109: 46346
A110: TA-0106 | B110: DEMO-TA-M019-02 | C110: 局部水雾灭火系统 Local Water Mist Fire Fighting System | D110: 厂家O | E110: 船东 | F110: 46323 | G110: 澄清喷头与管路的连接方式（焊接还是螺纹） Scope of Supply / Page 15 / 12 / Nozzle: Welding base' Please clarify how nozzle to be connected to the pipe (by welding), not threaded? | H110: C | J110: =IF(OR($H110="",NOT(ISNUMBER(IF(ISNUMBER($F110),$F110,IFERROR(--SUBSTITUTE($F110,".","/"),""))))),"",IF(AND($H110="A",ISNUMBER(IF(ISNUMBER($P110),$P110,IFERROR(--SUBSTITUTE($P110,".","/"),""))),IF(ISNUMBER($P110),$P110,IFERROR(--SUBSTITUTE($P110,".","/"),""))>=IF(ISNUMBER($F110),$F110,IFERROR(--SUBSTITUTE($F110,".","/"),""))),MIN(IF(ISNUMBER($F110),$F110,IFERROR(--SUBSTITUTE($F110,".","/"),""))+INDEX(参数表!$B$4:$B$6,MATCH($H110,参数表!$A$4:$A$6,0)),IF(ISNUMBER($P110),$P110,IFERROR(--SUBSTITUTE($P110,".","/"),""))),IF(ISNUMBER($F110),$F110,IFERROR(--SUBSTITUTE($F110,".","/"),""))+INDEX(参数表!$B$4:$B$6,MATCH($H110,参数表!$A$4:$A$6,0)))) | K110: 46325 | L110: Vendor reply: The nozzle and welding seat are threaded connections, and the welding seat is butt welded to the pipeline | M110: 已回复待确认 | N110: 46301 | O110: 46302 | P110: 46346
A111: TA-0107 | B111: DEMO-TA-M019-02 | C111: 局部水雾灭火系统 Local Water Mist Fire Fighting System | D111: 厂家O | E111: 船东 | F111: 46324 | G111: 喷头是否带滤器 Scope of Supply / Page 15 / 12 / Nozzle: Is nozzle fitted with strainer? | H111: C | J111: =IF(OR($H111="",NOT(ISNUMBER(IF(ISNUMBER($F111),$F111,IFERROR(--SUBSTITUTE($F111,".","/"),""))))),"",IF(AND($H111="A",ISNUMBER(IF(ISNUMBER($P111),$P111,IFERROR(--SUBSTITUTE($P111,".","/"),""))),IF(ISNUMBER($P111),$P111,IFERROR(--SUBSTITUTE($P111,".","/"),""))>=IF(ISNUMBER($F111),$F111,IFERROR(--SUBSTITUTE($F111,".","/"),""))),MIN(IF(ISNUMBER($F111),$F111,IFERROR(--SUBSTITUTE($F111,".","/"),""))+INDEX(参数表!$B$4:$B$6,MATCH($H111,参数表!$A$4:$A$6,0)),IF(ISNUMBER($P111),$P111,IFERROR(--SUBSTITUTE($P111,".","/"),""))),IF(ISNUMBER($F111),$F111,IFERROR(--SUBSTITUTE($F111,".","/"),""))+INDEX(参数表!$B$4:$B$6,MATCH($H111,参数表!$A$4:$A$6,0)))) | K111: 46329 | L111: Vendor reply: The nozzle is equipped with a filter inside | M111: 已关闭 | N111: 46301 | O111: 46302 | P111: 46346
A112: TA-0108 | B112: DEMO-TA-M019-02 | C112: 局部水雾灭火系统 Local Water Mist Fire Fighting System | D112: 厂家O | E112: 船东 | F112: 46324 | G112: 喷头是否配临时保护帽 Scope of Supply / Page 15 / 12 / Nozzle: Is nozzle supplied with temporary protection cap? | H112: C | J112: =IF(OR($H112="",NOT(ISNUMBER(IF(ISNUMBER($F112),$F112,IFERROR(--SUBSTITUTE($F112,".","/"),""))))),"",IF(AND($H112="A",ISNUMBER(IF(ISNUMBER($P112),$P112,IFERROR(--SUBSTITUTE($P112,".","/"),""))),IF(ISNUMBER($P112),$P112,IFERROR(--SUBSTITUTE($P112,".","/"),""))>=IF(ISNUMBER($F112),$F112,IFERROR(--SUBSTITUTE($F112,".","/"),""))),MIN(IF(ISNUMBER($F112),$F112,IFERROR(--SUBSTITUTE($F112,".","/"),""))+INDEX(参数表!$B$4:$B$6,MATCH($H112,参数表!$A$4:$A$6,0)),IF(ISNUMBER($P112),$P112,IFERROR(--SUBSTITUTE($P112,".","/"),""))),IF(ISNUMBER($F112),$F112,IFERROR(--SUBSTITUTE($F112,".","/"),""))+INDEX(参数表!$B$4:$B$6,MATCH($H112,参数表!$A$4:$A$6,0)))) | K112: 46326 | L112: Vendor reply: not configured | M112: 已回复待确认 | N112: 46301 | O112: 46302 | P112: 46346
A113: TA-0109 | B113: DEMO-TA-M019-02 | C113: 局部水雾灭火系统 Local Water Mist Fire Fighting System | D113: 厂家O | E113: 船东 | F113: 46324 | G113: 蓄电池间内的探测器、接线箱、警报器等须为防爆（Ex）型 Scope of Supply / Page 16 / 19-21: All detectors, alarm lights, junction boxes whatever installed in the battery room should be Ex Type | H113: A | J113: =IF(OR($H113="",NOT(ISNUMBER(IF(ISNUMBER($F113),$F113,IFERROR(--SUBSTITUTE($F113,".","/"),""))))),"",IF(AND($H113="A",ISNUMBER(IF(ISNUMBER($P113),$P113,IFERROR(--SUBSTITUTE($P113,".","/"),""))),IF(ISNUMBER($P113),$P113,IFERROR(--SUBSTITUTE($P113,".","/"),""))>=IF(ISNUMBER($F113),$F113,IFERROR(--SUBSTITUTE($F113,".","/"),""))),MIN(IF(ISNUMBER($F113),$F113,IFERROR(--SUBSTITUTE($F113,".","/"),""))+INDEX(参数表!$B$4:$B$6,MATCH($H113,参数表!$A$4:$A$6,0)),IF(ISNUMBER($P113),$P113,IFERROR(--SUBSTITUTE($P113,".","/"),""))),IF(ISNUMBER($F113),$F113,IFERROR(--SUBSTITUTE($F113,".","/"),""))+INDEX(参数表!$B$4:$B$6,MATCH($H113,参数表!$A$4:$A$6,0)))) | K113: 46327 | L113: Vendor reply: Known and informed | M113: 已认可待落实 | N113: 46301 | O113: 46302 | P113: 46346
A114: TA-0110 | B114: DEMO-TA-M019-02 | C114: 局部水雾灭火系统 Local Water Mist Fire Fighting System | D114: 厂家O | E114: 船东 | F114: 46325 | G114: 告知探测器及手动报警按钮厂家 Scope of Supply / Page 16 / 19-21: Please let us know the detector and manual call points' manufacturer | H114: C | J114: =IF(OR($H114="",NOT(ISNUMBER(IF(ISNUMBER($F114),$F114,IFERROR(--SUBSTITUTE($F114,".","/"),""))))),"",IF(AND($H114="A",ISNUMBER(IF(ISNUMBER($P114),$P114,IFERROR(--SUBSTITUTE($P114,".","/"),""))),IF(ISNUMBER($P114),$P114,IFERROR(--SUBSTITUTE($P114,".","/"),""))>=IF(ISNUMBER($F114),$F114,IFERROR(--SUBSTITUTE($F114,".","/"),""))),MIN(IF(ISNUMBER($F114),$F114,IFERROR(--SUBSTITUTE($F114,".","/"),""))+INDEX(参数表!$B$4:$B$6,MATCH($H114,参数表!$A$4:$A$6,0)),IF(ISNUMBER($P114),$P114,IFERROR(--SUBSTITUTE($P114,".","/"),""))),IF(ISNUMBER($F114),$F114,IFERROR(--SUBSTITUTE($F114,".","/"),""))+INDEX(参数表!$B$4:$B$6,MATCH($H114,参数表!$A$4:$A$6,0)))) | K114: 46327 | L114: Vendor reply: Jiangsu Wuxi Blue Sky | M114: 已关闭 | N114: 46301 | O114: 46302 | P114: 46346
A115: TA-0111 | B115: DEMO-TA-M019-02 | C115: 局部水雾灭火系统 Local Water Mist Fire Fighting System | D115: 厂家O | E115: 船东 | F115: 46325 | G115: 澄清探测器及手动报警按钮是否均为独立地址 Scope of Supply / Page 16 / 19-21: Clarify if all detector and manual call point have individaul address | H115: C | J115: =IF(OR($H115="",NOT(ISNUMBER(IF(ISNUMBER($F115),$F115,IFERROR(--SUBSTITUTE($F115,".","/"),""))))),"",IF(AND($H115="A",ISNUMBER(IF(ISNUMBER($P115),$P115,IFERROR(--SUBSTITUTE($P115,".","/"),""))),IF(ISNUMBER($P115),$P115,IFERROR(--SUBSTITUTE($P115,".","/"),""))>=IF(ISNUMBER($F115),$F115,IFERROR(--SUBSTITUTE($F115,".","/"),""))),MIN(IF(ISNUMBER($F115),$F115,IFERROR(--SUBSTITUTE($F115,".","/"),""))+INDEX(参数表!$B$4:$B$6,MATCH($H115,参数表!$A$4:$A$6,0)),IF(ISNUMBER($P115),$P115,IFERROR(--SUBSTITUTE($P115,".","/"),""))),IF(ISNUMBER($F115),$F115,IFERROR(--SUBSTITUTE($F115,".","/"),""))+INDEX(参数表!$B$4:$B$6,MATCH($H115,参数表!$A$4:$A$6,0)))) | K115: 46330 | L115: Vendor reply: There is a separate address | M115: 已关闭 | N115: 46301 | O115: 46302 | P115: 46346
...

Sheet 参数表
A1: 参数表（下拉清单与时限，改这里即可）
A3: 意见类别 | B3: 回复时限（天） | C3: 判定标准
A4: A | B4: 3 | C4: 影响设备功能、性能、选型、供货范围或价格，影响定标/大件订货（要求回复时间不晚于计划定标日）
A5: B | B5: 5 | C5: 需修改资料/图纸，但可在过程中消化，不影响整体推进
A6: C | B6: 5 | C6: 仅要求提供信息或确认，认可后关闭
A8: 临期阈值（天） | B8: 3
A10: 下拉清单
A11: 意见提出方 | B11: 意见类别 | C11: 关闭状态 | D11: 认可资料
A12: 船东 | B12: A | C12: 待回复 | D12: √
A13: 船厂 | B13: B | C13: 已回复待确认 | D13: NA
B14: C | C14: 已认可待落实 | D14: 缺
C15: 已关闭
A21: 说明：关闭状态中「已关闭」视为已结束，其余（待回复/已回复待确认/已认可待落实）为未关闭。
