Workbook
Name L_类别: 参数表!$B$12:$B$14
Name L_提出方: 参数表!$A$12:$A$13
Name L_状态: 参数表!$C$12:$C$15
Name L_资料: 参数表!$D$12:$D$14

Sheet 意见跟踪表
A1: 技术协议及图纸认可意见跟踪表（导出 2026-11-06 00:20，共 189 条） | G1: 统计（自动）： | H1: 意见总数 | I1: =COUNTA($G$5:$G$1004) | J1: 未关闭 | K1: =SUMPRODUCT(($M$5:$M$1004<>"已关闭")*($M$5:$M$1004<>"")) | L1: A类未关闭 | M1: =SUMPRODUCT(($H$5:$H$1004="A")*($M$5:$M$1004<>"已关闭")*($M$5:$M$1004<>"")) | N1: B类未关闭 | O1: =SUMPRODUCT(($H$5:$H$1004="B")*($M$5:$M$1004<>"已关闭")*($M$5:$M$1004<>"")) | P1: C类未关闭 | Q1: =SUMPRODUCT(($H$5:$H$1004="C")*($M$5:$M$1004<>"已关闭")*($M$5:$M$1004<>"")) | R1: 回复超期 | S1: =SUMPRODUCT(($K$5:$K$1004="")*ISNUMBER($J$5:$J$1004)*($J$5:$J$1004<TODAY())*($M$5:$M$1004<>"已关闭")*($M$5:$M$1004<>"")) | V1: 图例：红=回复超期/缺资料；黄=临期或未关闭；浅橙=迟复；灰底=公式
A2: 编号 | B2: 协议编号 | C2: 设备名称 | D2: 厂家名称 | E2: 技术协议认可阶段 | N2: TA 下发 | P2: 定标计划 | R2: 图纸认可阶段
E3: 意见提出方 | F3: 提出时间 | G3: 意见内容 | H3: 意见类别 | I3: 责任人 | J3: 要求回复时间 | K3: 实际回复时间 | L3: 回复意见 | M3: 关闭状态 | N3: 计划下发时间 | O3: 实际下发时间 | P3: 计划时间 | Q3: 实际时间 | R3: 认可资料 | V3: 备注 | W3: 认可函时间
R4: 外形图 | S4: 总装图 | T4: 管系接口资料 | U4: 电气接口资料
A5: TA-0001 | B5: DEMO-TA-A014-01 | C5: 救生筏 Life rafts | D5: 厂家A | E5: 船东 | F5: 46222 | G5: 救生筏及静水压力释放器须在船旗国主管机关和厂家认可的服务站检修 Please note that the inflatable liferafts should be serviced at servicing stations approved by the Flag State Administration and the manufacturer. Same applies to the Hydrostatic release units. | H5: C | J5: =IF(OR($H5="",NOT(ISNUMBER(IF(ISNUMBER($F5),$F5,IFERROR(--SUBSTITUTE($F5,".","/"),""))))),"",IF(AND($H5="A",ISNUMBER(IF(ISNUMBER($P5),$P5,IFERROR(--SUBSTITUTE($P5,".","/"),""))),IF(ISNUMBER($P5),$P5,IFERROR(--SUBSTITUTE($P5,".","/"),""))>=IF(ISNUMBER($F5),$F5,IFERROR(--SUBSTITUTE($F5,".","/"),""))),MIN(IF(ISNUMBER($F5),$F5,IFERROR(--SUBSTITUTE($F5,".","/"),""))+INDEX(参数表!$B$4:$B$6,MATCH($H5,参数表!$A$4:$A$6,0)),IF(ISNUMBER($P5),$P5,IFERROR(--SUBSTITUTE($P5,".","/"),""))),IF(ISNUMBER($F5),$F5,IFERROR(--SUBSTITUTE($F5,".","/"),""))+INDEX(参数表!$B$4:$B$6,MATCH($H5,参数表!$A$4:$A$6,0)))) | K5: 46225 | L5: 厂家A: Confirmed | M5: 已关闭 | N5: 46213 | O5: 46213 | P5: 46241 | Q5: 46244 | R5: √ | S5: √ | T5: √ | U5: √ | V5: 中标厂家 | W5: 46299
A6: TA-0002 | B6: DEMO-TA-A014-01 | C6: 救生筏 Life rafts | D6: 厂家A | E6: 船东 | F6: 46222 | G6: 按船旗国要求，救生筏筒体加标船名、船籍港及登记号（对比色字体） In addition to the markings required under LSA Code 4.2.6.3, the name, port and number of the registry of the ship should be marked on the container of the inflatable liferaft. Each letter should be of a color contrasting with that of the container. These markings are required of all ships of this flag. | H6: B | J6: =IF(OR($H6="",NOT(ISNUMBER(IF(ISNUMBER($F6),$F6,IFERROR(--SUBSTITUTE($F6,".","/"),""))))),"",IF(AND($H6="A",ISNUMBER(IF(ISNUMBER($P6),$P6,IFERROR(--SUBSTITUTE($P6,".","/"),""))),IF(ISNUMBER($P6),$P6,IFERROR(--SUBSTITUTE($P6,".","/"),""))>=IF(ISNUMBER($F6),$F6,IFERROR(--SUBSTITUTE($F6,".","/"),""))),MIN(IF(ISNUMBER($F6),$F6,IFERROR(--SUBSTITUTE($F6,".","/"),""))+INDEX(参数表!$B$4:$B$6,MATCH($H6,参数表!$A$4:$A$6,0)),IF(ISNUMBER($P6),$P6,IFERROR(--SUBSTITUTE($P6,".","/"),""))),IF(ISNUMBER($F6),$F6,IFERROR(--SUBSTITUTE($F6,".","/"),""))+INDEX(参数表!$B$4:$B$6,MATCH($H6,参数表!$A$4:$A$6,0)))) | K6: 46226 | L6: 厂家A: Confirmed | M6: 已关闭 | N6: 46213 | O6: 46213 | P6: 46241 | Q6: 46244 | R6: √ | S6: √ | T6: √ | U6: √ | V6: 中标厂家 | W6: 46299
A7: TA-0003 | B7: DEMO-TA-A014-01 | C7: 救生筏 Life rafts | D7: 厂家A | E7: 船东 | F7: 46223 | G7: 质保期须为交船后12个月，请确认 The warranty period shall be kept valid for twelve (12) months after the date of the Vessel Delivery. Please confirm | H7: A | J7: =IF(OR($H7="",NOT(ISNUMBER(IF(ISNUMBER($F7),$F7,IFERROR(--SUBSTITUTE($F7,".","/"),""))))),"",IF(AND($H7="A",ISNUMBER(IF(ISNUMBER($P7),$P7,IFERROR(--SUBSTITUTE($P7,".","/"),""))),IF(ISNUMBER($P7),$P7,IFERROR(--SUBSTITUTE($P7,".","/"),""))>=IF(ISNUMBER($F7),$F7,IFERROR(--SUBSTITUTE($F7,".","/"),""))),MIN(IF(ISNUMBER($F7),$F7,IFERROR(--SUBSTITUTE($F7,".","/"),""))+INDEX(参数表!$B$4:$B$6,MATCH($H7,参数表!$A$4:$A$6,0)),IF(ISNUMBER($P7),$P7,IFERROR(--SUBSTITUTE($P7,".","/"),""))),IF(ISNUMBER($F7),$F7,IFERROR(--SUBSTITUTE($F7,".","/"),""))+INDEX(参数表!$B$4:$B$6,MATCH($H7,参数表!$A$4:$A$6,0)))) | K7: 46224 | L7: 厂家A: Confirmed | M7: 已关闭 | N7: 46213 | O7: 46213 | P7: 46241 | Q7: 46244 | R7: √ | S7: √ | T7: √ | U7: √ | V7: 中标厂家 | W7: 46299
A8: TA-0004 | B8: DEMO-TA-A014-01 | C8: 救生筏 Life rafts | D8: 厂家A | E8: 船东 | F8: 46223 | G8: 核实是否持有 ABS 船级社证书 Page 11: Verify if you hold ABS Class certificate | H8: C | J8: =IF(OR($H8="",NOT(ISNUMBER(IF(ISNUMBER($F8),$F8,IFERROR(--SUBSTITUTE($F8,".","/"),""))))),"",IF(AND($H8="A",ISNUMBER(IF(ISNUMBER($P8),$P8,IFERROR(--SUBSTITUTE($P8,".","/"),""))),IF(ISNUMBER($P8),$P8,IFERROR(--SUBSTITUTE($P8,".","/"),""))>=IF(ISNUMBER($F8),$F8,IFERROR(--SUBSTITUTE($F8,".","/"),""))),MIN(IF(ISNUMBER($F8),$F8,IFERROR(--SUBSTITUTE($F8,".","/"),""))+INDEX(参数表!$B$4:$B$6,MATCH($H8,参数表!$A$4:$A$6,0)),IF(ISNUMBER($P8),$P8,IFERROR(--SUBSTITUTE($P8,".","/"),""))),IF(ISNUMBER($F8),$F8,IFERROR(--SUBSTITUTE($F8,".","/"),""))+INDEX(参数表!$B$4:$B$6,MATCH($H8,参数表!$A$4:$A$6,0)))) | K8: 46226 | L8: 厂家A: MED certificate is issued by DNV, but ABS will accpet it | M8: 已关闭 | N8: 46213 | O8: 46213 | P8: 46241 | Q8: 46244 | R8: √ | S8: √ | T8: √ | U8: √ | V8: 中标厂家 | W8: 46299
A9: TA-0005 | B9: DEMO-TA-A014-02 | C9: 救生筏 Life rafts | D9: 厂家B | E9: 船东 | F9: 46329 | G9: 明确静水压力释放器厂家及认证 Item 2: Hydrostatic releasing unit, maker and certification to be specified | H9: C | J9: =IF(OR($H9="",NOT(ISNUMBER(IF(ISNUMBER($F9),$F9,IFERROR(--SUBSTITUTE($F9,".","/"),""))))),"",IF(AND($H9="A",ISNUMBER(IF(ISNUMBER($P9),$P9,IFERROR(--SUBSTITUTE($P9,".","/"),""))),IF(ISNUMBER($P9),$P9,IFERROR(--SUBSTITUTE($P9,".","/"),""))>=IF(ISNUMBER($F9),$F9,IFERROR(--SUBSTITUTE($F9,".","/"),""))),MIN(IF(ISNUMBER($F9),$F9,IFERROR(--SUBSTITUTE($F9,".","/"),""))+INDEX(参数表!$B$4:$B$6,MATCH($H9,参数表!$A$4:$A$6,0)),IF(ISNUMBER($P9),$P9,IFERROR(--SUBSTITUTE($P9,".","/"),""))),IF(ISNUMBER($F9),$F9,IFERROR(--SUBSTITUTE($F9,".","/"),""))+INDEX(参数表!$B$4:$B$6,MATCH($H9,参数表!$A$4:$A$6,0)))) | M9: 待回复 | N9: 46303 | O9: 46306 | P9: 46336
A10: TA-0006 | B10: DEMO-TA-A014-02 | C10: 救生筏 Life rafts | D10: 厂家B | E10: 船东 | F10: 46323 | G10: 提供不锈钢收放操作说明牌（正常及应急） Item 5: Instruction signs (stainless steel) to be provided for the operation procedure of launch and recovery (normal and emergency) | H10: B | J10: =IF(OR($H10="",NOT(ISNUMBER(IF(ISNUMBER($F10),$F10,IFERROR(--SUBSTITUTE($F10,".","/"),""))))),"",IF(AND($H10="A",ISNUMBER(IF(ISNUMBER($P10),$P10,IFERROR(--SUBSTITUTE($P10,".","/"),""))),IF(ISNUMBER($P10),$P10,IFERROR(--SUBSTITUTE($P10,".","/"),""))>=IF(ISNUMBER($F10),$F10,IFERROR(--SUBSTITUTE($F10,".","/"),""))),MIN(IF(ISNUMBER($F10),$F10,IFERROR(--SUBSTITUTE($F10,".","/"),""))+INDEX(参数表!$B$4:$B$6,MATCH($H10,参数表!$A$4:$A$6,0)),IF(ISNUMBER($P10),$P10,IFERROR(--SUBSTITUTE($P10,".","/"),""))),IF(ISNUMBER($F10),$F10,IFERROR(--SUBSTITUTE($F10,".","/"),""))+INDEX(参数表!$B$4:$B$6,MATCH($H10,参数表!$A$4:$A$6,0)))) | M10: 待回复 | N10: 46303 | O10: 46306 | P10: 46336
A11: TA-0007 | B11: DEMO-TA-A014-02 | C11: 救生筏 Life rafts | D11: 厂家B | E11: 船东 | F11: 46320 | G11: 质保期须为交船后12个月，不接受到货后18个月 Item F: The warranty period shall be kept valid for twelve (12) months after the date of the Vessel Delivery. 18 months upon delivery of goods is not acceptable by the Owner. | H11: A | J11: =IF(OR($H11="",NOT(ISNUMBER(IF(ISNUMBER($F11),$F11,IFERROR(--SUBSTITUTE($F11,".","/"),""))))),"",IF(AND($H11="A",ISNUMBER(IF(ISNUMBER($P11),$P11,IFERROR(--SUBSTITUTE($P11,".","/"),""))),IF(ISNUMBER($P11),$P11,IFERROR(--SUBSTITUTE($P11,".","/"),""))>=IF(ISNUMBER($F11),$F11,IFERROR(--SUBSTITUTE($F11,".","/"),""))),MIN(IF(ISNUMBER($F11),$F11,IFERROR(--SUBSTITUTE($F11,".","/"),""))+INDEX(参数表!$B$4:$B$6,MATCH($H11,参数表!$A$4:$A$6,0)),IF(ISNUMBER($P11),$P11,IFERROR(--SUBSTITUTE($P11,".","/"),""))),IF(ISNUMBER($F11),$F11,IFERROR(--SUBSTITUTE($F11,".","/"),""))+INDEX(参数表!$B$4:$B$6,MATCH($H11,参数表!$A$4:$A$6,0)))) | K11: 46323 | L11: "We cannot accept just twelve (12) months after the date of the Vessel Delivery as this is an open clause and we don’t know when the vessel will be delivered, if the vessel delivery is postponed, such as postponed 3 years or even longer, we cannot afford the risk and extra cost. As a compromise, we propose ""The guarantee period shall be 12 months counting from the date on which the Buyer delivers the vessel to the Ship Owner, or 24 months after delivery of the contracted goods, whichever is earlier""" 【船东反馈】Noted. Aggre please revise | M11: 已关闭 | N11: 46303 | O11: 46306 | P11: 46336
A12: TA-0008 | B12: DEMO-TA-A014-02 | C12: 救生筏 Life rafts | D12: 厂家B | E12: 船东 | F12: 46321 | G12: 救生筏及静水压力释放器须在船旗国主管机关和厂家认可的服务站检修 Please note that the inflatable liferafts should be serviced at servicing stations approved by the Flag State Administration and the manufacturer. Same applies to the Hydrostatic release units. | H12: C | J12: =IF(OR($H12="",NOT(ISNUMBER(IF(ISNUMBER($F12),$F12,IFERROR(--SUBSTITUTE($F12,".","/"),""))))),"",IF(AND($H12="A",ISNUMBER(IF(ISNUMBER($P12),$P12,IFERROR(--SUBSTITUTE($P12,".","/"),""))),IF(ISNUMBER($P12),$P12,IFERROR(--SUBSTITUTE($P12,".","/"),""))>=IF(ISNUMBER($F12),$F12,IFERROR(--SUBSTITUTE($F12,".","/"),""))),MIN(IF(ISNUMBER($F12),$F12,IFERROR(--SUBSTITUTE($F12,".","/"),""))+INDEX(参数表!$B$4:$B$6,MATCH($H12,参数表!$A$4:$A$6,0)),IF(ISNUMBER($P12),$P12,IFERROR(--SUBSTITUTE($P12,".","/"),""))),IF(ISNUMBER($F12),$F12,IFERROR(--SUBSTITUTE($F12,".","/"),""))+INDEX(参数表!$B$4:$B$6,MATCH($H12,参数表!$A$4:$A$6,0)))) | K12: 46326 | L12: Confirm | M12: 已认可待落实 | N12: 46303 | O12: 46306 | P12: 46336
A13: TA-0009 | B13: DEMO-TA-A014-02 | C13: 救生筏 Life rafts | D13: 厂家B | E13: 船东 | F13: 46321 | G13: 按船旗国要求，救生筏筒体加标船名、船籍港及登记号（对比色字体） In addition to the markings required under LSA Code 4.2.6.3, the name, port and number of the registry of the ship should be marked on the container of the inflatable liferaft. Each letter should be of a color contrasting with that of the container. These markings are required of all ships of this flag. | H13: B | J13: =IF(OR($H13="",NOT(ISNUMBER(IF(ISNUMBER($F13),$F13,IFERROR(--SUBSTITUTE($F13,".","/"),""))))),"",IF(AND($H13="A",ISNUMBER(IF(ISNUMBER($P13),$P13,IFERROR(--SUBSTITUTE($P13,".","/"),""))),IF(ISNUMBER($P13),$P13,IFERROR(--SUBSTITUTE($P13,".","/"),""))>=IF(ISNUMBER($F13),$F13,IFERROR(--SUBSTITUTE($F13,".","/"),""))),MIN(IF(ISNUMBER($F13),$F13,IFERROR(--SUBSTITUTE($F13,".","/"),""))+INDEX(参数表!$B$4:$B$6,MATCH($H13,参数表!$A$4:$A$6,0)),IF(ISNUMBER($P13),$P13,IFERROR(--SUBSTITUTE($P13,".","/"),""))),IF(ISNUMBER($F13),$F13,IFERROR(--SUBSTITUTE($F13,".","/"),""))+INDEX(参数表!$B$4:$B$6,MATCH($H13,参数表!$A$4:$A$6,0)))) | K13: 46326 | L13: Confirm | M13: 已回复待确认 | N13: 46303 | O13: 46306 | P13: 46336
A14: TA-0010 | B14: DEMO-TA-A014-02 | C14: 救生筏 Life rafts | D14: 厂家B | E14: 船东 | F14: 46331 | G14: 核实是否持有 ABS 船级社证书 Verify if you hold ABS Class certificate | H14: C | J14: =IF(OR($H14="",NOT(ISNUMBER(IF(ISNUMBER($F14),$F14,IFERROR(--SUBSTITUTE($F14,".","/"),""))))),"",IF(AND($H14="A",ISNUMBER(IF(ISNUMBER($P14),$P14,IFERROR(--SUBSTITUTE($P14,".","/"),""))),IF(ISNUMBER($P14),$P14,IFERROR(--SUBSTITUTE($P14,".","/"),""))>=IF(ISNUMBER($F14),$F14,IFERROR(--SUBSTITUTE($F14,".","/"),""))),MIN(IF(ISNUMBER($F14),$F14,IFERROR(--SUBSTITUTE($F14,".","/"),""))+INDEX(参数表!$B$4:$B$6,MATCH($H14,参数表!$A$4:$A$6,0)),IF(ISNUMBER($P14),$P14,IFERROR(--SUBSTITUTE($P14,".","/"),""))),IF(ISNUMBER($F14),$F14,IFERROR(--SUBSTITUTE($F14,".","/"),""))+INDEX(参数表!$B$4:$B$6,MATCH($H14,参数表!$A$4:$A$6,0)))) | M14: 待回复 | N14: 46303 | O14: 46306 | P14: 46336
A15: TA-0011 | B15: DEMO-TA-A014-02 | C15: 救生筏 Life rafts | D15: 厂家B | E15: 船东 | F15: 46325 | G15: 救生筏架及释放臂材料未明确，应为镀锌，请确认 Page 17 / Liferaft Rack: Material of the liferaft rack and deployment arm is not specified. Should be galvanised, please confirm | H15: B | J15: =IF(OR($H15="",NOT(ISNUMBER(IF(ISNUMBER($F15),$F15,IFERROR(--SUBSTITUTE($F15,".","/"),""))))),"",IF(AND($H15="A",ISNUMBER(IF(ISNUMBER($P15),$P15,IFERROR(--SUBSTITUTE($P15,".","/"),""))),IF(ISNUMBER($P15),$P15,IFERROR(--SUBSTITUTE($P15,".","/"),""))>=IF(ISNUMBER($F15),$F15,IFERROR(--SUBSTITUTE($F15,".","/"),""))),MIN(IF(ISNUMBER($F15),$F15,IFERROR(--SUBSTITUTE($F15,".","/"),""))+INDEX(参数表!$B$4:$B$6,MATCH($H15,参数表!$A$4:$A$6,0)),IF(ISNUMBER($P15),$P15,IFERROR(--SUBSTITUTE($P15,".","/"),""))),IF(ISNUMBER($F15),$F15,IFERROR(--SUBSTITUTE($F15,".","/"),""))+INDEX(参数表!$B$4:$B$6,MATCH($H15,参数表!$A$4:$A$6,0)))) | M15: 待回复 | N15: 46303 | O15: 46306 | P15: 46336
A16: TA-0012 | B16: DEMO-TA-A015-01 | C16: 救生筏吊架 Liferaft Davits | D16: 厂家C | E16: 船东 | F16: 46189 | G16: 船旗国为船旗国，TA 须体现并满足船旗国要求 Vessel's flag state is specified by the Owner. Please capture this at the TA and comply with the prerequisites of the flag state, where necessary. | H16: B | J16: =IF(OR($H16="",NOT(ISNUMBER(IF(ISNUMBER($F16),$F16,IFERROR(--SUBSTITUTE($F16,".","/"),""))))),"",IF(AND($H16="A",ISNUMBER(IF(ISNUMBER($P16),$P16,IFERROR(--SUBSTITUTE($P16,".","/"),""))),IF(ISNUMBER($P16),$P16,IFERROR(--SUBSTITUTE($P16,".","/"),""))>=IF(ISNUMBER($F16),$F16,IFERROR(--SUBSTITUTE($F16,".","/"),""))),MIN(IF(ISNUMBER($F16),$F16,IFERROR(--SUBSTITUTE($F16,".","/"),""))+INDEX(参数表!$B$4:$B$6,MATCH($H16,参数表!$A$4:$A$6,0)),IF(ISNUMBER($P16),$P16,IFERROR(--SUBSTITUTE($P16,".","/"),""))),IF(ISNUMBER($F16),$F16,IFERROR(--SUBSTITUTE($F16,".","/"),""))+INDEX(参数表!$B$4:$B$6,MATCH($H16,参数表!$A$4:$A$6,0)))) | K16: 46194 | L16: The details pertaining to the flag state have been duly specified on the front page of the Technical Agreement. | M16: 已关闭 | N16: 46182 | O16: 46185 | P16: 46214 | Q16: 46214 | R16: √ | S16: √ | T16: √ | U16: √ | V16: 中标厂家 | W16: 46256
A17: TA-0013 | B17: DEMO-TA-A015-01 | C17: 救生筏吊架 Liferaft Davits | D17: 厂家C | E17: 船东 | F17: 46189 | G17: 核实是否持有 ABS 船级社证书 Please verify if you hold ABS Class certificate | H17: C | J17: =IF(OR($H17="",NOT(ISNUMBER(IF(ISNUMBER($F17),$F17,IFERROR(--SUBSTITUTE($F17,".","/"),""))))),"",IF(AND($H17="A",ISNUMBER(IF(ISNUMBER($P17),$P17,IFERROR(--SUBSTITUTE($P17,".","/"),""))),IF(ISNUMBER($P17),$P17,IFERROR(--SUBSTITUTE($P17,".","/"),""))>=IF(ISNUMBER($F17),$F17,IFERROR(--SUBSTITUTE($F17,".","/"),""))),MIN(IF(ISNUMBER($F17),$F17,IFERROR(--SUBSTITUTE($F17,".","/"),""))+INDEX(参数表!$B$4:$B$6,MATCH($H17,参数表!$A$4:$A$6,0)),IF(ISNUMBER($P17),$P17,IFERROR(--SUBSTITUTE($P17,".","/"),""))),IF(ISNUMBER($F17),$F17,IFERROR(--SUBSTITUTE($F17,".","/"),""))+INDEX(参数表!$B$4:$B$6,MATCH($H17,参数表!$A$4:$A$6,0)))) | K17: 46191 | L17: only MED certificate can be provided. | M17: 已关闭 | N17: 46182 | O17: 46185 | P17: 46214 | Q17: 46214 | R17: √ | S17: √ | T17: √ | U17: √ | V17: 中标厂家 | W17: 46256
A18: TA-0014 | B18: DEMO-TA-A015-01 | C18: 救生筏吊架 Liferaft Davits | D18: 厂家C | E18: 船东 | F18: 46189 | G18: 涂装仅含底漆，须明确完整涂层体系（各道涂层及类型） Page 12 / 2: Please clarify why the coating system includes primer only. Compete paint system (all coats and types) to be specified | H18: B | J18: =IF(OR($H18="",NOT(ISNUMBER(IF(ISNUMBER($F18),$F18,IFERROR(--SUBSTITUTE($F18,".","/"),""))))),"",IF(AND($H18="A",ISNUMBER(IF(ISNUMBER($P18),$P18,IFERROR(--SUBSTITUTE($P18,".","/"),""))),IF(ISNUMBER($P18),$P18,IFERROR(--SUBSTITUTE($P18,".","/"),""))>=IF(ISNUMBER($F18),$F18,IFERROR(--SUBSTITUTE($F18,".","/"),""))),MIN(IF(ISNUMBER($F18),$F18,IFERROR(--SUBSTITUTE($F18,".","/"),""))+INDEX(参数表!$B$4:$B$6,MATCH($H18,参数表!$A$4:$A$6,0)),IF(ISNUMBER($P18),$P18,IFERROR(--SUBSTITUTE($P18,".","/"),""))),IF(ISNUMBER($F18),$F18,IFERROR(--SUBSTITUTE($F18,".","/"),""))+INDEX(参数表!$B$4:$B$6,MATCH($H18,参数表!$A$4:$A$6,0)))) | K18: 46192 | L18: Will be provided for delivery of the topcoat. | M18: 已关闭 | N18: 46182 | O18: 46185 | P18: 46214 | Q18: 46214 | R18: √ | S18: √ | T18: √ | U18: √ | V18: 中标厂家 | W18: 46256
A19: TA-0015 | B19: DEMO-TA-A015-02 | C19: 救生筏吊架 Liferaft Davits | D19: 厂家D | E19: 船东 | F19: 46186 | G19: TA 须明确质保期起算日期 TA to specify the warranty starting date | H19: A | J19: =IF(OR($H19="",NOT(ISNUMBER(IF(ISNUMBER($F19),$F19,IFERROR(--SUBSTITUTE($F19,".","/"),""))))),"",IF(AND($H19="A",ISNUMBER(IF(ISNUMBER($P19),$P19,IFERROR(--SUBSTITUTE($P19,".","/"),""))),IF(ISNUMBER($P19),$P19,IFERROR(--SUBSTITUTE($P19,".","/"),""))>=IF(ISNUMBER($F19),$F19,IFERROR(--SUBSTITUTE($F19,".","/"),""))),MIN(IF(ISNUMBER($F19),$F19,IFERROR(--SUBSTITUTE($F19,".","/"),""))+INDEX(参数表!$B$4:$B$6,MATCH($H19,参数表!$A$4:$A$6,0)),IF(ISNUMBER($P19),$P19,IFERROR(--SUBSTITUTE($P19,".","/"),""))),IF(ISNUMBER($F19),$F19,IFERROR(--SUBSTITUTE($F19,".","/"),""))+INDEX(参数表!$B$4:$B$6,MATCH($H19,参数表!$A$4:$A$6,0)))) | K19: 46189 | L19: The warranty period shall commence on the date of the vessel’s delivery and remain valid for a period of twelve (12) months. | M19: 已关闭 | N19: 46173 | O19: 46177 | P19: 46203 | Q19: 46202 | V19: 未中标厂家（定标前澄清意见）
A20: TA-0016 | B20: DEMO-TA-A015-02 | C20: 救生筏吊架 Liferaft Davits | D20: 厂家D | E20: 船东 | F20: 46186 | G20: 船旗国为船旗国（目前为中文），TA 须体现并满足船旗国要求 Vessel's flag state is specified by the Owner (currently in Chinese). Please capture this at the TA and comply with the prerequisites of the flag state, where necessary. | H20: B | J20: =IF(OR($H20="",NOT(ISNUMBER(IF(ISNUMBER($F20),$F20,IFERROR(--SUBSTITUTE($F20,".","/"),""))))),"",IF(AND($H20="A",ISNUMBER(IF(ISNUMBER($P20),$P20,IFERROR(--SUBSTITUTE($P20,".","/"),""))),IF(ISNUMBER($P20),$P20,IFERROR(--SUBSTITUTE($P20,".","/"),""))>=IF(ISNUMBER($F20),$F20,IFERROR(--SUBSTITUTE($F20,".","/"),""))),MIN(IF(ISNUMBER($F20),$F20,IFERROR(--SUBSTITUTE($F20,".","/"),""))+INDEX(参数表!$B$4:$B$6,MATCH($H20,参数表!$A$4:$A$6,0)),IF(ISNUMBER($P20),$P20,IFERROR(--SUBSTITUTE($P20,".","/"),""))),IF(ISNUMBER($F20),$F20,IFERROR(--SUBSTITUTE($F20,".","/"),""))+INDEX(参数表!$B$4:$B$6,MATCH($H20,参数表!$A$4:$A$6,0)))) | K20: 46189 | L20: The details pertaining to the flag state have been duly specified on the front page of the Technical Agreement. | M20: 已关闭 | N20: 46173 | O20: 46177 | P20: 46203 | Q20: 46202 | V20: 未中标厂家（定标前澄清意见）
A21: TA-0017 | B21: DEMO-TA-A015-02 | C21: 救生筏吊架 Liferaft Davits | D21: 厂家D | E21: 船东 | F21: 46187 | G21: 核实是否持有 ABS 船级社证书 Please verify if you hold ABS Class certificate | H21: C | J21: =IF(OR($H21="",NOT(ISNUMBER(IF(ISNUMBER($F21),$F21,IFERROR(--SUBSTITUTE($F21,".","/"),""))))),"",IF(AND($H21="A",ISNUMBER(IF(ISNUMBER($P21),$P21,IFERROR(--SUBSTITUTE($P21,".","/"),""))),IF(ISNUMBER($P21),$P21,IFERROR(--SUBSTITUTE($P21,".","/"),""))>=IF(ISNUMBER($F21),$F21,IFERROR(--SUBSTITUTE($F21,".","/"),""))),MIN(IF(ISNUMBER($F21),$F21,IFERROR(--SUBSTITUTE($F21,".","/"),""))+INDEX(参数表!$B$4:$B$6,MATCH($H21,参数表!$A$4:$A$6,0)),IF(ISNUMBER($P21),$P21,IFERROR(--SUBSTITUTE($P21,".","/"),""))),IF(ISNUMBER($F21),$F21,IFERROR(--SUBSTITUTE($F21,".","/"),""))+INDEX(参数表!$B$4:$B$6,MATCH($H21,参数表!$A$4:$A$6,0)))) | K21: 46188 | L21: The American Bureau of Shipping (ABS) acknowledges the validity of the European Union Marine Equipment Directive (MED) Certificate for statutory compliance purposes, whereas such certification does not constitute an ABS-classed product approval. | M21: 已关闭 | N21: 46173 | O21: 46177 | P21: 46203 | Q21: 46202 | V21: 未中标厂家（定标前澄清意见）
A22: TA-0018 | B22: DEMO-TA-C001-01 | C22: 涂料 Paint | D22: 厂家E | E22: 船东 | F22: 46189 | G22: 防污漆方案是否考虑了船舶营运工况 Kindly advise if the vessel's operational profile is considered for the antifouling paint scheme. | H22: A | J22: =IF(OR($H22="",NOT(ISNUMBER(IF(ISNUMBER($F22),$F22,IFERROR(--SUBSTITUTE($F22,".","/"),""))))),"",IF(AND($H22="A",ISNUMBER(IF(ISNUMBER($P22),$P22,IFERROR(--SUBSTITUTE($P22,".","/"),""))),IF(ISNUMBER($P22),$P22,IFERROR(--SUBSTITUTE($P22,".","/"),""))>=IF(ISNUMBER($F22),$F22,IFERROR(--SUBSTITUTE($F22,".","/"),""))),MIN(IF(ISNUMBER($F22),$F22,IFERROR(--SUBSTITUTE($F22,".","/"),""))+INDEX(参数表!$B$4:$B$6,MATCH($H22,参数表!$A$4:$A$6,0)),IF(ISNUMBER($P22),$P22,IFERROR(--SUBSTITUTE($P22,".","/"),""))),IF(ISNUMBER($F22),$F22,IFERROR(--SUBSTITUTE($F22,".","/"),""))+INDEX(参数表!$B$4:$B$6,MATCH($H22,参数表!$A$4:$A$6,0)))) | K22: 46190 | L22: The paint system (including the antifouling paint) has been formulated in strict accordance with the requirements of your specification. 【船东反馈】Not clear reply. Please Review 【第2轮回复】At present, the service speed I know is 11.5 knots, and the highest seawater temperature is 32 degrees Celsius and the lowest is 0 degrees Celsius. We need to know the average seawater temperature. In addition, we also need to know the operating rate of your vessel in order to provide the supplier with more suitable matching. | M22: 已关闭 | N22: 46181 | O22: 46182 | P22: 46209 | Q22: 46207 | V22: 未中标厂家（定标前澄清意见）
A23: TA-0019 | B23: DEMO-TA-C001-01 | C23: 涂料 Paint | D23: 厂家E | E23: 船东 | F23: 46189 | G23: 说明防污漆自抛光所需的最低航速 Please advise the minimum vessel speed for the antifouling paint to self-polish itshelf | H23: A | J23: =IF(OR($H23="",NOT(ISNUMBER(IF(ISNUMBER($F23),$F23,IFERROR(--SUBSTITUTE($F23,".","/"),""))))),"",IF(AND($H23="A",ISNUMBER(IF(ISNUMBER($P23),$P23,IFERROR(--SUBSTITUTE($P23,".","/"),""))),IF(ISNUMBER($P23),$P23,IFERROR(--SUBSTITUTE($P23,".","/"),""))>=IF(ISNUMBER($F23),$F23,IFERROR(--SUBSTITUTE($F23,".","/"),""))),MIN(IF(ISNUMBER($F23),$F23,IFERROR(--SUBSTITUTE($F23,".","/"),""))+INDEX(参数表!$B$4:$B$6,MATCH($H23,参数表!$A$4:$A$6,0)),IF(ISNUMBER($P23),$P23,IFERROR(--SUBSTITUTE($P23,".","/"),""))),IF(ISNUMBER($F23),$F23,IFERROR(--SUBSTITUTE($F23,".","/"),""))+INDEX(参数表!$B$4:$B$6,MATCH($H23,参数表!$A$4:$A$6,0)))) | K23: 46191 | L23: The minimum ship speed required by 厂家F is above 6 knots, 厂家H requires above 10 knots, 厂家G requires above 3 knots, and 厂家E requires above 9 knots. Please be informed. 【船东反馈】According to the reply and the vessel's type, all Antifouling paints from the makers, does not meet requirments. Due to very low speeds the AF paint should be capable for long lay off periods. | M23: 已关闭 | N23: 46181 | O23: 46182 | P23: 46209 | Q23: 46207 | V23: 未中标厂家（定标前澄清意见）
A24: TA-0020 | B24: DEMO-TA-C001-02 | C24: 涂料 Paint | D24: 厂家F | E24: 船东 | F24: 46321 | G24: 防污漆方案是否考虑了船舶营运工况 Kindly advise if the vessel's operational profile is considered for the antifouling paint scheme. | H24: A | J24: =IF(OR($H24="",NOT(ISNUMBER(IF(ISNUMBER($F24),$F24,IFERROR(--SUBSTITUTE($F24,".","/"),""))))),"",IF(AND($H24="A",ISNUMBER(IF(ISNUMBER($P24),$P24,IFERROR(--SUBSTITUTE($P24,".","/"),""))),IF(ISNUMBER($P24),$P24,IFERROR(--SUBSTITUTE($P24,".","/"),""))>=IF(ISNUMBER($F24),$F24,IFERROR(--SUBSTITUTE($F24,".","/"),""))),MIN(IF(ISNUMBER($F24),$F24,IFERROR(--SUBSTITUTE($F24,".","/"),""))+INDEX(参数表!$B$4:$B$6,MATCH($H24,参数表!$A$4:$A$6,0)),IF(ISNUMBER($P24),$P24,IFERROR(--SUBSTITUTE($P24,".","/"),""))),IF(ISNUMBER($F24),$F24,IFERROR(--SUBSTITUTE($F24,".","/"),""))+INDEX(参数表!$B$4:$B$6,MATCH($H24,参数表!$A$4:$A$6,0)))) | K24: 46322 | L24: The paint system (including the antifouling paint) has been formulated in strict accordance with the requirements of your specification. 【船东反馈】Not clear reply. Please Review 【第2轮回复】厂家E considers the matching of anti fouling paint based on a 50% operating rate and a speed of 9-10 knots. 厂家F suggests considering a minimum speed of 6 knots. 厂家G requires a minimum of 3 anti fouling paint matching requirements. The minimum requirement for 厂家H is 10 or more sections. | M24: 已关闭 | N24: 46298 | O24: 46299 | P24: 46347 | R24: NA | S24: NA | T24: NA | U24: NA | V24: 中标厂家
A25: TA-0021 | B25: DEMO-TA-C001-02 | C25: 涂料 Paint | D25: 厂家F | E25: 船东 | F25: 46331 | G25: 说明防污漆自抛光所需的最低航速 Please advise the minimum vessel speed for the antifouling paint to self-polish itshelf | H25: A | J25: =IF(OR($H25="",NOT(ISNUMBER(IF(ISNUMBER($F25),$F25,IFERROR(--SUBSTITUTE($F25,".","/"),""))))),"",IF(AND($H25="A",ISNUMBER(IF(ISNUMBER($P25),$P25,IFERROR(--SUBSTITUTE($P25,".","/"),""))),IF(ISNUMBER($P25),$P25,IFERROR(--SUBSTITUTE($P25,".","/"),""))>=IF(ISNUMBER($F25),$F25,IFERROR(--SUBSTITUTE($F25,".","/"),""))),MIN(IF(ISNUMBER($F25),$F25,IFERROR(--SUBSTITUTE($F25,".","/"),""))+INDEX(参数表!$B$4:$B$6,MATCH($H25,参数表!$A$4:$A$6,0)),IF(ISNUMBER($P25),$P25,IFERROR(--SUBSTITUTE($P25,".","/"),""))),IF(ISNUMBER($F25),$F25,IFERROR(--SUBSTITUTE($F25,".","/"),""))+INDEX(参数表!$B$4:$B$6,MATCH($H25,参数表!$A$4:$A$6,0)))) | M25: 待回复 | N25: 46298 | O25: 46299 | P25: 46347 | R25: NA | S25: NA | T25: NA | U25: NA | V25: 中标厂家
A26: TA-0022 | B26: DEMO-TA-C001-03 | C26: 涂料 Paint | D26: 厂家G | E26: 船东 | F26: 46233 | G26: 防污漆方案是否考虑了船舶营运工况 Kindly advise if the vessel's operational profile is considered for the antifouling paint scheme. | H26: A | J26: =IF(OR($H26="",NOT(ISNUMBER(IF(ISNUMBER($F26),$F26,IFERROR(--SUBSTITUTE($F26,".","/"),""))))),"",IF(AND($H26="A",ISNUMBER(IF(ISNUMBER($P26),$P26,IFERROR(--SUBSTITUTE($P26,".","/"),""))),IF(ISNUMBER($P26),$P26,IFERROR(--SUBSTITUTE($P26,".","/"),""))>=IF(ISNUMBER($F26),$F26,IFERROR(--SUBSTITUTE($F26,".","/"),""))),MIN(IF(ISNUMBER($F26),$F26,IFERROR(--SUBSTITUTE($F26,".","/"),""))+INDEX(参数表!$B$4:$B$6,MATCH($H26,参数表!$A$4:$A$6,0)),IF(ISNUMBER($P26),$P26,IFERROR(--SUBSTITUTE($P26,".","/"),""))),IF(ISNUMBER($F26),$F26,IFERROR(--SUBSTITUTE($F26,".","/"),""))+INDEX(参数表!$B$4:$B$6,MATCH($H26,参数表!$A$4:$A$6,0)))) | K26: 46235 | L26: The paint system (including the antifouling paint) has been formulated in strict accordance with the requirements of your specification. 【船东反馈】Not clear reply. Please Review 【第2轮回复】At present, the service speed I know is 11.5 knots, and the highest seawater temperature is 32 degrees Celsius and the lowest is 0 degrees Celsius. We need to know the average seawater temperature. In addition, we also need to know the operating rate of your vessel in order to provide the supplier with more suitable matching. | M26: 已关闭 | N26: 46219 | O26: 46223 | P26: 46248 | Q26: 46250 | V26: 未中标厂家（定标前澄清意见）
A27: TA-0023 | B27: DEMO-TA-C001-03 | C27: 涂料 Paint | D27: 厂家G | E27: 船东 | F27: 46230 | G27: 说明防污漆自抛光所需的最低航速 Please advise the minimum vessel speed for the antifouling paint to self-polish itshelf | H27: A | J27: =IF(OR($H27="",NOT(ISNUMBER(IF(ISNUMBER($F27),$F27,IFERROR(--SUBSTITUTE($F27,".","/"),""))))),"",IF(AND($H27="A",ISNUMBER(IF(ISNUMBER($P27),$P27,IFERROR(--SUBSTITUTE($P27,".","/"),""))),IF(ISNUMBER($P27),$P27,IFERROR(--SUBSTITUTE($P27,".","/"),""))>=IF(ISNUMBER($F27),$F27,IFERROR(--SUBSTITUTE($F27,".","/"),""))),MIN(IF(ISNUMBER($F27),$F27,IFERROR(--SUBSTITUTE($F27,".","/"),""))+INDEX(参数表!$B$4:$B$6,MATCH($H27,参数表!$A$4:$A$6,0)),IF(ISNUMBER($P27),$P27,IFERROR(--SUBSTITUTE($P27,".","/"),""))),IF(ISNUMBER($F27),$F27,IFERROR(--SUBSTITUTE($F27,".","/"),""))+INDEX(参数表!$B$4:$B$6,MATCH($H27,参数表!$A$4:$A$6,0)))) | K27: 46233 | L27: The minimum ship speed required by 厂家F is above 6 knots, 厂家H requires above 10 knots, 厂家G requires above 3 knots, and 厂家E requires above 9 knots. Please be informed. 【船东反馈】According to the reply and the vessel's type, all Antifouling paints from the makers, does not meet requirments. Due to very low speeds the AF paint should be capable for long lay off periods. 【第2轮回复】At present, the service speed I know is 11.5 knots, and the highest sea temperature is 32 degrees Celsius and the lowest is 0 degrees Celsius. We need to know the average temperature of seawater. In addition, we also need to understand the operating rate of your vessel in order to provide suppliers with more suitable parameters for you to consider more suitable matching. | M27: 已关闭 | N27: 46219 | O27: 46223 | P27: 46248 | Q27: 46250 | V27: 未中标厂家（定标前澄清意见）
A28: TA-0024 | B28: DEMO-TA-C001-04 | C28: 涂料 Paint | D28: 厂家H | E28: 船东 | F28: 46215 | G28: 防污漆方案是否考虑了船舶营运工况 Kindly advise if the vessel's operational profile is considered for the antifouling paint scheme. | H28: A | J28: =IF(OR($H28="",NOT(ISNUMBER(IF(ISNUMBER($F28),$F28,IFERROR(--SUBSTITUTE($F28,".","/"),""))))),"",IF(AND($H28="A",ISNUMBER(IF(ISNUMBER($P28),$P28,IFERROR(--SUBSTITUTE($P28,".","/"),""))),IF(ISNUMBER($P28),$P28,IFERROR(--SUBSTITUTE($P28,".","/"),""))>=IF(ISNUMBER($F28),$F28,IFERROR(--SUBSTITUTE($F28,".","/"),""))),MIN(IF(ISNUMBER($F28),$F28,IFERROR(--SUBSTITUTE($F28,".","/"),""))+INDEX(参数表!$B$4:$B$6,MATCH($H28,参数表!$A$4:$A$6,0)),IF(ISNUMBER($P28),$P28,IFERROR(--SUBSTITUTE($P28,".","/"),""))),IF(ISNUMBER($F28),$F28,IFERROR(--SUBSTITUTE($F28,".","/"),""))+INDEX(参数表!$B$4:$B$6,MATCH($H28,参数表!$A$4:$A$6,0)))) | K28: 46218 | L28: The paint system (including the antifouling paint) has been formulated in strict accordance with the requirements of your specification. 【船东反馈】Not clear reply. Please Review 【第2轮回复】At present, the service speed I know is 11.5 knots, and the highest sea temperature is 32 degrees Celsius and the lowest is 0 degrees Celsius. We need to know the average temperature of seawater. In addition, we also need to understand the operating rate of your vessel in order to provide suppliers with more suitable parameters for you to consider more suitable matching. | M28: 已关闭 | N28: 46206 | O28: 46211 | P28: 46248 | Q28: 46254 | V28: 未中标厂家（定标前澄清意见）
A29: TA-0025 | B29: DEMO-TA-C001-04 | C29: 涂料 Paint | D29: 厂家H | E29: 船东 | F29: 46217 | G29: 说明防污漆自抛光所需的最低航速 Please advise the minimum vessel speed for the antifouling paint to self-polish itshelf | H29: A | J29: =IF(OR($H29="",NOT(ISNUMBER(IF(ISNUMBER($F29),$F29,IFERROR(--SUBSTITUTE($F29,".","/"),""))))),"",IF(AND($H29="A",ISNUMBER(IF(ISNUMBER($P29),$P29,IFERROR(--SUBSTITUTE($P29,".","/"),""))),IF(ISNUMBER($P29),$P29,IFERROR(--SUBSTITUTE($P29,".","/"),""))>=IF(ISNUMBER($F29),$F29,IFERROR(--SUBSTITUTE($F29,".","/"),""))),MIN(IF(ISNUMBER($F29),$F29,IFERROR(--SUBSTITUTE($F29,".","/"),""))+INDEX(参数表!$B$4:$B$6,MATCH($H29,参数表!$A$4:$A$6,0)),IF(ISNUMBER($P29),$P29,IFERROR(--SUBSTITUTE($P29,".","/"),""))),IF(ISNUMBER($F29),$F29,IFERROR(--SUBSTITUTE($F29,".","/"),""))+INDEX(参数表!$B$4:$B$6,MATCH($H29,参数表!$A$4:$A$6,0)))) | K29: 46218 | L29: The minimum ship speed required by 厂家F is above 6 knots, 厂家H requires above 10 knots, 厂家G requires above 3 knots, and 厂家E requires above 9 knots. Please be informed. 【船东反馈】According to the reply and the vessel's type, all Antifouling paints from the makers, does not meet requirments. Due to very low speeds the AF paint should be capable for long lay off periods. 【第2轮回复】I did not understand the actual operating parameters of the ship in the early stage. Please provide me with the minimum sailing speed, operating rate, and average seawater temperature. I will consider asking the supplier to reconsider the matching of anti fouling paint. | M29: 已关闭 | N29: 46206 | O29: 46211 | P29: 46248 | Q29: 46254 | V29: 未中标厂家（定标前澄清意见）
A30: TA-0026 | B30: DEMO-TA-E010-01 | C30: 操纵台/主控制台 Manoeuvre Console / Main Console | D30: 厂家I | E30: 船东 | F30: 46183 | G30: 质保期需澄清 Warranty period to be clarified | H30: A | J30: =IF(OR($H30="",NOT(ISNUMBER(IF(ISNUMBER($F30),$F30,IFERROR(--SUBSTITUTE($F30,".","/"),""))))),"",IF(AND($H30="A",ISNUMBER(IF(ISNUMBER($P30),$P30,IFERROR(--SUBSTITUTE($P30,".","/"),""))),IF(ISNUMBER($P30),$P30,IFERROR(--SUBSTITUTE($P30,".","/"),""))>=IF(ISNUMBER($F30),$F30,IFERROR(--SUBSTITUTE($F30,".","/"),""))),MIN(IF(ISNUMBER($F30),$F30,IFERROR(--SUBSTITUTE($F30,".","/"),""))+INDEX(参数表!$B$4:$B$6,MATCH($H30,参数表!$A$4:$A$6,0)),IF(ISNUMBER($P30),$P30,IFERROR(--SUBSTITUTE($P30,".","/"),""))),IF(ISNUMBER($F30),$F30,IFERROR(--SUBSTITUTE($F30,".","/"),""))+INDEX(参数表!$B$4:$B$6,MATCH($H30,参数表!$A$4:$A$6,0)))) | K30: 46185 | L30: Warranty period will be determined in commercial contract. normally,One year after delivery or 24 months after delivery, whichever is due earlier | M30: 已关闭 | N30: 46167 | O30: 46172 | P30: 46206 | Q30: 46211 | V30: 未中标厂家（定标前澄清意见）
A31: TA-0027 | B31: DEMO-TA-E010-01 | C31: 操纵台/主控制台 Manoeuvre Console / Main Console | D31: 厂家I | E31: 船东 | F31: 46184 | G31: 提供技术服务站（网点）位置 0-18: Please provide details of the technical service station location | H31: C | J31: =IF(OR($H31="",NOT(ISNUMBER(IF(ISNUMBER($F31),$F31,IFERROR(--SUBSTITUTE($F31,".","/"),""))))),"",IF(AND($H31="A",ISNUMBER(IF(ISNUMBER($P31),$P31,IFERROR(--SUBSTITUTE($P31,".","/"),""))),IF(ISNUMBER($P31),$P31,IFERROR(--SUBSTITUTE($P31,".","/"),""))>=IF(ISNUMBER($F31),$F31,IFERROR(--SUBSTITUTE($F31,".","/"),""))),MIN(IF(ISNUMBER($F31),$F31,IFERROR(--SUBSTITUTE($F31,".","/"),""))+INDEX(参数表!$B$4:$B$6,MATCH($H31,参数表!$A$4:$A$6,0)),IF(ISNUMBER($P31),$P31,IFERROR(--SUBSTITUTE($P31,".","/"),""))),IF(ISNUMBER($F31),$F31,IFERROR(--SUBSTITUTE($F31,".","/"),""))+INDEX(参数表!$B$4:$B$6,MATCH($H31,参数表!$A$4:$A$6,0)))) | K31: 46186 | L31: Please refer to the attached file. | M31: 已关闭 | N31: 46167 | O31: 46172 | P31: 46206 | Q31: 46211 | V31: 未中标厂家（定标前澄清意见）
A32: TA-0028 | B32: DEMO-TA-E010-01 | C32: 操纵台/主控制台 Manoeuvre Console / Main Console | D32: 厂家I | E32: 船东 | F32: 46183 | G32: 明确各回路（1-2、2-2、3-2、4-2、5-2）断路器品牌 1-2, 2-2, 3-2, 4-2, 5-2: Please specify the maker of the breakers | H32: C | J32: =IF(OR($H32="",NOT(ISNUMBER(IF(ISNUMBER($F32),$F32,IFERROR(--SUBSTITUTE($F32,".","/"),""))))),"",IF(AND($H32="A",ISNUMBER(IF(ISNUMBER($P32),$P32,IFERROR(--SUBSTITUTE($P32,".","/"),""))),IF(ISNUMBER($P32),$P32,IFERROR(--SUBSTITUTE($P32,".","/"),""))>=IF(ISNUMBER($F32),$F32,IFERROR(--SUBSTITUTE($F32,".","/"),""))),MIN(IF(ISNUMBER($F32),$F32,IFERROR(--SUBSTITUTE($F32,".","/"),""))+INDEX(参数表!$B$4:$B$6,MATCH($H32,参数表!$A$4:$A$6,0)),IF(ISNUMBER($P32),$P32,IFERROR(--SUBSTITUTE($P32,".","/"),""))),IF(ISNUMBER($F32),$F32,IFERROR(--SUBSTITUTE($F32,".","/"),""))+INDEX(参数表!$B$4:$B$6,MATCH($H32,参数表!$A$4:$A$6,0)))) | K32: 46184 | L32: The breaker is of ABB brand. | M32: 已关闭 | N32: 46167 | O32: 46172 | P32: 46206 | Q32: 46211 | V32: 未中标厂家（定标前澄清意见）
A33: TA-0029 | B33: DEMO-TA-E010-01 | C33: 操纵台/主控制台 Manoeuvre Console / Main Console | D33: 厂家I | E33: 船东 | F33: 46181 | G33: 主回路电缆颜色能否与本船标准一致 Please advise is it possible arrange cable color coding for main circuits same with vessel standard | H33: B | J33: =IF(OR($H33="",NOT(ISNUMBER(IF(ISNUMBER($F33),$F33,IFERROR(--SUBSTITUTE($F33,".","/"),""))))),"",IF(AND($H33="A",ISNUMBER(IF(ISNUMBER($P33),$P33,IFERROR(--SUBSTITUTE($P33,".","/"),""))),IF(ISNUMBER($P33),$P33,IFERROR(--SUBSTITUTE($P33,".","/"),""))>=IF(ISNUMBER($F33),$F33,IFERROR(--SUBSTITUTE($F33,".","/"),""))),MIN(IF(ISNUMBER($F33),$F33,IFERROR(--SUBSTITUTE($F33,".","/"),""))+INDEX(参数表!$B$4:$B$6,MATCH($H33,参数表!$A$4:$A$6,0)),IF(ISNUMBER($P33),$P33,IFERROR(--SUBSTITUTE($P33,".","/"),""))),IF(ISNUMBER($F33),$F33,IFERROR(--SUBSTITUTE($F33,".","/"),""))+INDEX(参数表!$B$4:$B$6,MATCH($H33,参数表!$A$4:$A$6,0)))) | K33: 46188 | L33: Yes, it's possible. | M33: 已关闭 | N33: 46167 | O33: 46172 | P33: 46206 | Q33: 46211 | V33: 未中标厂家（定标前澄清意见）
A34: TA-0030 | B34: DEMO-TA-E010-01 | C34: 操纵台/主控制台 Manoeuvre Console / Main Console | D34: 厂家I | E34: 船东 | F34: 46184 | G34: 提供各控制台外形布置图 Please provide layout (outline view) dwg for each control console | H34: B | J34: =IF(OR($H34="",NOT(ISNUMBER(IF(ISNUMBER($F34),$F34,IFERROR(--SUBSTITUTE($F34,".","/"),""))))),"",IF(AND($H34="A",ISNUMBER(IF(ISNUMBER($P34),$P34,IFERROR(--SUBSTITUTE($P34,".","/"),""))),IF(ISNUMBER($P34),$P34,IFERROR(--SUBSTITUTE($P34,".","/"),""))>=IF(ISNUMBER($F34),$F34,IFERROR(--SUBSTITUTE($F34,".","/"),""))),MIN(IF(ISNUMBER($F34),$F34,IFERROR(--SUBSTITUTE($F34,".","/"),""))+INDEX(参数表!$B$4:$B$6,MATCH($H34,参数表!$A$4:$A$6,0)),IF(ISNUMBER($P34),$P34,IFERROR(--SUBSTITUTE($P34,".","/"),""))),IF(ISNUMBER($F34),$F34,IFERROR(--SUBSTITUTE($F34,".","/"),""))+INDEX(参数表!$B$4:$B$6,MATCH($H34,参数表!$A$4:$A$6,0)))) | K34: 46189 | L34: We'll provide them in approval drawing stage. | M34: 已关闭 | N34: 46167 | O34: 46172 | P34: 46206 | Q34: 46211 | V34: 未中标厂家（定标前澄清意见）
A35: TA-0031 | B35: DEMO-TA-E010-01 | C35: 操纵台/主控制台 Manoeuvre Console / Main Console | D35: 厂家I | E35: 船东 | F35: 46183 | G35: 确认台内接线电缆截面 Please confirm Internal wiring cable size information | H35: C | J35: =IF(OR($H35="",NOT(ISNUMBER(IF(ISNUMBER($F35),$F35,IFERROR(--SUBSTITUTE($F35,".","/"),""))))),"",IF(AND($H35="A",ISNUMBER(IF(ISNUMBER($P35),$P35,IFERROR(--SUBSTITUTE($P35,".","/"),""))),IF(ISNUMBER($P35),$P35,IFERROR(--SUBSTITUTE($P35,".","/"),""))>=IF(ISNUMBER($F35),$F35,IFERROR(--SUBSTITUTE($F35,".","/"),""))),MIN(IF(ISNUMBER($F35),$F35,IFERROR(--SUBSTITUTE($F35,".","/"),""))+INDEX(参数表!$B$4:$B$6,MATCH($H35,参数表!$A$4:$A$6,0)),IF(ISNUMBER($P35),$P35,IFERROR(--SUBSTITUTE($P35,".","/"),""))),IF(ISNUMBER($F35),$F35,IFERROR(--SUBSTITUTE($F35,".","/"),""))+INDEX(参数表!$B$4:$B$6,MATCH($H35,参数表!$A$4:$A$6,0)))) | K35: 46187 | L35: Power circuit：Minimum 2.5mm2 Control circuit：Minimum 0.75mm2 | M35: 已关闭 | N35: 46167 | O35: 46172 | P35: 46206 | Q35: 46211 | V35: 未中标厂家（定标前澄清意见）
A36: TA-0032 | B36: DEMO-TA-E010-02 | C36: 操纵台/主控制台 Manoeuvre Console / Main Console | D36: 厂家J | E36: 船东 | F36: 46317 | G36: 驾驶台控制台方案须满足 ABS NBLES 附加标志要求 For Wheelhouse control console, please confirm that the suggested solution will be according to ABS NBLES notation | H36: A | J36: =IF(OR($H36="",NOT(ISNUMBER(IF(ISNUMBER($F36),$F36,IFERROR(--SUBSTITUTE($F36,".","/"),""))))),"",IF(AND($H36="A",ISNUMBER(IF(ISNUMBER($P36),$P36,IFERROR(--SUBSTITUTE($P36,".","/"),""))),IF(ISNUMBER($P36),$P36,IFERROR(--SUBSTITUTE($P36,".","/"),""))>=IF(ISNUMBER($F36),$F36,IFERROR(--SUBSTITUTE($F36,".","/"),""))),MIN(IF(ISNUMBER($F36),$F36,IFERROR(--SUBSTITUTE($F36,".","/"),""))+INDEX(参数表!$B$4:$B$6,MATCH($H36,参数表!$A$4:$A$6,0)),IF(ISNUMBER($P36),$P36,IFERROR(--SUBSTITUTE($P36,".","/"),""))),IF(ISNUMBER($F36),$F36,IFERROR(--SUBSTITUTE($F36,".","/"),""))+INDEX(参数表!$B$4:$B$6,MATCH($H36,参数表!$A$4:$A$6,0)))) | K36: 46320 | L36: Agreed. Submit approval drawing of WCC to ABS for approval before manufacture | M36: 已关闭 | N36: 46291 | O36: 46295 | P36: 46348 | R36: √ | S36: 缺 | T36: √ | V36: 中标厂家
A37: TA-0033 | B37: DEMO-TA-E010-02 | C37: 操纵台/主控制台 Manoeuvre Console / Main Console | D37: 厂家J | E37: 船东 | F37: 46323 | G37: 图纸仅使用英文 Drawings to be provided ONLY in English | H37: C | J37: =IF(OR($H37="",NOT(ISNUMBER(IF(ISNUMBER($F37),$F37,IFERROR(--SUBSTITUTE($F37,".","/"),""))))),"",IF(AND($H37="A",ISNUMBER(IF(ISNUMBER($P37),$P37,IFERROR(--SUBSTITUTE($P37,".","/"),""))),IF(ISNUMBER($P37),$P37,IFERROR(--SUBSTITUTE($P37,".","/"),""))>=IF(ISNUMBER($F37),$F37,IFERROR(--SUBSTITUTE($F37,".","/"),""))),MIN(IF(ISNUMBER($F37),$F37,IFERROR(--SUBSTITUTE($F37,".","/"),""))+INDEX(参数表!$B$4:$B$6,MATCH($H37,参数表!$A$4:$A$6,0)),IF(ISNUMBER($P37),$P37,IFERROR(--SUBSTITUTE($P37,".","/"),""))),IF(ISNUMBER($F37),$F37,IFERROR(--SUBSTITUTE($F37,".","/"),""))+INDEX(参数表!$B$4:$B$6,MATCH($H37,参数表!$A$4:$A$6,0)))) | M37: 待回复 | N37: 46291 | O37: 46295 | P37: 46348 | R37: √ | S37: 缺 | T37: √ | V37: 中标厂家
A38: TA-0034 | B38: DEMO-TA-E010-02 | C38: 操纵台/主控制台 Manoeuvre Console / Main Console | D38: 厂家J | E38: 船东 | F38: 46317 | G38: 提供技术服务站（网点）位置 0-22: Please provide details of the technical service station location | H38: C | J38: =IF(OR($H38="",NOT(ISNUMBER(IF(ISNUMBER($F38),$F38,IFERROR(--SUBSTITUTE($F38,".","/"),""))))),"",IF(AND($H38="A",ISNUMBER(IF(ISNUMBER($P38),$P38,IFERROR(--SUBSTITUTE($P38,".","/"),""))),IF(ISNUMBER($P38),$P38,IFERROR(--SUBSTITUTE($P38,".","/"),""))>=IF(ISNUMBER($F38),$F38,IFERROR(--SUBSTITUTE($F38,".","/"),""))),MIN(IF(ISNUMBER($F38),$F38,IFERROR(--SUBSTITUTE($F38,".","/"),""))+INDEX(参数表!$B$4:$B$6,MATCH($H38,参数表!$A$4:$A$6,0)),IF(ISNUMBER($P38),$P38,IFERROR(--SUBSTITUTE($P38,".","/"),""))),IF(ISNUMBER($F38),$F38,IFERROR(--SUBSTITUTE($F38,".","/"),""))+INDEX(参数表!$B$4:$B$6,MATCH($H38,参数表!$A$4:$A$6,0)))) | K38: 46319 | L38: Please refer to the attached file. | M38: 已关闭 | N38: 46291 | O38: 46295 | P38: 46348 | R38: √ | S38: 缺 | T38: √ | V38: 中标厂家
A39: TA-0035 | B39: DEMO-TA-E010-02 | C39: 操纵台/主控制台 Manoeuvre Console / Main Console | D39: 厂家J | E39: 船东 | F39: 46318 | G39: 明确控制台断路器品牌 Please confirm the maker of the brakers for console | H39: C | J39: =IF(OR($H39="",NOT(ISNUMBER(IF(ISNUMBER($F39),$F39,IFERROR(--SUBSTITUTE($F39,".","/"),""))))),"",IF(AND($H39="A",ISNUMBER(IF(ISNUMBER($P39),$P39,IFERROR(--SUBSTITUTE($P39,".","/"),""))),IF(ISNUMBER($P39),$P39,IFERROR(--SUBSTITUTE($P39,".","/"),""))>=IF(ISNUMBER($F39),$F39,IFERROR(--SUBSTITUTE($F39,".","/"),""))),MIN(IF(ISNUMBER($F39),$F39,IFERROR(--SUBSTITUTE($F39,".","/"),""))+INDEX(参数表!$B$4:$B$6,MATCH($H39,参数表!$A$4:$A$6,0)),IF(ISNUMBER($P39),$P39,IFERROR(--SUBSTITUTE($P39,".","/"),""))),IF(ISNUMBER($F39),$F39,IFERROR(--SUBSTITUTE($F39,".","/"),""))+INDEX(参数表!$B$4:$B$6,MATCH($H39,参数表!$A$4:$A$6,0)))) | K39: 46320 | L39: ABB or SIEMENS | M39: 已关闭 | N39: 46291 | O39: 46295 | P39: 46348 | R39: √ | S39: 缺 | T39: √ | V39: 中标厂家
A40: TA-0036 | B40: DEMO-TA-E010-02 | C40: 操纵台/主控制台 Manoeuvre Console / Main Console | D40: 厂家J | E40: 船东 | F40: 46322 | G40: 铭牌能否采用白底黑字 Please confirm possibility install nameplates background white with black latters | H40: B | J40: =IF(OR($H40="",NOT(ISNUMBER(IF(ISNUMBER($F40),$F40,IFERROR(--SUBSTITUTE($F40,".","/"),""))))),"",IF(AND($H40="A",ISNUMBER(IF(ISNUMBER($P40),$P40,IFERROR(--SUBSTITUTE($P40,".","/"),""))),IF(ISNUMBER($P40),$P40,IFERROR(--SUBSTITUTE($P40,".","/"),""))>=IF(ISNUMBER($F40),$F40,IFERROR(--SUBSTITUTE($F40,".","/"),""))),MIN(IF(ISNUMBER($F40),$F40,IFERROR(--SUBSTITUTE($F40,".","/"),""))+INDEX(参数表!$B$4:$B$6,MATCH($H40,参数表!$A$4:$A$6,0)),IF(ISNUMBER($P40),$P40,IFERROR(--SUBSTITUTE($P40,".","/"),""))),IF(ISNUMBER($F40),$F40,IFERROR(--SUBSTITUTE($F40,".","/"),""))+INDEX(参数表!$B$4:$B$6,MATCH($H40,参数表!$A$4:$A$6,0)))) | M40: 待回复 | N40: 46291 | O40: 46295 | P40: 46348 | R40: √ | S40: 缺 | T40: √ | V40: 中标厂家
...

Sheet 参数表
A1: 参数表（下拉清单与时限，改这里即可）
A3: 意见类别 | B3: 回复时限（天） | C3: 判定标准
A4: A | B4: 3 | C4: 影响设备功能、性能、选型、供货范围或价格，影响定标/大件订货（要求回复时间不晚于计划定标日）
A5: B | B5: 5 | C5: 需修改资料/图纸，但可在过程中消化，不影响整体推进
A6: C | B6: 5 | C6: 仅要求提供信息或确认，认可后关闭
A8: 临期阈值（天） | B8: 3
A10: 下拉清单
A11: 意见提出方 | B11: 意见类别 | C11: 关闭状态 | D11: 认可资料
A12: 船东 | B12: A | C12: 待回复 | D12: √
A13: 船厂 | B13: B | C13: 已回复待确认 | D13: NA
B14: C | C14: 已认可待落实 | D14: 缺
C15: 已关闭
A21: 说明：关闭状态中「已关闭」视为已结束，其余（待回复/已回复待确认/已认可待落实）为未关闭。
